BEGIN:VCALENDAR
VERSION:2.0
PRODID:-//Nether Stowey Parish Council - ECPv6.15.18//NONSGML v1.0//EN
CALSCALE:GREGORIAN
METHOD:PUBLISH
X-ORIGINAL-URL:https://netherstowey-pc.gov.uk
X-WR-CALDESC:Events for Nether Stowey Parish Council
REFRESH-INTERVAL;VALUE=DURATION:PT1H
X-Robots-Tag:noindex
X-PUBLISHED-TTL:PT1H
BEGIN:VTIMEZONE
TZID:Europe/London
BEGIN:DAYLIGHT
TZOFFSETFROM:+0000
TZOFFSETTO:+0100
TZNAME:BST
DTSTART:20250330T010000
END:DAYLIGHT
BEGIN:STANDARD
TZOFFSETFROM:+0100
TZOFFSETTO:+0000
TZNAME:GMT
DTSTART:20251026T010000
END:STANDARD
BEGIN:DAYLIGHT
TZOFFSETFROM:+0000
TZOFFSETTO:+0100
TZNAME:BST
DTSTART:20260329T010000
END:DAYLIGHT
BEGIN:STANDARD
TZOFFSETFROM:+0100
TZOFFSETTO:+0000
TZNAME:GMT
DTSTART:20261025T010000
END:STANDARD
BEGIN:DAYLIGHT
TZOFFSETFROM:+0000
TZOFFSETTO:+0100
TZNAME:BST
DTSTART:20270328T010000
END:DAYLIGHT
BEGIN:STANDARD
TZOFFSETFROM:+0100
TZOFFSETTO:+0000
TZNAME:GMT
DTSTART:20271031T010000
END:STANDARD
END:VTIMEZONE
BEGIN:VEVENT
DTSTART;TZID=Europe/London:20260423T170000
DTEND;TZID=Europe/London:20260423T183000
DTSTAMP:20260423T135601
CREATED:20231019T102344Z
LAST-MODIFIED:20231019T102425Z
UID:10000162-1776963600-1776969000@netherstowey-pc.gov.uk
SUMMARY:Chess Time at the Library
DESCRIPTION:Learn the basics\, discover new moves and have fun!
URL:https://netherstowey-pc.gov.uk/event/chess-time-at-the-library/2026-04-23
LOCATION:Thomas Poole Library\, Castle Street\, Nether Stowey\, TA5 1LN
CATEGORIES:Thomas Poole Library
ORGANIZER;CN="Thomas Poole Library":MAILTO:eventsandpr@thomaspoolelibrary.org.uk
END:VEVENT
BEGIN:VEVENT
DTSTART;TZID=Europe/London:20260427T110000
DTEND;TZID=Europe/London:20260427T113000
DTSTAMP:20260423T135601
CREATED:20231019T120029Z
LAST-MODIFIED:20231019T121833Z
UID:10000686-1777287600-1777289400@netherstowey-pc.gov.uk
SUMMARY:Story Time for babies\, toddlers and pre-schoolers
DESCRIPTION:Story Time is a lovely activity for babies and toddlers\, pre-school children\, and their grown-ups. \nHeld every Monday (apart from bank holidays) from 11 to 11.30. Listen to a story then pick an instrument from the music box and join in as we sing nursery rhymes.
URL:https://netherstowey-pc.gov.uk/event/story-time-for-babies-toddlers-and-pre-schoolers/2026-04-27
LOCATION:Thomas Poole Library\, Castle Street\, Nether Stowey\, TA5 1LN
CATEGORIES:Thomas Poole Library
ATTACH;FMTTYPE=image/jpeg:https://netherstowey-pc.gov.uk/wp-content/uploads/2023/10/unfocused-children-paying-attention-their-teacher-scaled.jpg
ORGANIZER;CN="Thomas Poole Library":MAILTO:eventsandpr@thomaspoolelibrary.org.uk
END:VEVENT
BEGIN:VEVENT
DTSTART;TZID=Europe/London:20260430T170000
DTEND;TZID=Europe/London:20260430T183000
DTSTAMP:20260423T135601
CREATED:20231019T102344Z
LAST-MODIFIED:20231019T102425Z
UID:10000163-1777568400-1777573800@netherstowey-pc.gov.uk
SUMMARY:Chess Time at the Library
DESCRIPTION:Learn the basics\, discover new moves and have fun!
URL:https://netherstowey-pc.gov.uk/event/chess-time-at-the-library/2026-04-30
LOCATION:Thomas Poole Library\, Castle Street\, Nether Stowey\, TA5 1LN
CATEGORIES:Thomas Poole Library
ORGANIZER;CN="Thomas Poole Library":MAILTO:eventsandpr@thomaspoolelibrary.org.uk
END:VEVENT
END:VCALENDAR