BEGIN:VCALENDAR
VERSION:2.0
PRODID:-//Nether Stowey Parish Council - ECPv6.15.18//NONSGML v1.0//EN
CALSCALE:GREGORIAN
METHOD:PUBLISH
X-WR-CALNAME:Nether Stowey Parish Council
X-ORIGINAL-URL:https://netherstowey-pc.gov.uk
X-WR-CALDESC:Events for Nether Stowey Parish Council
REFRESH-INTERVAL;VALUE=DURATION:PT1H
X-Robots-Tag:noindex
X-PUBLISHED-TTL:PT1H
BEGIN:VTIMEZONE
TZID:Europe/London
BEGIN:DAYLIGHT
TZOFFSETFROM:+0000
TZOFFSETTO:+0100
TZNAME:BST
DTSTART:20240331T010000
END:DAYLIGHT
BEGIN:STANDARD
TZOFFSETFROM:+0100
TZOFFSETTO:+0000
TZNAME:GMT
DTSTART:20241027T010000
END:STANDARD
BEGIN:DAYLIGHT
TZOFFSETFROM:+0000
TZOFFSETTO:+0100
TZNAME:BST
DTSTART:20250330T010000
END:DAYLIGHT
BEGIN:STANDARD
TZOFFSETFROM:+0100
TZOFFSETTO:+0000
TZNAME:GMT
DTSTART:20251026T010000
END:STANDARD
BEGIN:DAYLIGHT
TZOFFSETFROM:+0000
TZOFFSETTO:+0100
TZNAME:BST
DTSTART:20260329T010000
END:DAYLIGHT
BEGIN:STANDARD
TZOFFSETFROM:+0100
TZOFFSETTO:+0000
TZNAME:GMT
DTSTART:20261025T010000
END:STANDARD
END:VTIMEZONE
BEGIN:VEVENT
DTSTART;TZID=Europe/London:20251113T170000
DTEND;TZID=Europe/London:20251113T183000
DTSTAMP:20260423T220716
CREATED:20231019T102344Z
LAST-MODIFIED:20231019T102425Z
UID:10000139-1763053200-1763058600@netherstowey-pc.gov.uk
SUMMARY:Chess Time at the Library
DESCRIPTION:Learn the basics\, discover new moves and have fun!
URL:https://netherstowey-pc.gov.uk/event/chess-time-at-the-library/2025-11-13
LOCATION:Thomas Poole Library\, Castle Street\, Nether Stowey\, TA5 1LN
CATEGORIES:Thomas Poole Library
ORGANIZER;CN="Thomas Poole Library":MAILTO:eventsandpr@thomaspoolelibrary.org.uk
END:VEVENT
BEGIN:VEVENT
DTSTART;TZID=Europe/London:20251110T110000
DTEND;TZID=Europe/London:20251110T113000
DTSTAMP:20260423T220716
CREATED:20231019T120029Z
LAST-MODIFIED:20231019T121833Z
UID:10000662-1762772400-1762774200@netherstowey-pc.gov.uk
SUMMARY:Story Time for babies\, toddlers and pre-schoolers
DESCRIPTION:Story Time is a lovely activity for babies and toddlers\, pre-school children\, and their grown-ups. \nHeld every Monday (apart from bank holidays) from 11 to 11.30. Listen to a story then pick an instrument from the music box and join in as we sing nursery rhymes.
URL:https://netherstowey-pc.gov.uk/event/story-time-for-babies-toddlers-and-pre-schoolers/2025-11-10
LOCATION:Thomas Poole Library\, Castle Street\, Nether Stowey\, TA5 1LN
CATEGORIES:Thomas Poole Library
ATTACH;FMTTYPE=image/jpeg:https://netherstowey-pc.gov.uk/wp-content/uploads/2023/10/unfocused-children-paying-attention-their-teacher-scaled.jpg
ORGANIZER;CN="Thomas Poole Library":MAILTO:eventsandpr@thomaspoolelibrary.org.uk
END:VEVENT
BEGIN:VEVENT
DTSTART;TZID=Europe/London:20251106T170000
DTEND;TZID=Europe/London:20251106T183000
DTSTAMP:20260423T220716
CREATED:20231019T102344Z
LAST-MODIFIED:20231019T102425Z
UID:10000138-1762448400-1762453800@netherstowey-pc.gov.uk
SUMMARY:Chess Time at the Library
DESCRIPTION:Learn the basics\, discover new moves and have fun!
URL:https://netherstowey-pc.gov.uk/event/chess-time-at-the-library/2025-11-06
LOCATION:Thomas Poole Library\, Castle Street\, Nether Stowey\, TA5 1LN
CATEGORIES:Thomas Poole Library
ORGANIZER;CN="Thomas Poole Library":MAILTO:eventsandpr@thomaspoolelibrary.org.uk
END:VEVENT
BEGIN:VEVENT
DTSTART;TZID=Europe/London:20251103T110000
DTEND;TZID=Europe/London:20251103T113000
DTSTAMP:20260423T220716
CREATED:20231019T120029Z
LAST-MODIFIED:20231019T121833Z
UID:10000661-1762167600-1762169400@netherstowey-pc.gov.uk
SUMMARY:Story Time for babies\, toddlers and pre-schoolers
DESCRIPTION:Story Time is a lovely activity for babies and toddlers\, pre-school children\, and their grown-ups. \nHeld every Monday (apart from bank holidays) from 11 to 11.30. Listen to a story then pick an instrument from the music box and join in as we sing nursery rhymes.
URL:https://netherstowey-pc.gov.uk/event/story-time-for-babies-toddlers-and-pre-schoolers/2025-11-03
LOCATION:Thomas Poole Library\, Castle Street\, Nether Stowey\, TA5 1LN
CATEGORIES:Thomas Poole Library
ATTACH;FMTTYPE=image/jpeg:https://netherstowey-pc.gov.uk/wp-content/uploads/2023/10/unfocused-children-paying-attention-their-teacher-scaled.jpg
ORGANIZER;CN="Thomas Poole Library":MAILTO:eventsandpr@thomaspoolelibrary.org.uk
END:VEVENT
BEGIN:VEVENT
DTSTART;TZID=Europe/London:20251030T170000
DTEND;TZID=Europe/London:20251030T183000
DTSTAMP:20260423T220716
CREATED:20231019T102344Z
LAST-MODIFIED:20231019T102425Z
UID:10000137-1761843600-1761849000@netherstowey-pc.gov.uk
SUMMARY:Chess Time at the Library
DESCRIPTION:Learn the basics\, discover new moves and have fun!
URL:https://netherstowey-pc.gov.uk/event/chess-time-at-the-library/2025-10-30
LOCATION:Thomas Poole Library\, Castle Street\, Nether Stowey\, TA5 1LN
CATEGORIES:Thomas Poole Library
ORGANIZER;CN="Thomas Poole Library":MAILTO:eventsandpr@thomaspoolelibrary.org.uk
END:VEVENT
BEGIN:VEVENT
DTSTART;TZID=Europe/London:20251027T110000
DTEND;TZID=Europe/London:20251027T113000
DTSTAMP:20260423T220716
CREATED:20231019T120029Z
LAST-MODIFIED:20231019T121833Z
UID:10000660-1761562800-1761564600@netherstowey-pc.gov.uk
SUMMARY:Story Time for babies\, toddlers and pre-schoolers
DESCRIPTION:Story Time is a lovely activity for babies and toddlers\, pre-school children\, and their grown-ups. \nHeld every Monday (apart from bank holidays) from 11 to 11.30. Listen to a story then pick an instrument from the music box and join in as we sing nursery rhymes.
URL:https://netherstowey-pc.gov.uk/event/story-time-for-babies-toddlers-and-pre-schoolers/2025-10-27
LOCATION:Thomas Poole Library\, Castle Street\, Nether Stowey\, TA5 1LN
CATEGORIES:Thomas Poole Library
ATTACH;FMTTYPE=image/jpeg:https://netherstowey-pc.gov.uk/wp-content/uploads/2023/10/unfocused-children-paying-attention-their-teacher-scaled.jpg
ORGANIZER;CN="Thomas Poole Library":MAILTO:eventsandpr@thomaspoolelibrary.org.uk
END:VEVENT
BEGIN:VEVENT
DTSTART;TZID=Europe/London:20251023T170000
DTEND;TZID=Europe/London:20251023T183000
DTSTAMP:20260423T220716
CREATED:20231019T102344Z
LAST-MODIFIED:20231019T102425Z
UID:10000136-1761238800-1761244200@netherstowey-pc.gov.uk
SUMMARY:Chess Time at the Library
DESCRIPTION:Learn the basics\, discover new moves and have fun!
URL:https://netherstowey-pc.gov.uk/event/chess-time-at-the-library/2025-10-23
LOCATION:Thomas Poole Library\, Castle Street\, Nether Stowey\, TA5 1LN
CATEGORIES:Thomas Poole Library
ORGANIZER;CN="Thomas Poole Library":MAILTO:eventsandpr@thomaspoolelibrary.org.uk
END:VEVENT
BEGIN:VEVENT
DTSTART;TZID=Europe/London:20251020T110000
DTEND;TZID=Europe/London:20251020T113000
DTSTAMP:20260423T220716
CREATED:20231019T120029Z
LAST-MODIFIED:20231019T121833Z
UID:10000659-1760958000-1760959800@netherstowey-pc.gov.uk
SUMMARY:Story Time for babies\, toddlers and pre-schoolers
DESCRIPTION:Story Time is a lovely activity for babies and toddlers\, pre-school children\, and their grown-ups. \nHeld every Monday (apart from bank holidays) from 11 to 11.30. Listen to a story then pick an instrument from the music box and join in as we sing nursery rhymes.
URL:https://netherstowey-pc.gov.uk/event/story-time-for-babies-toddlers-and-pre-schoolers/2025-10-20
LOCATION:Thomas Poole Library\, Castle Street\, Nether Stowey\, TA5 1LN
CATEGORIES:Thomas Poole Library
ATTACH;FMTTYPE=image/jpeg:https://netherstowey-pc.gov.uk/wp-content/uploads/2023/10/unfocused-children-paying-attention-their-teacher-scaled.jpg
ORGANIZER;CN="Thomas Poole Library":MAILTO:eventsandpr@thomaspoolelibrary.org.uk
END:VEVENT
BEGIN:VEVENT
DTSTART;TZID=Europe/London:20251016T170000
DTEND;TZID=Europe/London:20251016T183000
DTSTAMP:20260423T220716
CREATED:20231019T102344Z
LAST-MODIFIED:20231019T102425Z
UID:10000135-1760634000-1760639400@netherstowey-pc.gov.uk
SUMMARY:Chess Time at the Library
DESCRIPTION:Learn the basics\, discover new moves and have fun!
URL:https://netherstowey-pc.gov.uk/event/chess-time-at-the-library/2025-10-16
LOCATION:Thomas Poole Library\, Castle Street\, Nether Stowey\, TA5 1LN
CATEGORIES:Thomas Poole Library
ORGANIZER;CN="Thomas Poole Library":MAILTO:eventsandpr@thomaspoolelibrary.org.uk
END:VEVENT
BEGIN:VEVENT
DTSTART;TZID=Europe/London:20251013T110000
DTEND;TZID=Europe/London:20251013T113000
DTSTAMP:20260423T220716
CREATED:20231019T120029Z
LAST-MODIFIED:20231019T121833Z
UID:10000658-1760353200-1760355000@netherstowey-pc.gov.uk
SUMMARY:Story Time for babies\, toddlers and pre-schoolers
DESCRIPTION:Story Time is a lovely activity for babies and toddlers\, pre-school children\, and their grown-ups. \nHeld every Monday (apart from bank holidays) from 11 to 11.30. Listen to a story then pick an instrument from the music box and join in as we sing nursery rhymes.
URL:https://netherstowey-pc.gov.uk/event/story-time-for-babies-toddlers-and-pre-schoolers/2025-10-13
LOCATION:Thomas Poole Library\, Castle Street\, Nether Stowey\, TA5 1LN
CATEGORIES:Thomas Poole Library
ATTACH;FMTTYPE=image/jpeg:https://netherstowey-pc.gov.uk/wp-content/uploads/2023/10/unfocused-children-paying-attention-their-teacher-scaled.jpg
ORGANIZER;CN="Thomas Poole Library":MAILTO:eventsandpr@thomaspoolelibrary.org.uk
END:VEVENT
BEGIN:VEVENT
DTSTART;TZID=Europe/London:20251009T170000
DTEND;TZID=Europe/London:20251009T183000
DTSTAMP:20260423T220716
CREATED:20231019T102344Z
LAST-MODIFIED:20231019T102425Z
UID:10000134-1760029200-1760034600@netherstowey-pc.gov.uk
SUMMARY:Chess Time at the Library
DESCRIPTION:Learn the basics\, discover new moves and have fun!
URL:https://netherstowey-pc.gov.uk/event/chess-time-at-the-library/2025-10-09
LOCATION:Thomas Poole Library\, Castle Street\, Nether Stowey\, TA5 1LN
CATEGORIES:Thomas Poole Library
ORGANIZER;CN="Thomas Poole Library":MAILTO:eventsandpr@thomaspoolelibrary.org.uk
END:VEVENT
BEGIN:VEVENT
DTSTART;TZID=Europe/London:20251006T110000
DTEND;TZID=Europe/London:20251006T113000
DTSTAMP:20260423T220716
CREATED:20231019T120029Z
LAST-MODIFIED:20231019T121833Z
UID:10000657-1759748400-1759750200@netherstowey-pc.gov.uk
SUMMARY:Story Time for babies\, toddlers and pre-schoolers
DESCRIPTION:Story Time is a lovely activity for babies and toddlers\, pre-school children\, and their grown-ups. \nHeld every Monday (apart from bank holidays) from 11 to 11.30. Listen to a story then pick an instrument from the music box and join in as we sing nursery rhymes.
URL:https://netherstowey-pc.gov.uk/event/story-time-for-babies-toddlers-and-pre-schoolers/2025-10-06
LOCATION:Thomas Poole Library\, Castle Street\, Nether Stowey\, TA5 1LN
CATEGORIES:Thomas Poole Library
ATTACH;FMTTYPE=image/jpeg:https://netherstowey-pc.gov.uk/wp-content/uploads/2023/10/unfocused-children-paying-attention-their-teacher-scaled.jpg
ORGANIZER;CN="Thomas Poole Library":MAILTO:eventsandpr@thomaspoolelibrary.org.uk
END:VEVENT
BEGIN:VEVENT
DTSTART;TZID=Europe/London:20251002T170000
DTEND;TZID=Europe/London:20251002T183000
DTSTAMP:20260423T220716
CREATED:20231019T102344Z
LAST-MODIFIED:20231019T102425Z
UID:10000133-1759424400-1759429800@netherstowey-pc.gov.uk
SUMMARY:Chess Time at the Library
DESCRIPTION:Learn the basics\, discover new moves and have fun!
URL:https://netherstowey-pc.gov.uk/event/chess-time-at-the-library/2025-10-02
LOCATION:Thomas Poole Library\, Castle Street\, Nether Stowey\, TA5 1LN
CATEGORIES:Thomas Poole Library
ORGANIZER;CN="Thomas Poole Library":MAILTO:eventsandpr@thomaspoolelibrary.org.uk
END:VEVENT
BEGIN:VEVENT
DTSTART;TZID=Europe/London:20250929T110000
DTEND;TZID=Europe/London:20250929T113000
DTSTAMP:20260423T220716
CREATED:20231019T120029Z
LAST-MODIFIED:20231019T121833Z
UID:10000656-1759143600-1759145400@netherstowey-pc.gov.uk
SUMMARY:Story Time for babies\, toddlers and pre-schoolers
DESCRIPTION:Story Time is a lovely activity for babies and toddlers\, pre-school children\, and their grown-ups. \nHeld every Monday (apart from bank holidays) from 11 to 11.30. Listen to a story then pick an instrument from the music box and join in as we sing nursery rhymes.
URL:https://netherstowey-pc.gov.uk/event/story-time-for-babies-toddlers-and-pre-schoolers/2025-09-29
LOCATION:Thomas Poole Library\, Castle Street\, Nether Stowey\, TA5 1LN
CATEGORIES:Thomas Poole Library
ATTACH;FMTTYPE=image/jpeg:https://netherstowey-pc.gov.uk/wp-content/uploads/2023/10/unfocused-children-paying-attention-their-teacher-scaled.jpg
ORGANIZER;CN="Thomas Poole Library":MAILTO:eventsandpr@thomaspoolelibrary.org.uk
END:VEVENT
BEGIN:VEVENT
DTSTART;TZID=Europe/London:20250925T170000
DTEND;TZID=Europe/London:20250925T183000
DTSTAMP:20260423T220716
CREATED:20231019T102344Z
LAST-MODIFIED:20231019T102425Z
UID:10000132-1758819600-1758825000@netherstowey-pc.gov.uk
SUMMARY:Chess Time at the Library
DESCRIPTION:Learn the basics\, discover new moves and have fun!
URL:https://netherstowey-pc.gov.uk/event/chess-time-at-the-library/2025-09-25
LOCATION:Thomas Poole Library\, Castle Street\, Nether Stowey\, TA5 1LN
CATEGORIES:Thomas Poole Library
ORGANIZER;CN="Thomas Poole Library":MAILTO:eventsandpr@thomaspoolelibrary.org.uk
END:VEVENT
BEGIN:VEVENT
DTSTART;TZID=Europe/London:20250922T110000
DTEND;TZID=Europe/London:20250922T113000
DTSTAMP:20260423T220716
CREATED:20231019T120029Z
LAST-MODIFIED:20231019T121833Z
UID:10000655-1758538800-1758540600@netherstowey-pc.gov.uk
SUMMARY:Story Time for babies\, toddlers and pre-schoolers
DESCRIPTION:Story Time is a lovely activity for babies and toddlers\, pre-school children\, and their grown-ups. \nHeld every Monday (apart from bank holidays) from 11 to 11.30. Listen to a story then pick an instrument from the music box and join in as we sing nursery rhymes.
URL:https://netherstowey-pc.gov.uk/event/story-time-for-babies-toddlers-and-pre-schoolers/2025-09-22
LOCATION:Thomas Poole Library\, Castle Street\, Nether Stowey\, TA5 1LN
CATEGORIES:Thomas Poole Library
ATTACH;FMTTYPE=image/jpeg:https://netherstowey-pc.gov.uk/wp-content/uploads/2023/10/unfocused-children-paying-attention-their-teacher-scaled.jpg
ORGANIZER;CN="Thomas Poole Library":MAILTO:eventsandpr@thomaspoolelibrary.org.uk
END:VEVENT
BEGIN:VEVENT
DTSTART;TZID=Europe/London:20250918T170000
DTEND;TZID=Europe/London:20250918T183000
DTSTAMP:20260423T220716
CREATED:20231019T102344Z
LAST-MODIFIED:20231019T102425Z
UID:10000131-1758214800-1758220200@netherstowey-pc.gov.uk
SUMMARY:Chess Time at the Library
DESCRIPTION:Learn the basics\, discover new moves and have fun!
URL:https://netherstowey-pc.gov.uk/event/chess-time-at-the-library/2025-09-18
LOCATION:Thomas Poole Library\, Castle Street\, Nether Stowey\, TA5 1LN
CATEGORIES:Thomas Poole Library
ORGANIZER;CN="Thomas Poole Library":MAILTO:eventsandpr@thomaspoolelibrary.org.uk
END:VEVENT
BEGIN:VEVENT
DTSTART;TZID=Europe/London:20250915T110000
DTEND;TZID=Europe/London:20250915T113000
DTSTAMP:20260423T220716
CREATED:20231019T120029Z
LAST-MODIFIED:20231019T121833Z
UID:10000654-1757934000-1757935800@netherstowey-pc.gov.uk
SUMMARY:Story Time for babies\, toddlers and pre-schoolers
DESCRIPTION:Story Time is a lovely activity for babies and toddlers\, pre-school children\, and their grown-ups. \nHeld every Monday (apart from bank holidays) from 11 to 11.30. Listen to a story then pick an instrument from the music box and join in as we sing nursery rhymes.
URL:https://netherstowey-pc.gov.uk/event/story-time-for-babies-toddlers-and-pre-schoolers/2025-09-15
LOCATION:Thomas Poole Library\, Castle Street\, Nether Stowey\, TA5 1LN
CATEGORIES:Thomas Poole Library
ATTACH;FMTTYPE=image/jpeg:https://netherstowey-pc.gov.uk/wp-content/uploads/2023/10/unfocused-children-paying-attention-their-teacher-scaled.jpg
ORGANIZER;CN="Thomas Poole Library":MAILTO:eventsandpr@thomaspoolelibrary.org.uk
END:VEVENT
BEGIN:VEVENT
DTSTART;TZID=Europe/London:20250911T170000
DTEND;TZID=Europe/London:20250911T183000
DTSTAMP:20260423T220716
CREATED:20231019T102344Z
LAST-MODIFIED:20231019T102425Z
UID:10000130-1757610000-1757615400@netherstowey-pc.gov.uk
SUMMARY:Chess Time at the Library
DESCRIPTION:Learn the basics\, discover new moves and have fun!
URL:https://netherstowey-pc.gov.uk/event/chess-time-at-the-library/2025-09-11
LOCATION:Thomas Poole Library\, Castle Street\, Nether Stowey\, TA5 1LN
CATEGORIES:Thomas Poole Library
ORGANIZER;CN="Thomas Poole Library":MAILTO:eventsandpr@thomaspoolelibrary.org.uk
END:VEVENT
BEGIN:VEVENT
DTSTART;TZID=Europe/London:20250908T110000
DTEND;TZID=Europe/London:20250908T113000
DTSTAMP:20260423T220716
CREATED:20231019T120029Z
LAST-MODIFIED:20231019T121833Z
UID:10000653-1757329200-1757331000@netherstowey-pc.gov.uk
SUMMARY:Story Time for babies\, toddlers and pre-schoolers
DESCRIPTION:Story Time is a lovely activity for babies and toddlers\, pre-school children\, and their grown-ups. \nHeld every Monday (apart from bank holidays) from 11 to 11.30. Listen to a story then pick an instrument from the music box and join in as we sing nursery rhymes.
URL:https://netherstowey-pc.gov.uk/event/story-time-for-babies-toddlers-and-pre-schoolers/2025-09-08
LOCATION:Thomas Poole Library\, Castle Street\, Nether Stowey\, TA5 1LN
CATEGORIES:Thomas Poole Library
ATTACH;FMTTYPE=image/jpeg:https://netherstowey-pc.gov.uk/wp-content/uploads/2023/10/unfocused-children-paying-attention-their-teacher-scaled.jpg
ORGANIZER;CN="Thomas Poole Library":MAILTO:eventsandpr@thomaspoolelibrary.org.uk
END:VEVENT
BEGIN:VEVENT
DTSTART;TZID=Europe/London:20250904T170000
DTEND;TZID=Europe/London:20250904T183000
DTSTAMP:20260423T220716
CREATED:20231019T102344Z
LAST-MODIFIED:20231019T102425Z
UID:10000129-1757005200-1757010600@netherstowey-pc.gov.uk
SUMMARY:Chess Time at the Library
DESCRIPTION:Learn the basics\, discover new moves and have fun!
URL:https://netherstowey-pc.gov.uk/event/chess-time-at-the-library/2025-09-04
LOCATION:Thomas Poole Library\, Castle Street\, Nether Stowey\, TA5 1LN
CATEGORIES:Thomas Poole Library
ORGANIZER;CN="Thomas Poole Library":MAILTO:eventsandpr@thomaspoolelibrary.org.uk
END:VEVENT
BEGIN:VEVENT
DTSTART;TZID=Europe/London:20250901T110000
DTEND;TZID=Europe/London:20250901T113000
DTSTAMP:20260423T220716
CREATED:20231019T120029Z
LAST-MODIFIED:20231019T121833Z
UID:10000652-1756724400-1756726200@netherstowey-pc.gov.uk
SUMMARY:Story Time for babies\, toddlers and pre-schoolers
DESCRIPTION:Story Time is a lovely activity for babies and toddlers\, pre-school children\, and their grown-ups. \nHeld every Monday (apart from bank holidays) from 11 to 11.30. Listen to a story then pick an instrument from the music box and join in as we sing nursery rhymes.
URL:https://netherstowey-pc.gov.uk/event/story-time-for-babies-toddlers-and-pre-schoolers/2025-09-01
LOCATION:Thomas Poole Library\, Castle Street\, Nether Stowey\, TA5 1LN
CATEGORIES:Thomas Poole Library
ATTACH;FMTTYPE=image/jpeg:https://netherstowey-pc.gov.uk/wp-content/uploads/2023/10/unfocused-children-paying-attention-their-teacher-scaled.jpg
ORGANIZER;CN="Thomas Poole Library":MAILTO:eventsandpr@thomaspoolelibrary.org.uk
END:VEVENT
BEGIN:VEVENT
DTSTART;TZID=Europe/London:20250828T170000
DTEND;TZID=Europe/London:20250828T183000
DTSTAMP:20260423T220716
CREATED:20231019T102344Z
LAST-MODIFIED:20231019T102425Z
UID:10000128-1756400400-1756405800@netherstowey-pc.gov.uk
SUMMARY:Chess Time at the Library
DESCRIPTION:Learn the basics\, discover new moves and have fun!
URL:https://netherstowey-pc.gov.uk/event/chess-time-at-the-library/2025-08-28
LOCATION:Thomas Poole Library\, Castle Street\, Nether Stowey\, TA5 1LN
CATEGORIES:Thomas Poole Library
ORGANIZER;CN="Thomas Poole Library":MAILTO:eventsandpr@thomaspoolelibrary.org.uk
END:VEVENT
BEGIN:VEVENT
DTSTART;TZID=Europe/London:20250825T110000
DTEND;TZID=Europe/London:20250825T113000
DTSTAMP:20260423T220716
CREATED:20231019T120029Z
LAST-MODIFIED:20231019T121833Z
UID:10000651-1756119600-1756121400@netherstowey-pc.gov.uk
SUMMARY:Story Time for babies\, toddlers and pre-schoolers
DESCRIPTION:Story Time is a lovely activity for babies and toddlers\, pre-school children\, and their grown-ups. \nHeld every Monday (apart from bank holidays) from 11 to 11.30. Listen to a story then pick an instrument from the music box and join in as we sing nursery rhymes.
URL:https://netherstowey-pc.gov.uk/event/story-time-for-babies-toddlers-and-pre-schoolers/2025-08-25
LOCATION:Thomas Poole Library\, Castle Street\, Nether Stowey\, TA5 1LN
CATEGORIES:Thomas Poole Library
ATTACH;FMTTYPE=image/jpeg:https://netherstowey-pc.gov.uk/wp-content/uploads/2023/10/unfocused-children-paying-attention-their-teacher-scaled.jpg
ORGANIZER;CN="Thomas Poole Library":MAILTO:eventsandpr@thomaspoolelibrary.org.uk
END:VEVENT
BEGIN:VEVENT
DTSTART;TZID=Europe/London:20250821T170000
DTEND;TZID=Europe/London:20250821T183000
DTSTAMP:20260423T220716
CREATED:20231019T102344Z
LAST-MODIFIED:20231019T102425Z
UID:10000127-1755795600-1755801000@netherstowey-pc.gov.uk
SUMMARY:Chess Time at the Library
DESCRIPTION:Learn the basics\, discover new moves and have fun!
URL:https://netherstowey-pc.gov.uk/event/chess-time-at-the-library/2025-08-21
LOCATION:Thomas Poole Library\, Castle Street\, Nether Stowey\, TA5 1LN
CATEGORIES:Thomas Poole Library
ORGANIZER;CN="Thomas Poole Library":MAILTO:eventsandpr@thomaspoolelibrary.org.uk
END:VEVENT
BEGIN:VEVENT
DTSTART;TZID=Europe/London:20250818T110000
DTEND;TZID=Europe/London:20250818T113000
DTSTAMP:20260423T220716
CREATED:20231019T120029Z
LAST-MODIFIED:20231019T121833Z
UID:10000650-1755514800-1755516600@netherstowey-pc.gov.uk
SUMMARY:Story Time for babies\, toddlers and pre-schoolers
DESCRIPTION:Story Time is a lovely activity for babies and toddlers\, pre-school children\, and their grown-ups. \nHeld every Monday (apart from bank holidays) from 11 to 11.30. Listen to a story then pick an instrument from the music box and join in as we sing nursery rhymes.
URL:https://netherstowey-pc.gov.uk/event/story-time-for-babies-toddlers-and-pre-schoolers/2025-08-18
LOCATION:Thomas Poole Library\, Castle Street\, Nether Stowey\, TA5 1LN
CATEGORIES:Thomas Poole Library
ATTACH;FMTTYPE=image/jpeg:https://netherstowey-pc.gov.uk/wp-content/uploads/2023/10/unfocused-children-paying-attention-their-teacher-scaled.jpg
ORGANIZER;CN="Thomas Poole Library":MAILTO:eventsandpr@thomaspoolelibrary.org.uk
END:VEVENT
BEGIN:VEVENT
DTSTART;TZID=Europe/London:20250814T170000
DTEND;TZID=Europe/London:20250814T183000
DTSTAMP:20260423T220716
CREATED:20231019T102344Z
LAST-MODIFIED:20231019T102425Z
UID:10000126-1755190800-1755196200@netherstowey-pc.gov.uk
SUMMARY:Chess Time at the Library
DESCRIPTION:Learn the basics\, discover new moves and have fun!
URL:https://netherstowey-pc.gov.uk/event/chess-time-at-the-library/2025-08-14
LOCATION:Thomas Poole Library\, Castle Street\, Nether Stowey\, TA5 1LN
CATEGORIES:Thomas Poole Library
ORGANIZER;CN="Thomas Poole Library":MAILTO:eventsandpr@thomaspoolelibrary.org.uk
END:VEVENT
BEGIN:VEVENT
DTSTART;TZID=Europe/London:20250811T110000
DTEND;TZID=Europe/London:20250811T113000
DTSTAMP:20260423T220716
CREATED:20231019T120029Z
LAST-MODIFIED:20231019T121833Z
UID:10000649-1754910000-1754911800@netherstowey-pc.gov.uk
SUMMARY:Story Time for babies\, toddlers and pre-schoolers
DESCRIPTION:Story Time is a lovely activity for babies and toddlers\, pre-school children\, and their grown-ups. \nHeld every Monday (apart from bank holidays) from 11 to 11.30. Listen to a story then pick an instrument from the music box and join in as we sing nursery rhymes.
URL:https://netherstowey-pc.gov.uk/event/story-time-for-babies-toddlers-and-pre-schoolers/2025-08-11
LOCATION:Thomas Poole Library\, Castle Street\, Nether Stowey\, TA5 1LN
CATEGORIES:Thomas Poole Library
ATTACH;FMTTYPE=image/jpeg:https://netherstowey-pc.gov.uk/wp-content/uploads/2023/10/unfocused-children-paying-attention-their-teacher-scaled.jpg
ORGANIZER;CN="Thomas Poole Library":MAILTO:eventsandpr@thomaspoolelibrary.org.uk
END:VEVENT
BEGIN:VEVENT
DTSTART;TZID=Europe/London:20250807T170000
DTEND;TZID=Europe/London:20250807T183000
DTSTAMP:20260423T220716
CREATED:20231019T102344Z
LAST-MODIFIED:20231019T102425Z
UID:10000125-1754586000-1754591400@netherstowey-pc.gov.uk
SUMMARY:Chess Time at the Library
DESCRIPTION:Learn the basics\, discover new moves and have fun!
URL:https://netherstowey-pc.gov.uk/event/chess-time-at-the-library/2025-08-07
LOCATION:Thomas Poole Library\, Castle Street\, Nether Stowey\, TA5 1LN
CATEGORIES:Thomas Poole Library
ORGANIZER;CN="Thomas Poole Library":MAILTO:eventsandpr@thomaspoolelibrary.org.uk
END:VEVENT
BEGIN:VEVENT
DTSTART;TZID=Europe/London:20250804T110000
DTEND;TZID=Europe/London:20250804T113000
DTSTAMP:20260423T220716
CREATED:20231019T120029Z
LAST-MODIFIED:20231019T121833Z
UID:10000648-1754305200-1754307000@netherstowey-pc.gov.uk
SUMMARY:Story Time for babies\, toddlers and pre-schoolers
DESCRIPTION:Story Time is a lovely activity for babies and toddlers\, pre-school children\, and their grown-ups. \nHeld every Monday (apart from bank holidays) from 11 to 11.30. Listen to a story then pick an instrument from the music box and join in as we sing nursery rhymes.
URL:https://netherstowey-pc.gov.uk/event/story-time-for-babies-toddlers-and-pre-schoolers/2025-08-04
LOCATION:Thomas Poole Library\, Castle Street\, Nether Stowey\, TA5 1LN
CATEGORIES:Thomas Poole Library
ATTACH;FMTTYPE=image/jpeg:https://netherstowey-pc.gov.uk/wp-content/uploads/2023/10/unfocused-children-paying-attention-their-teacher-scaled.jpg
ORGANIZER;CN="Thomas Poole Library":MAILTO:eventsandpr@thomaspoolelibrary.org.uk
END:VEVENT
END:VCALENDAR