BEGIN:VCALENDAR
VERSION:2.0
PRODID:-//Nether Stowey Parish Council - ECPv6.15.18//NONSGML v1.0//EN
CALSCALE:GREGORIAN
METHOD:PUBLISH
X-WR-CALNAME:Nether Stowey Parish Council
X-ORIGINAL-URL:https://netherstowey-pc.gov.uk
X-WR-CALDESC:Events for Nether Stowey Parish Council
REFRESH-INTERVAL;VALUE=DURATION:PT1H
X-Robots-Tag:noindex
X-PUBLISHED-TTL:PT1H
BEGIN:VTIMEZONE
TZID:Europe/London
BEGIN:DAYLIGHT
TZOFFSETFROM:+0000
TZOFFSETTO:+0100
TZNAME:BST
DTSTART:20240331T010000
END:DAYLIGHT
BEGIN:STANDARD
TZOFFSETFROM:+0100
TZOFFSETTO:+0000
TZNAME:GMT
DTSTART:20241027T010000
END:STANDARD
BEGIN:DAYLIGHT
TZOFFSETFROM:+0000
TZOFFSETTO:+0100
TZNAME:BST
DTSTART:20250330T010000
END:DAYLIGHT
BEGIN:STANDARD
TZOFFSETFROM:+0100
TZOFFSETTO:+0000
TZNAME:GMT
DTSTART:20251026T010000
END:STANDARD
BEGIN:DAYLIGHT
TZOFFSETFROM:+0000
TZOFFSETTO:+0100
TZNAME:BST
DTSTART:20260329T010000
END:DAYLIGHT
BEGIN:STANDARD
TZOFFSETFROM:+0100
TZOFFSETTO:+0000
TZNAME:GMT
DTSTART:20261025T010000
END:STANDARD
END:VTIMEZONE
BEGIN:VEVENT
DTSTART;TZID=Europe/London:20250708T140000
DTEND;TZID=Europe/London:20250708T170000
DTSTAMP:20260422T033121
CREATED:20250623T110512Z
LAST-MODIFIED:20250623T111323Z
UID:10001641-1751983200-1751994000@netherstowey-pc.gov.uk
SUMMARY:NS Short Mat Bowls Club
DESCRIPTION:Short Mat Bowls Club at the Church Centre\, £4 per session\, contact: nsshortmatbowls@gmail.com or phone Terry Binding tel 01278 732710 \nNS Short Mat Bowls Club Poster May 2025 one page
URL:https://netherstowey-pc.gov.uk/event/ns-short-mat-bowls-club/2025-07-08
LOCATION:St Mary’s Church Centre\, St Mary Street\, Nether Stowey\, TA5 1LJ\, United Kingdom
ORGANIZER;CN="Mark Howells":MAILTO:nsshortmatbowls@gmail.com
END:VEVENT
BEGIN:VEVENT
DTSTART;TZID=Europe/London:20250707T140000
DTEND;TZID=Europe/London:20250707T140000
DTSTAMP:20260422T033121
CREATED:20250707T093015Z
LAST-MODIFIED:20250707T093213Z
UID:10001790-1751896800-1751896800@netherstowey-pc.gov.uk
SUMMARY:Nether Stowey & Fiddington WI
DESCRIPTION:The Women’s Institute is somewhere for women of all ages to relax\, have fun and make new friends. \nThey meet at the Church Centre\, Nether Stowey on the second Thursday of the month at 2pm
URL:https://netherstowey-pc.gov.uk/event/nether-stowey-fiddington-wi-4/2025-07-07
LOCATION:St Mary’s Church Centre\, St Mary Street\, Nether Stowey\, TA5 1LJ\, United Kingdom
CATEGORIES:NSF WI
ATTACH;FMTTYPE=image/jpeg:https://netherstowey-pc.gov.uk/wp-content/uploads/2023/10/WI.jpg
END:VEVENT
BEGIN:VEVENT
DTSTART;TZID=Europe/London:20250707T110000
DTEND;TZID=Europe/London:20250707T113000
DTSTAMP:20260422T033121
CREATED:20231019T120029Z
LAST-MODIFIED:20231019T121833Z
UID:10000644-1751886000-1751887800@netherstowey-pc.gov.uk
SUMMARY:Story Time for babies\, toddlers and pre-schoolers
DESCRIPTION:Story Time is a lovely activity for babies and toddlers\, pre-school children\, and their grown-ups. \nHeld every Monday (apart from bank holidays) from 11 to 11.30. Listen to a story then pick an instrument from the music box and join in as we sing nursery rhymes.
URL:https://netherstowey-pc.gov.uk/event/story-time-for-babies-toddlers-and-pre-schoolers/2025-07-07
LOCATION:Thomas Poole Library\, Castle Street\, Nether Stowey\, TA5 1LN
CATEGORIES:Thomas Poole Library
ATTACH;FMTTYPE=image/jpeg:https://netherstowey-pc.gov.uk/wp-content/uploads/2023/10/unfocused-children-paying-attention-their-teacher-scaled.jpg
ORGANIZER;CN="Thomas Poole Library":MAILTO:eventsandpr@thomaspoolelibrary.org.uk
END:VEVENT
BEGIN:VEVENT
DTSTART;TZID=Europe/London:20250704T103000
DTEND;TZID=Europe/London:20250704T120000
DTSTAMP:20260422T033121
CREATED:20250107T114944Z
LAST-MODIFIED:20250107T115122Z
UID:10001553-1751625000-1751630400@netherstowey-pc.gov.uk
SUMMARY:Knit and Natter
DESCRIPTION:A friendly and social group meets every Friday morning from 10.30 to midday. \nAll ages and abilities are welcome. \nBring your own project\, which could be knitting\, sewing\, crocheting\, embroidery etc. or just come for a natter and see what others are working on. \nIt’s a great way to get inspired\, learn new tips and make new friends! \nThere is no charge for the group\, just a donation for tea or coffee.
URL:https://netherstowey-pc.gov.uk/event/knit-and-natter-2/2025-07-04
LOCATION:Thomas Poole Library\, Castle Street\, Nether Stowey\, TA5 1LN
CATEGORIES:Social,Thomas Poole Library
ORGANIZER;CN="Thomas Poole Library":MAILTO:eventsandpr@thomaspoolelibrary.org.uk
END:VEVENT
BEGIN:VEVENT
DTSTART;TZID=Europe/London:20250703T170000
DTEND;TZID=Europe/London:20250703T183000
DTSTAMP:20260422T033121
CREATED:20231019T102344Z
LAST-MODIFIED:20231019T102425Z
UID:10000120-1751562000-1751567400@netherstowey-pc.gov.uk
SUMMARY:Chess Time at the Library
DESCRIPTION:Learn the basics\, discover new moves and have fun!
URL:https://netherstowey-pc.gov.uk/event/chess-time-at-the-library/2025-07-03
LOCATION:Thomas Poole Library\, Castle Street\, Nether Stowey\, TA5 1LN
CATEGORIES:Thomas Poole Library
ORGANIZER;CN="Thomas Poole Library":MAILTO:eventsandpr@thomaspoolelibrary.org.uk
END:VEVENT
BEGIN:VEVENT
DTSTART;TZID=Europe/London:20250701T140000
DTEND;TZID=Europe/London:20250701T170000
DTSTAMP:20260422T033121
CREATED:20250623T110512Z
LAST-MODIFIED:20250623T111323Z
UID:10001640-1751378400-1751389200@netherstowey-pc.gov.uk
SUMMARY:NS Short Mat Bowls Club
DESCRIPTION:Short Mat Bowls Club at the Church Centre\, £4 per session\, contact: nsshortmatbowls@gmail.com or phone Terry Binding tel 01278 732710 \nNS Short Mat Bowls Club Poster May 2025 one page
URL:https://netherstowey-pc.gov.uk/event/ns-short-mat-bowls-club/2025-07-01
LOCATION:St Mary’s Church Centre\, St Mary Street\, Nether Stowey\, TA5 1LJ\, United Kingdom
ORGANIZER;CN="Mark Howells":MAILTO:nsshortmatbowls@gmail.com
END:VEVENT
BEGIN:VEVENT
DTSTART;TZID=Europe/London:20250630T110000
DTEND;TZID=Europe/London:20250630T113000
DTSTAMP:20260422T033121
CREATED:20231019T120029Z
LAST-MODIFIED:20231019T121833Z
UID:10000643-1751281200-1751283000@netherstowey-pc.gov.uk
SUMMARY:Story Time for babies\, toddlers and pre-schoolers
DESCRIPTION:Story Time is a lovely activity for babies and toddlers\, pre-school children\, and their grown-ups. \nHeld every Monday (apart from bank holidays) from 11 to 11.30. Listen to a story then pick an instrument from the music box and join in as we sing nursery rhymes.
URL:https://netherstowey-pc.gov.uk/event/story-time-for-babies-toddlers-and-pre-schoolers/2025-06-30
LOCATION:Thomas Poole Library\, Castle Street\, Nether Stowey\, TA5 1LN
CATEGORIES:Thomas Poole Library
ATTACH;FMTTYPE=image/jpeg:https://netherstowey-pc.gov.uk/wp-content/uploads/2023/10/unfocused-children-paying-attention-their-teacher-scaled.jpg
ORGANIZER;CN="Thomas Poole Library":MAILTO:eventsandpr@thomaspoolelibrary.org.uk
END:VEVENT
BEGIN:VEVENT
DTSTART;TZID=Europe/London:20250627T103000
DTEND;TZID=Europe/London:20250627T120000
DTSTAMP:20260422T033121
CREATED:20250107T114944Z
LAST-MODIFIED:20250107T115122Z
UID:10001552-1751020200-1751025600@netherstowey-pc.gov.uk
SUMMARY:Knit and Natter
DESCRIPTION:A friendly and social group meets every Friday morning from 10.30 to midday. \nAll ages and abilities are welcome. \nBring your own project\, which could be knitting\, sewing\, crocheting\, embroidery etc. or just come for a natter and see what others are working on. \nIt’s a great way to get inspired\, learn new tips and make new friends! \nThere is no charge for the group\, just a donation for tea or coffee.
URL:https://netherstowey-pc.gov.uk/event/knit-and-natter-2/2025-06-27
LOCATION:Thomas Poole Library\, Castle Street\, Nether Stowey\, TA5 1LN
CATEGORIES:Social,Thomas Poole Library
ORGANIZER;CN="Thomas Poole Library":MAILTO:eventsandpr@thomaspoolelibrary.org.uk
END:VEVENT
BEGIN:VEVENT
DTSTART;TZID=Europe/London:20250626T170000
DTEND;TZID=Europe/London:20250626T183000
DTSTAMP:20260422T033121
CREATED:20231019T102344Z
LAST-MODIFIED:20231019T102425Z
UID:10000119-1750957200-1750962600@netherstowey-pc.gov.uk
SUMMARY:Chess Time at the Library
DESCRIPTION:Learn the basics\, discover new moves and have fun!
URL:https://netherstowey-pc.gov.uk/event/chess-time-at-the-library/2025-06-26
LOCATION:Thomas Poole Library\, Castle Street\, Nether Stowey\, TA5 1LN
CATEGORIES:Thomas Poole Library
ORGANIZER;CN="Thomas Poole Library":MAILTO:eventsandpr@thomaspoolelibrary.org.uk
END:VEVENT
BEGIN:VEVENT
DTSTART;TZID=Europe/London:20250624T140000
DTEND;TZID=Europe/London:20250624T170000
DTSTAMP:20260422T033121
CREATED:20250623T110512Z
LAST-MODIFIED:20250623T111323Z
UID:10001639-1750773600-1750784400@netherstowey-pc.gov.uk
SUMMARY:NS Short Mat Bowls Club
DESCRIPTION:Short Mat Bowls Club at the Church Centre\, £4 per session\, contact: nsshortmatbowls@gmail.com or phone Terry Binding tel 01278 732710 \nNS Short Mat Bowls Club Poster May 2025 one page
URL:https://netherstowey-pc.gov.uk/event/ns-short-mat-bowls-club/2025-06-24
LOCATION:St Mary’s Church Centre\, St Mary Street\, Nether Stowey\, TA5 1LJ\, United Kingdom
ORGANIZER;CN="Mark Howells":MAILTO:nsshortmatbowls@gmail.com
END:VEVENT
BEGIN:VEVENT
DTSTART;TZID=Europe/London:20250623T110000
DTEND;TZID=Europe/London:20250623T113000
DTSTAMP:20260422T033121
CREATED:20231019T120029Z
LAST-MODIFIED:20231019T121833Z
UID:10000642-1750676400-1750678200@netherstowey-pc.gov.uk
SUMMARY:Story Time for babies\, toddlers and pre-schoolers
DESCRIPTION:Story Time is a lovely activity for babies and toddlers\, pre-school children\, and their grown-ups. \nHeld every Monday (apart from bank holidays) from 11 to 11.30. Listen to a story then pick an instrument from the music box and join in as we sing nursery rhymes.
URL:https://netherstowey-pc.gov.uk/event/story-time-for-babies-toddlers-and-pre-schoolers/2025-06-23
LOCATION:Thomas Poole Library\, Castle Street\, Nether Stowey\, TA5 1LN
CATEGORIES:Thomas Poole Library
ATTACH;FMTTYPE=image/jpeg:https://netherstowey-pc.gov.uk/wp-content/uploads/2023/10/unfocused-children-paying-attention-their-teacher-scaled.jpg
ORGANIZER;CN="Thomas Poole Library":MAILTO:eventsandpr@thomaspoolelibrary.org.uk
END:VEVENT
BEGIN:VEVENT
DTSTART;TZID=Europe/London:20250621T150000
DTEND;TZID=Europe/London:20250621T150000
DTSTAMP:20260422T033121
CREATED:20250501T080014Z
LAST-MODIFIED:20250519T113310Z
UID:10001567-1750518000-1750518000@netherstowey-pc.gov.uk
SUMMARY:217th Stowey Women’s Walk
DESCRIPTION:The 217th Stowey Women’s Walk takes place on Saturday 21 June. The Walk departs from The Cross at 3pm. \n \nThe historic tradition\, of the women of the Stowey’s walking each year\, on the Saturday closest to mid-summer\, is to honour the memory of Thomas Poole. \nThomas Poole was born in Nether Stowey in 1765. He was a tanner who used his wealth to improve the lives of the poor in the village. In 1806 he started the Stowey Female Friendly Society to help women in times of sickness\, childbirth\, widowhood and old age. \nHe funded and built the original village school in Castle Street\, which is now our wonderful Thomas Poole Library\, café and community hub.\nTraditionally\, everyone dressed up in their Sunday best for the walk\, although this is no longer expected. They also carried a posy of flowers to put on Thomas Poole’s grave. \nWe will meet at the Cross in the middle of the village at 3pm with the walk to St Mary’s Church\, headed by bagpipes\, starting at 3.15pm. After a short service in the church\, and a visit to Thomas Poole’s grave we will walk back to the Church Centre for Afternoon Tea. \nTwo minor variations will be introduced: \n1: To include more aspects of Thomas Poole within the walk.\n2: For the walkers\, to actually see the pipers and the banner walking towards them\, rather than only seeing their backs. \nThe pipers and the banner will start at the Thomas Poole Library in Castle Street at 3.05pm. They will walk past Thomas Poole House\, which now displays a Blue Plaque\, in honour of the place where Thomas Poole lived. \nAt the Cross the walkers will join the parade. \nFurther details will be available nearer the time. \nA few more volunteers are needed to wear high-vis jackets to walk alongside the parade please. \nTelephone: 01278 732266\nJanet Phillips\, on behalf of the Stowey Female Friendly Society \n 
URL:https://netherstowey-pc.gov.uk/event/217th-stowey-womens-walk
LOCATION:The Cross\, Nether Stowey\, The Cross\, Nether Stowey\, Somerset\, TA5 1LN\, United Kingdom
END:VEVENT
BEGIN:VEVENT
DTSTART;TZID=Europe/London:20250620T103000
DTEND;TZID=Europe/London:20250620T120000
DTSTAMP:20260422T033121
CREATED:20250107T114944Z
LAST-MODIFIED:20250107T115122Z
UID:10001551-1750415400-1750420800@netherstowey-pc.gov.uk
SUMMARY:Knit and Natter
DESCRIPTION:A friendly and social group meets every Friday morning from 10.30 to midday. \nAll ages and abilities are welcome. \nBring your own project\, which could be knitting\, sewing\, crocheting\, embroidery etc. or just come for a natter and see what others are working on. \nIt’s a great way to get inspired\, learn new tips and make new friends! \nThere is no charge for the group\, just a donation for tea or coffee.
URL:https://netherstowey-pc.gov.uk/event/knit-and-natter-2/2025-06-20
LOCATION:Thomas Poole Library\, Castle Street\, Nether Stowey\, TA5 1LN
CATEGORIES:Social,Thomas Poole Library
ORGANIZER;CN="Thomas Poole Library":MAILTO:eventsandpr@thomaspoolelibrary.org.uk
END:VEVENT
BEGIN:VEVENT
DTSTART;TZID=Europe/London:20250619T170000
DTEND;TZID=Europe/London:20250619T183000
DTSTAMP:20260422T033121
CREATED:20231019T102344Z
LAST-MODIFIED:20231019T102425Z
UID:10000118-1750352400-1750357800@netherstowey-pc.gov.uk
SUMMARY:Chess Time at the Library
DESCRIPTION:Learn the basics\, discover new moves and have fun!
URL:https://netherstowey-pc.gov.uk/event/chess-time-at-the-library/2025-06-19
LOCATION:Thomas Poole Library\, Castle Street\, Nether Stowey\, TA5 1LN
CATEGORIES:Thomas Poole Library
ORGANIZER;CN="Thomas Poole Library":MAILTO:eventsandpr@thomaspoolelibrary.org.uk
END:VEVENT
BEGIN:VEVENT
DTSTART;TZID=Europe/London:20250616T110000
DTEND;TZID=Europe/London:20250616T113000
DTSTAMP:20260422T033121
CREATED:20231019T120029Z
LAST-MODIFIED:20231019T121833Z
UID:10000641-1750071600-1750073400@netherstowey-pc.gov.uk
SUMMARY:Story Time for babies\, toddlers and pre-schoolers
DESCRIPTION:Story Time is a lovely activity for babies and toddlers\, pre-school children\, and their grown-ups. \nHeld every Monday (apart from bank holidays) from 11 to 11.30. Listen to a story then pick an instrument from the music box and join in as we sing nursery rhymes.
URL:https://netherstowey-pc.gov.uk/event/story-time-for-babies-toddlers-and-pre-schoolers/2025-06-16
LOCATION:Thomas Poole Library\, Castle Street\, Nether Stowey\, TA5 1LN
CATEGORIES:Thomas Poole Library
ATTACH;FMTTYPE=image/jpeg:https://netherstowey-pc.gov.uk/wp-content/uploads/2023/10/unfocused-children-paying-attention-their-teacher-scaled.jpg
ORGANIZER;CN="Thomas Poole Library":MAILTO:eventsandpr@thomaspoolelibrary.org.uk
END:VEVENT
BEGIN:VEVENT
DTSTART;TZID=Europe/London:20250613T140000
DTEND;TZID=Europe/London:20250613T163000
DTSTAMP:20260422T033121
CREATED:20250107T113839Z
LAST-MODIFIED:20250107T114107Z
UID:10001570-1749823200-1749832200@netherstowey-pc.gov.uk
SUMMARY:Nether Stowey & Fiddington WI
DESCRIPTION:The Women’s Institute is somewhere for women of all ages to relax\, have fun and make new friends. \nThey meet at the Church Centre\, Nether Stowey on the second Thursday of the month at 2pm
URL:https://netherstowey-pc.gov.uk/event/nether-stowey-fiddington-wi/2025-06-13
LOCATION:St Mary’s Church Centre\, St Mary Street\, Nether Stowey\, TA5 1LJ\, United Kingdom
CATEGORIES:NSF WI
ATTACH;FMTTYPE=image/jpeg:https://netherstowey-pc.gov.uk/wp-content/uploads/2023/10/WI.jpg
END:VEVENT
BEGIN:VEVENT
DTSTART;TZID=Europe/London:20250613T103000
DTEND;TZID=Europe/London:20250613T120000
DTSTAMP:20260422T033121
CREATED:20250107T114944Z
LAST-MODIFIED:20250107T115122Z
UID:10001550-1749810600-1749816000@netherstowey-pc.gov.uk
SUMMARY:Knit and Natter
DESCRIPTION:A friendly and social group meets every Friday morning from 10.30 to midday. \nAll ages and abilities are welcome. \nBring your own project\, which could be knitting\, sewing\, crocheting\, embroidery etc. or just come for a natter and see what others are working on. \nIt’s a great way to get inspired\, learn new tips and make new friends! \nThere is no charge for the group\, just a donation for tea or coffee.
URL:https://netherstowey-pc.gov.uk/event/knit-and-natter-2/2025-06-13
LOCATION:Thomas Poole Library\, Castle Street\, Nether Stowey\, TA5 1LN
CATEGORIES:Social,Thomas Poole Library
ORGANIZER;CN="Thomas Poole Library":MAILTO:eventsandpr@thomaspoolelibrary.org.uk
END:VEVENT
BEGIN:VEVENT
DTSTART;TZID=Europe/London:20250612T170000
DTEND;TZID=Europe/London:20250612T183000
DTSTAMP:20260422T033121
CREATED:20231019T102344Z
LAST-MODIFIED:20231019T102425Z
UID:10000117-1749747600-1749753000@netherstowey-pc.gov.uk
SUMMARY:Chess Time at the Library
DESCRIPTION:Learn the basics\, discover new moves and have fun!
URL:https://netherstowey-pc.gov.uk/event/chess-time-at-the-library/2025-06-12
LOCATION:Thomas Poole Library\, Castle Street\, Nether Stowey\, TA5 1LN
CATEGORIES:Thomas Poole Library
ORGANIZER;CN="Thomas Poole Library":MAILTO:eventsandpr@thomaspoolelibrary.org.uk
END:VEVENT
BEGIN:VEVENT
DTSTART;TZID=Europe/London:20250609T190000
DTEND;TZID=Europe/London:20250609T190000
DTSTAMP:20260422T033121
CREATED:20250618T105732Z
LAST-MODIFIED:20250828T105704Z
UID:10001575-1749495600-1749495600@netherstowey-pc.gov.uk
SUMMARY:Parish Council Meeting
DESCRIPTION:This meeting will be held at St Mary’s Church Centre. Members of the public are welcome to attend. The agenda will be available here from the Wednesday afternoon before the meeting and also available in the Parish Office window and on notice boards at The Cross and at Harry Prowse Close and Church View.
URL:https://netherstowey-pc.gov.uk/event/parish-council-meeting-19
LOCATION:St Mary’s Church Centre\, St Mary Street\, Nether Stowey\, TA5 1LJ\, United Kingdom
CATEGORIES:Parish Council Meetings
ORGANIZER;CN="Nether Stowey Parish Council":MAILTO:clerk@netherstowey-pc.gov.uk
END:VEVENT
BEGIN:VEVENT
DTSTART;TZID=Europe/London:20250609T110000
DTEND;TZID=Europe/London:20250609T113000
DTSTAMP:20260422T033121
CREATED:20231019T120029Z
LAST-MODIFIED:20231019T121833Z
UID:10000640-1749466800-1749468600@netherstowey-pc.gov.uk
SUMMARY:Story Time for babies\, toddlers and pre-schoolers
DESCRIPTION:Story Time is a lovely activity for babies and toddlers\, pre-school children\, and their grown-ups. \nHeld every Monday (apart from bank holidays) from 11 to 11.30. Listen to a story then pick an instrument from the music box and join in as we sing nursery rhymes.
URL:https://netherstowey-pc.gov.uk/event/story-time-for-babies-toddlers-and-pre-schoolers/2025-06-09
LOCATION:Thomas Poole Library\, Castle Street\, Nether Stowey\, TA5 1LN
CATEGORIES:Thomas Poole Library
ATTACH;FMTTYPE=image/jpeg:https://netherstowey-pc.gov.uk/wp-content/uploads/2023/10/unfocused-children-paying-attention-their-teacher-scaled.jpg
ORGANIZER;CN="Thomas Poole Library":MAILTO:eventsandpr@thomaspoolelibrary.org.uk
END:VEVENT
BEGIN:VEVENT
DTSTART;TZID=Europe/London:20250606T103000
DTEND;TZID=Europe/London:20250606T120000
DTSTAMP:20260422T033121
CREATED:20250107T114944Z
LAST-MODIFIED:20250107T115122Z
UID:10001549-1749205800-1749211200@netherstowey-pc.gov.uk
SUMMARY:Knit and Natter
DESCRIPTION:A friendly and social group meets every Friday morning from 10.30 to midday. \nAll ages and abilities are welcome. \nBring your own project\, which could be knitting\, sewing\, crocheting\, embroidery etc. or just come for a natter and see what others are working on. \nIt’s a great way to get inspired\, learn new tips and make new friends! \nThere is no charge for the group\, just a donation for tea or coffee.
URL:https://netherstowey-pc.gov.uk/event/knit-and-natter-2/2025-06-06
LOCATION:Thomas Poole Library\, Castle Street\, Nether Stowey\, TA5 1LN
CATEGORIES:Social,Thomas Poole Library
ORGANIZER;CN="Thomas Poole Library":MAILTO:eventsandpr@thomaspoolelibrary.org.uk
END:VEVENT
BEGIN:VEVENT
DTSTART;TZID=Europe/London:20250605T170000
DTEND;TZID=Europe/London:20250605T183000
DTSTAMP:20260422T033121
CREATED:20231019T102344Z
LAST-MODIFIED:20231019T102425Z
UID:10000116-1749142800-1749148200@netherstowey-pc.gov.uk
SUMMARY:Chess Time at the Library
DESCRIPTION:Learn the basics\, discover new moves and have fun!
URL:https://netherstowey-pc.gov.uk/event/chess-time-at-the-library/2025-06-05
LOCATION:Thomas Poole Library\, Castle Street\, Nether Stowey\, TA5 1LN
CATEGORIES:Thomas Poole Library
ORGANIZER;CN="Thomas Poole Library":MAILTO:eventsandpr@thomaspoolelibrary.org.uk
END:VEVENT
BEGIN:VEVENT
DTSTART;TZID=Europe/London:20250602T110000
DTEND;TZID=Europe/London:20250602T113000
DTSTAMP:20260422T033121
CREATED:20231019T120029Z
LAST-MODIFIED:20231019T121833Z
UID:10000639-1748862000-1748863800@netherstowey-pc.gov.uk
SUMMARY:Story Time for babies\, toddlers and pre-schoolers
DESCRIPTION:Story Time is a lovely activity for babies and toddlers\, pre-school children\, and their grown-ups. \nHeld every Monday (apart from bank holidays) from 11 to 11.30. Listen to a story then pick an instrument from the music box and join in as we sing nursery rhymes.
URL:https://netherstowey-pc.gov.uk/event/story-time-for-babies-toddlers-and-pre-schoolers/2025-06-02
LOCATION:Thomas Poole Library\, Castle Street\, Nether Stowey\, TA5 1LN
CATEGORIES:Thomas Poole Library
ATTACH;FMTTYPE=image/jpeg:https://netherstowey-pc.gov.uk/wp-content/uploads/2023/10/unfocused-children-paying-attention-their-teacher-scaled.jpg
ORGANIZER;CN="Thomas Poole Library":MAILTO:eventsandpr@thomaspoolelibrary.org.uk
END:VEVENT
BEGIN:VEVENT
DTSTART;TZID=Europe/London:20250530T103000
DTEND;TZID=Europe/London:20250530T120000
DTSTAMP:20260422T033121
CREATED:20250107T114944Z
LAST-MODIFIED:20250107T115122Z
UID:10001548-1748601000-1748606400@netherstowey-pc.gov.uk
SUMMARY:Knit and Natter
DESCRIPTION:A friendly and social group meets every Friday morning from 10.30 to midday. \nAll ages and abilities are welcome. \nBring your own project\, which could be knitting\, sewing\, crocheting\, embroidery etc. or just come for a natter and see what others are working on. \nIt’s a great way to get inspired\, learn new tips and make new friends! \nThere is no charge for the group\, just a donation for tea or coffee.
URL:https://netherstowey-pc.gov.uk/event/knit-and-natter-2/2025-05-30
LOCATION:Thomas Poole Library\, Castle Street\, Nether Stowey\, TA5 1LN
CATEGORIES:Social,Thomas Poole Library
ORGANIZER;CN="Thomas Poole Library":MAILTO:eventsandpr@thomaspoolelibrary.org.uk
END:VEVENT
BEGIN:VEVENT
DTSTART;TZID=Europe/London:20250529T170000
DTEND;TZID=Europe/London:20250529T183000
DTSTAMP:20260422T033121
CREATED:20231019T102344Z
LAST-MODIFIED:20231019T102425Z
UID:10000115-1748538000-1748543400@netherstowey-pc.gov.uk
SUMMARY:Chess Time at the Library
DESCRIPTION:Learn the basics\, discover new moves and have fun!
URL:https://netherstowey-pc.gov.uk/event/chess-time-at-the-library/2025-05-29
LOCATION:Thomas Poole Library\, Castle Street\, Nether Stowey\, TA5 1LN
CATEGORIES:Thomas Poole Library
ORGANIZER;CN="Thomas Poole Library":MAILTO:eventsandpr@thomaspoolelibrary.org.uk
END:VEVENT
BEGIN:VEVENT
DTSTART;TZID=Europe/London:20250526T110000
DTEND;TZID=Europe/London:20250526T113000
DTSTAMP:20260422T033121
CREATED:20231019T120029Z
LAST-MODIFIED:20231019T121833Z
UID:10000638-1748257200-1748259000@netherstowey-pc.gov.uk
SUMMARY:Story Time for babies\, toddlers and pre-schoolers
DESCRIPTION:Story Time is a lovely activity for babies and toddlers\, pre-school children\, and their grown-ups. \nHeld every Monday (apart from bank holidays) from 11 to 11.30. Listen to a story then pick an instrument from the music box and join in as we sing nursery rhymes.
URL:https://netherstowey-pc.gov.uk/event/story-time-for-babies-toddlers-and-pre-schoolers/2025-05-26
LOCATION:Thomas Poole Library\, Castle Street\, Nether Stowey\, TA5 1LN
CATEGORIES:Thomas Poole Library
ATTACH;FMTTYPE=image/jpeg:https://netherstowey-pc.gov.uk/wp-content/uploads/2023/10/unfocused-children-paying-attention-their-teacher-scaled.jpg
ORGANIZER;CN="Thomas Poole Library":MAILTO:eventsandpr@thomaspoolelibrary.org.uk
END:VEVENT
BEGIN:VEVENT
DTSTART;TZID=Europe/London:20250523T103000
DTEND;TZID=Europe/London:20250523T120000
DTSTAMP:20260422T033121
CREATED:20250107T114944Z
LAST-MODIFIED:20250107T115122Z
UID:10001547-1747996200-1748001600@netherstowey-pc.gov.uk
SUMMARY:Knit and Natter
DESCRIPTION:A friendly and social group meets every Friday morning from 10.30 to midday. \nAll ages and abilities are welcome. \nBring your own project\, which could be knitting\, sewing\, crocheting\, embroidery etc. or just come for a natter and see what others are working on. \nIt’s a great way to get inspired\, learn new tips and make new friends! \nThere is no charge for the group\, just a donation for tea or coffee.
URL:https://netherstowey-pc.gov.uk/event/knit-and-natter-2/2025-05-23
LOCATION:Thomas Poole Library\, Castle Street\, Nether Stowey\, TA5 1LN
CATEGORIES:Social,Thomas Poole Library
ORGANIZER;CN="Thomas Poole Library":MAILTO:eventsandpr@thomaspoolelibrary.org.uk
END:VEVENT
BEGIN:VEVENT
DTSTART;TZID=Europe/London:20250522T170000
DTEND;TZID=Europe/London:20250522T183000
DTSTAMP:20260422T033121
CREATED:20231019T102344Z
LAST-MODIFIED:20231019T102425Z
UID:10000114-1747933200-1747938600@netherstowey-pc.gov.uk
SUMMARY:Chess Time at the Library
DESCRIPTION:Learn the basics\, discover new moves and have fun!
URL:https://netherstowey-pc.gov.uk/event/chess-time-at-the-library/2025-05-22
LOCATION:Thomas Poole Library\, Castle Street\, Nether Stowey\, TA5 1LN
CATEGORIES:Thomas Poole Library
ORGANIZER;CN="Thomas Poole Library":MAILTO:eventsandpr@thomaspoolelibrary.org.uk
END:VEVENT
BEGIN:VEVENT
DTSTART;TZID=Europe/London:20250519T110000
DTEND;TZID=Europe/London:20250519T113000
DTSTAMP:20260422T033121
CREATED:20231019T120029Z
LAST-MODIFIED:20231019T121833Z
UID:10000637-1747652400-1747654200@netherstowey-pc.gov.uk
SUMMARY:Story Time for babies\, toddlers and pre-schoolers
DESCRIPTION:Story Time is a lovely activity for babies and toddlers\, pre-school children\, and their grown-ups. \nHeld every Monday (apart from bank holidays) from 11 to 11.30. Listen to a story then pick an instrument from the music box and join in as we sing nursery rhymes.
URL:https://netherstowey-pc.gov.uk/event/story-time-for-babies-toddlers-and-pre-schoolers/2025-05-19
LOCATION:Thomas Poole Library\, Castle Street\, Nether Stowey\, TA5 1LN
CATEGORIES:Thomas Poole Library
ATTACH;FMTTYPE=image/jpeg:https://netherstowey-pc.gov.uk/wp-content/uploads/2023/10/unfocused-children-paying-attention-their-teacher-scaled.jpg
ORGANIZER;CN="Thomas Poole Library":MAILTO:eventsandpr@thomaspoolelibrary.org.uk
END:VEVENT
BEGIN:VEVENT
DTSTART;TZID=Europe/London:20250516T103000
DTEND;TZID=Europe/London:20250516T120000
DTSTAMP:20260422T033121
CREATED:20250107T114944Z
LAST-MODIFIED:20250107T115122Z
UID:10001546-1747391400-1747396800@netherstowey-pc.gov.uk
SUMMARY:Knit and Natter
DESCRIPTION:A friendly and social group meets every Friday morning from 10.30 to midday. \nAll ages and abilities are welcome. \nBring your own project\, which could be knitting\, sewing\, crocheting\, embroidery etc. or just come for a natter and see what others are working on. \nIt’s a great way to get inspired\, learn new tips and make new friends! \nThere is no charge for the group\, just a donation for tea or coffee.
URL:https://netherstowey-pc.gov.uk/event/knit-and-natter-2/2025-05-16
LOCATION:Thomas Poole Library\, Castle Street\, Nether Stowey\, TA5 1LN
CATEGORIES:Social,Thomas Poole Library
ORGANIZER;CN="Thomas Poole Library":MAILTO:eventsandpr@thomaspoolelibrary.org.uk
END:VEVENT
END:VCALENDAR