BEGIN:VCALENDAR
VERSION:2.0
PRODID:-//Nether Stowey Parish Council - ECPv6.15.18//NONSGML v1.0//EN
CALSCALE:GREGORIAN
METHOD:PUBLISH
X-WR-CALNAME:Nether Stowey Parish Council
X-ORIGINAL-URL:https://netherstowey-pc.gov.uk
X-WR-CALDESC:Events for Nether Stowey Parish Council
REFRESH-INTERVAL;VALUE=DURATION:PT1H
X-Robots-Tag:noindex
X-PUBLISHED-TTL:PT1H
BEGIN:VTIMEZONE
TZID:Europe/London
BEGIN:DAYLIGHT
TZOFFSETFROM:+0000
TZOFFSETTO:+0100
TZNAME:BST
DTSTART:20240331T010000
END:DAYLIGHT
BEGIN:STANDARD
TZOFFSETFROM:+0100
TZOFFSETTO:+0000
TZNAME:GMT
DTSTART:20241027T010000
END:STANDARD
BEGIN:DAYLIGHT
TZOFFSETFROM:+0000
TZOFFSETTO:+0100
TZNAME:BST
DTSTART:20250330T010000
END:DAYLIGHT
BEGIN:STANDARD
TZOFFSETFROM:+0100
TZOFFSETTO:+0000
TZNAME:GMT
DTSTART:20251026T010000
END:STANDARD
BEGIN:DAYLIGHT
TZOFFSETFROM:+0000
TZOFFSETTO:+0100
TZNAME:BST
DTSTART:20260329T010000
END:DAYLIGHT
BEGIN:STANDARD
TZOFFSETFROM:+0100
TZOFFSETTO:+0000
TZNAME:GMT
DTSTART:20261025T010000
END:STANDARD
END:VTIMEZONE
BEGIN:VEVENT
DTSTART;TZID=Europe/London:20250529T170000
DTEND;TZID=Europe/London:20250529T183000
DTSTAMP:20260423T021533
CREATED:20231019T102344Z
LAST-MODIFIED:20231019T102425Z
UID:10000115-1748538000-1748543400@netherstowey-pc.gov.uk
SUMMARY:Chess Time at the Library
DESCRIPTION:Learn the basics\, discover new moves and have fun!
URL:https://netherstowey-pc.gov.uk/event/chess-time-at-the-library/2025-05-29
LOCATION:Thomas Poole Library\, Castle Street\, Nether Stowey\, TA5 1LN
CATEGORIES:Thomas Poole Library
ORGANIZER;CN="Thomas Poole Library":MAILTO:eventsandpr@thomaspoolelibrary.org.uk
END:VEVENT
BEGIN:VEVENT
DTSTART;TZID=Europe/London:20250526T110000
DTEND;TZID=Europe/London:20250526T113000
DTSTAMP:20260423T021533
CREATED:20231019T120029Z
LAST-MODIFIED:20231019T121833Z
UID:10000638-1748257200-1748259000@netherstowey-pc.gov.uk
SUMMARY:Story Time for babies\, toddlers and pre-schoolers
DESCRIPTION:Story Time is a lovely activity for babies and toddlers\, pre-school children\, and their grown-ups. \nHeld every Monday (apart from bank holidays) from 11 to 11.30. Listen to a story then pick an instrument from the music box and join in as we sing nursery rhymes.
URL:https://netherstowey-pc.gov.uk/event/story-time-for-babies-toddlers-and-pre-schoolers/2025-05-26
LOCATION:Thomas Poole Library\, Castle Street\, Nether Stowey\, TA5 1LN
CATEGORIES:Thomas Poole Library
ATTACH;FMTTYPE=image/jpeg:https://netherstowey-pc.gov.uk/wp-content/uploads/2023/10/unfocused-children-paying-attention-their-teacher-scaled.jpg
ORGANIZER;CN="Thomas Poole Library":MAILTO:eventsandpr@thomaspoolelibrary.org.uk
END:VEVENT
BEGIN:VEVENT
DTSTART;TZID=Europe/London:20250523T103000
DTEND;TZID=Europe/London:20250523T120000
DTSTAMP:20260423T021533
CREATED:20250107T114944Z
LAST-MODIFIED:20250107T115122Z
UID:10001547-1747996200-1748001600@netherstowey-pc.gov.uk
SUMMARY:Knit and Natter
DESCRIPTION:A friendly and social group meets every Friday morning from 10.30 to midday. \nAll ages and abilities are welcome. \nBring your own project\, which could be knitting\, sewing\, crocheting\, embroidery etc. or just come for a natter and see what others are working on. \nIt’s a great way to get inspired\, learn new tips and make new friends! \nThere is no charge for the group\, just a donation for tea or coffee.
URL:https://netherstowey-pc.gov.uk/event/knit-and-natter-2/2025-05-23
LOCATION:Thomas Poole Library\, Castle Street\, Nether Stowey\, TA5 1LN
CATEGORIES:Social,Thomas Poole Library
ORGANIZER;CN="Thomas Poole Library":MAILTO:eventsandpr@thomaspoolelibrary.org.uk
END:VEVENT
BEGIN:VEVENT
DTSTART;TZID=Europe/London:20250522T170000
DTEND;TZID=Europe/London:20250522T183000
DTSTAMP:20260423T021533
CREATED:20231019T102344Z
LAST-MODIFIED:20231019T102425Z
UID:10000114-1747933200-1747938600@netherstowey-pc.gov.uk
SUMMARY:Chess Time at the Library
DESCRIPTION:Learn the basics\, discover new moves and have fun!
URL:https://netherstowey-pc.gov.uk/event/chess-time-at-the-library/2025-05-22
LOCATION:Thomas Poole Library\, Castle Street\, Nether Stowey\, TA5 1LN
CATEGORIES:Thomas Poole Library
ORGANIZER;CN="Thomas Poole Library":MAILTO:eventsandpr@thomaspoolelibrary.org.uk
END:VEVENT
BEGIN:VEVENT
DTSTART;TZID=Europe/London:20250519T110000
DTEND;TZID=Europe/London:20250519T113000
DTSTAMP:20260423T021533
CREATED:20231019T120029Z
LAST-MODIFIED:20231019T121833Z
UID:10000637-1747652400-1747654200@netherstowey-pc.gov.uk
SUMMARY:Story Time for babies\, toddlers and pre-schoolers
DESCRIPTION:Story Time is a lovely activity for babies and toddlers\, pre-school children\, and their grown-ups. \nHeld every Monday (apart from bank holidays) from 11 to 11.30. Listen to a story then pick an instrument from the music box and join in as we sing nursery rhymes.
URL:https://netherstowey-pc.gov.uk/event/story-time-for-babies-toddlers-and-pre-schoolers/2025-05-19
LOCATION:Thomas Poole Library\, Castle Street\, Nether Stowey\, TA5 1LN
CATEGORIES:Thomas Poole Library
ATTACH;FMTTYPE=image/jpeg:https://netherstowey-pc.gov.uk/wp-content/uploads/2023/10/unfocused-children-paying-attention-their-teacher-scaled.jpg
ORGANIZER;CN="Thomas Poole Library":MAILTO:eventsandpr@thomaspoolelibrary.org.uk
END:VEVENT
BEGIN:VEVENT
DTSTART;TZID=Europe/London:20250516T103000
DTEND;TZID=Europe/London:20250516T120000
DTSTAMP:20260423T021533
CREATED:20250107T114944Z
LAST-MODIFIED:20250107T115122Z
UID:10001546-1747391400-1747396800@netherstowey-pc.gov.uk
SUMMARY:Knit and Natter
DESCRIPTION:A friendly and social group meets every Friday morning from 10.30 to midday. \nAll ages and abilities are welcome. \nBring your own project\, which could be knitting\, sewing\, crocheting\, embroidery etc. or just come for a natter and see what others are working on. \nIt’s a great way to get inspired\, learn new tips and make new friends! \nThere is no charge for the group\, just a donation for tea or coffee.
URL:https://netherstowey-pc.gov.uk/event/knit-and-natter-2/2025-05-16
LOCATION:Thomas Poole Library\, Castle Street\, Nether Stowey\, TA5 1LN
CATEGORIES:Social,Thomas Poole Library
ORGANIZER;CN="Thomas Poole Library":MAILTO:eventsandpr@thomaspoolelibrary.org.uk
END:VEVENT
BEGIN:VEVENT
DTSTART;TZID=Europe/London:20250515T193000
DTEND;TZID=Europe/London:20250515T210000
DTSTAMP:20260423T021533
CREATED:20250430T092417Z
LAST-MODIFIED:20250430T093958Z
UID:10001563-1747337400-1747342800@netherstowey-pc.gov.uk
SUMMARY:Stowey Gardeners meeting - talk: The Newt in Somerset
DESCRIPTION:Stowey Gardeners is a vibrant club based in Nether Stowey near Bridgwater in Somerset\, drawing members from all around the Quantock area. \nThey meet monthly in St Mary’s Church Centre\, Nether Stowey to enjoy a guest speaker\, raffle\, garden table\, tea\, coffee and homemade cake and exchange knowledge and information on a huge range of topics. \nThe aim of the club is to offer all gardeners\, whatever their particular enthusiasm\, a chance to get together with other gardeners in the locality\, to their joint advantage and mutual interest. \nThursday 15th May: a talk by Arthur Cole\, Gardener and Head of Programmes at The Newt in Somerset. The Newt in Somerset is a country estate with magnificent woodland and gardens near Bruton.  \nOn the door £5 or Annual membership £25. \nsg newt
URL:https://netherstowey-pc.gov.uk/event/stowey-gardeners-meeting-talk-the-newt-in-somerset
LOCATION:St Mary’s Church Centre\, St Mary Street\, Nether Stowey\, TA5 1LJ\, United Kingdom
CATEGORIES:Stowey Gardeners
ATTACH;FMTTYPE=image/jpeg:https://netherstowey-pc.gov.uk/wp-content/uploads/2023/03/Stowey-Gardeners-logo.jpg
ORGANIZER;CN="Stowey Gardeners":MAILTO:stoweygardeners@yahoo.com
END:VEVENT
BEGIN:VEVENT
DTSTART;TZID=Europe/London:20250515T170000
DTEND;TZID=Europe/London:20250515T183000
DTSTAMP:20260423T021533
CREATED:20231019T102344Z
LAST-MODIFIED:20231019T102425Z
UID:10000113-1747328400-1747333800@netherstowey-pc.gov.uk
SUMMARY:Chess Time at the Library
DESCRIPTION:Learn the basics\, discover new moves and have fun!
URL:https://netherstowey-pc.gov.uk/event/chess-time-at-the-library/2025-05-15
LOCATION:Thomas Poole Library\, Castle Street\, Nether Stowey\, TA5 1LN
CATEGORIES:Thomas Poole Library
ORGANIZER;CN="Thomas Poole Library":MAILTO:eventsandpr@thomaspoolelibrary.org.uk
END:VEVENT
BEGIN:VEVENT
DTSTART;TZID=Europe/London:20250513T140000
DTEND;TZID=Europe/London:20250513T163000
DTSTAMP:20260423T021533
CREATED:20250107T113839Z
LAST-MODIFIED:20250107T114107Z
UID:10001569-1747144800-1747153800@netherstowey-pc.gov.uk
SUMMARY:Nether Stowey & Fiddington WI
DESCRIPTION:The Women’s Institute is somewhere for women of all ages to relax\, have fun and make new friends. \nThey meet at the Church Centre\, Nether Stowey on the second Thursday of the month at 2pm
URL:https://netherstowey-pc.gov.uk/event/nether-stowey-fiddington-wi/2025-05-13
LOCATION:St Mary’s Church Centre\, St Mary Street\, Nether Stowey\, TA5 1LJ\, United Kingdom
CATEGORIES:NSF WI
ATTACH;FMTTYPE=image/jpeg:https://netherstowey-pc.gov.uk/wp-content/uploads/2023/10/WI.jpg
END:VEVENT
BEGIN:VEVENT
DTSTART;TZID=Europe/London:20250512T190000
DTEND;TZID=Europe/London:20250512T190000
DTSTAMP:20260423T021533
CREATED:20240418T143410Z
LAST-MODIFIED:20250709T132932Z
UID:10001407-1747076400-1747076400@netherstowey-pc.gov.uk
SUMMARY:Annual Parish Council Meeting 12 May 2025
DESCRIPTION:This meeting will be held at St Mary’s Church Centre. Members of the public are welcome to attend. The agenda will be available here from the Wednesday afternoon before the meeting and also available in the Parish Office window and on notice boards at The Cross and at Harry Prowse Close and Church View. \nPlanning applications (links open in new tabs on the Somerset Council website): \n\n36/25/00003 – 36 Mill Lane Single storey rear extension and front porch
URL:https://netherstowey-pc.gov.uk/event/parish-council-meeting-18
LOCATION:St Mary’s Church Centre\, St Mary Street\, Nether Stowey\, TA5 1LJ\, United Kingdom
CATEGORIES:Parish Council Meetings
ORGANIZER;CN="Nether Stowey Parish Council":MAILTO:clerk@netherstowey-pc.gov.uk
END:VEVENT
BEGIN:VEVENT
DTSTART;TZID=Europe/London:20250512T110000
DTEND;TZID=Europe/London:20250512T113000
DTSTAMP:20260423T021533
CREATED:20231019T120029Z
LAST-MODIFIED:20231019T121833Z
UID:10000636-1747047600-1747049400@netherstowey-pc.gov.uk
SUMMARY:Story Time for babies\, toddlers and pre-schoolers
DESCRIPTION:Story Time is a lovely activity for babies and toddlers\, pre-school children\, and their grown-ups. \nHeld every Monday (apart from bank holidays) from 11 to 11.30. Listen to a story then pick an instrument from the music box and join in as we sing nursery rhymes.
URL:https://netherstowey-pc.gov.uk/event/story-time-for-babies-toddlers-and-pre-schoolers/2025-05-12
LOCATION:Thomas Poole Library\, Castle Street\, Nether Stowey\, TA5 1LN
CATEGORIES:Thomas Poole Library
ATTACH;FMTTYPE=image/jpeg:https://netherstowey-pc.gov.uk/wp-content/uploads/2023/10/unfocused-children-paying-attention-their-teacher-scaled.jpg
ORGANIZER;CN="Thomas Poole Library":MAILTO:eventsandpr@thomaspoolelibrary.org.uk
END:VEVENT
BEGIN:VEVENT
DTSTART;VALUE=DATE:20250511
DTEND;VALUE=DATE:20250512
DTSTAMP:20260423T021533
CREATED:20250430T093942Z
LAST-MODIFIED:20250430T093942Z
UID:10001564-1746921600-1747007999@netherstowey-pc.gov.uk
SUMMARY:Stowey Gardeners Coach Trip to Malvern Show
DESCRIPTION:Stowey Gardeners invite you for a coach to the Royal Horticultural Society’s Malvern Spring Show. \nSunday 11 May 2025 – pick up from Nether Stowey. \n£25 per person\, guests welcome – cost includes entry fee and transport. \nContact Kate for further details
URL:https://netherstowey-pc.gov.uk/event/stowey-gardeners-coach-trip-to-malvern-show
CATEGORIES:Stowey Gardeners
ATTACH;FMTTYPE=image/jpeg:https://netherstowey-pc.gov.uk/wp-content/uploads/2023/03/Stowey-Gardeners-logo.jpg
ORGANIZER;CN="Stowey Gardeners":MAILTO:stoweygardeners@yahoo.com
END:VEVENT
BEGIN:VEVENT
DTSTART;TZID=Europe/London:20250509T103000
DTEND;TZID=Europe/London:20250509T120000
DTSTAMP:20260423T021533
CREATED:20250107T114944Z
LAST-MODIFIED:20250107T115122Z
UID:10001545-1746786600-1746792000@netherstowey-pc.gov.uk
SUMMARY:Knit and Natter
DESCRIPTION:A friendly and social group meets every Friday morning from 10.30 to midday. \nAll ages and abilities are welcome. \nBring your own project\, which could be knitting\, sewing\, crocheting\, embroidery etc. or just come for a natter and see what others are working on. \nIt’s a great way to get inspired\, learn new tips and make new friends! \nThere is no charge for the group\, just a donation for tea or coffee.
URL:https://netherstowey-pc.gov.uk/event/knit-and-natter-2/2025-05-09
LOCATION:Thomas Poole Library\, Castle Street\, Nether Stowey\, TA5 1LN
CATEGORIES:Social,Thomas Poole Library
ORGANIZER;CN="Thomas Poole Library":MAILTO:eventsandpr@thomaspoolelibrary.org.uk
END:VEVENT
BEGIN:VEVENT
DTSTART;TZID=Europe/London:20250508T170000
DTEND;TZID=Europe/London:20250508T183000
DTSTAMP:20260423T021533
CREATED:20231019T102344Z
LAST-MODIFIED:20231019T102425Z
UID:10000112-1746723600-1746729000@netherstowey-pc.gov.uk
SUMMARY:Chess Time at the Library
DESCRIPTION:Learn the basics\, discover new moves and have fun!
URL:https://netherstowey-pc.gov.uk/event/chess-time-at-the-library/2025-05-08
LOCATION:Thomas Poole Library\, Castle Street\, Nether Stowey\, TA5 1LN
CATEGORIES:Thomas Poole Library
ORGANIZER;CN="Thomas Poole Library":MAILTO:eventsandpr@thomaspoolelibrary.org.uk
END:VEVENT
BEGIN:VEVENT
DTSTART;TZID=Europe/London:20250508T140000
DTEND;TZID=Europe/London:20250508T163000
DTSTAMP:20260423T021533
CREATED:20250429T092952Z
LAST-MODIFIED:20250429T094118Z
UID:10001521-1746712800-1746721800@netherstowey-pc.gov.uk
SUMMARY:Nether Stowey & Fiddington WI
DESCRIPTION:The Women’s Institute is somewhere for women of all ages to relax\, have fun and make new friends. \nThey meet at the Church Centre\, Nether Stowey on the second Thursday of the month at 2pm
URL:https://netherstowey-pc.gov.uk/event/nether-stowey-fiddington-wi-3
LOCATION:St Mary’s Church Centre\, St Mary Street\, Nether Stowey\, TA5 1LJ\, United Kingdom
CATEGORIES:NSF WI
ATTACH;FMTTYPE=image/jpeg:https://netherstowey-pc.gov.uk/wp-content/uploads/2023/10/WI.jpg
END:VEVENT
BEGIN:VEVENT
DTSTART;TZID=Europe/London:20250505T110000
DTEND;TZID=Europe/London:20250505T113000
DTSTAMP:20260423T021533
CREATED:20231019T120029Z
LAST-MODIFIED:20231019T121833Z
UID:10000635-1746442800-1746444600@netherstowey-pc.gov.uk
SUMMARY:Story Time for babies\, toddlers and pre-schoolers
DESCRIPTION:Story Time is a lovely activity for babies and toddlers\, pre-school children\, and their grown-ups. \nHeld every Monday (apart from bank holidays) from 11 to 11.30. Listen to a story then pick an instrument from the music box and join in as we sing nursery rhymes.
URL:https://netherstowey-pc.gov.uk/event/story-time-for-babies-toddlers-and-pre-schoolers/2025-05-05
LOCATION:Thomas Poole Library\, Castle Street\, Nether Stowey\, TA5 1LN
CATEGORIES:Thomas Poole Library
ATTACH;FMTTYPE=image/jpeg:https://netherstowey-pc.gov.uk/wp-content/uploads/2023/10/unfocused-children-paying-attention-their-teacher-scaled.jpg
ORGANIZER;CN="Thomas Poole Library":MAILTO:eventsandpr@thomaspoolelibrary.org.uk
END:VEVENT
BEGIN:VEVENT
DTSTART;TZID=Europe/London:20250502T103000
DTEND;TZID=Europe/London:20250502T120000
DTSTAMP:20260423T021533
CREATED:20250107T114944Z
LAST-MODIFIED:20250107T115122Z
UID:10001544-1746181800-1746187200@netherstowey-pc.gov.uk
SUMMARY:Knit and Natter
DESCRIPTION:A friendly and social group meets every Friday morning from 10.30 to midday. \nAll ages and abilities are welcome. \nBring your own project\, which could be knitting\, sewing\, crocheting\, embroidery etc. or just come for a natter and see what others are working on. \nIt’s a great way to get inspired\, learn new tips and make new friends! \nThere is no charge for the group\, just a donation for tea or coffee.
URL:https://netherstowey-pc.gov.uk/event/knit-and-natter-2/2025-05-02
LOCATION:Thomas Poole Library\, Castle Street\, Nether Stowey\, TA5 1LN
CATEGORIES:Social,Thomas Poole Library
ORGANIZER;CN="Thomas Poole Library":MAILTO:eventsandpr@thomaspoolelibrary.org.uk
END:VEVENT
BEGIN:VEVENT
DTSTART;TZID=Europe/London:20250501T170000
DTEND;TZID=Europe/London:20250501T183000
DTSTAMP:20260423T021533
CREATED:20231019T102344Z
LAST-MODIFIED:20231019T102425Z
UID:10000111-1746118800-1746124200@netherstowey-pc.gov.uk
SUMMARY:Chess Time at the Library
DESCRIPTION:Learn the basics\, discover new moves and have fun!
URL:https://netherstowey-pc.gov.uk/event/chess-time-at-the-library/2025-05-01
LOCATION:Thomas Poole Library\, Castle Street\, Nether Stowey\, TA5 1LN
CATEGORIES:Thomas Poole Library
ORGANIZER;CN="Thomas Poole Library":MAILTO:eventsandpr@thomaspoolelibrary.org.uk
END:VEVENT
BEGIN:VEVENT
DTSTART;TZID=Europe/London:20250428T110000
DTEND;TZID=Europe/London:20250428T113000
DTSTAMP:20260423T021533
CREATED:20231019T120029Z
LAST-MODIFIED:20231019T121833Z
UID:10000634-1745838000-1745839800@netherstowey-pc.gov.uk
SUMMARY:Story Time for babies\, toddlers and pre-schoolers
DESCRIPTION:Story Time is a lovely activity for babies and toddlers\, pre-school children\, and their grown-ups. \nHeld every Monday (apart from bank holidays) from 11 to 11.30. Listen to a story then pick an instrument from the music box and join in as we sing nursery rhymes.
URL:https://netherstowey-pc.gov.uk/event/story-time-for-babies-toddlers-and-pre-schoolers/2025-04-28
LOCATION:Thomas Poole Library\, Castle Street\, Nether Stowey\, TA5 1LN
CATEGORIES:Thomas Poole Library
ATTACH;FMTTYPE=image/jpeg:https://netherstowey-pc.gov.uk/wp-content/uploads/2023/10/unfocused-children-paying-attention-their-teacher-scaled.jpg
ORGANIZER;CN="Thomas Poole Library":MAILTO:eventsandpr@thomaspoolelibrary.org.uk
END:VEVENT
BEGIN:VEVENT
DTSTART;TZID=Europe/London:20250425T103000
DTEND;TZID=Europe/London:20250425T120000
DTSTAMP:20260423T021533
CREATED:20250107T114944Z
LAST-MODIFIED:20250107T115122Z
UID:10001543-1745577000-1745582400@netherstowey-pc.gov.uk
SUMMARY:Knit and Natter
DESCRIPTION:A friendly and social group meets every Friday morning from 10.30 to midday. \nAll ages and abilities are welcome. \nBring your own project\, which could be knitting\, sewing\, crocheting\, embroidery etc. or just come for a natter and see what others are working on. \nIt’s a great way to get inspired\, learn new tips and make new friends! \nThere is no charge for the group\, just a donation for tea or coffee.
URL:https://netherstowey-pc.gov.uk/event/knit-and-natter-2/2025-04-25
LOCATION:Thomas Poole Library\, Castle Street\, Nether Stowey\, TA5 1LN
CATEGORIES:Social,Thomas Poole Library
ORGANIZER;CN="Thomas Poole Library":MAILTO:eventsandpr@thomaspoolelibrary.org.uk
END:VEVENT
BEGIN:VEVENT
DTSTART;TZID=Europe/London:20250424T170000
DTEND;TZID=Europe/London:20250424T183000
DTSTAMP:20260423T021533
CREATED:20231019T102344Z
LAST-MODIFIED:20231019T102425Z
UID:10000110-1745514000-1745519400@netherstowey-pc.gov.uk
SUMMARY:Chess Time at the Library
DESCRIPTION:Learn the basics\, discover new moves and have fun!
URL:https://netherstowey-pc.gov.uk/event/chess-time-at-the-library/2025-04-24
LOCATION:Thomas Poole Library\, Castle Street\, Nether Stowey\, TA5 1LN
CATEGORIES:Thomas Poole Library
ORGANIZER;CN="Thomas Poole Library":MAILTO:eventsandpr@thomaspoolelibrary.org.uk
END:VEVENT
BEGIN:VEVENT
DTSTART;TZID=Europe/London:20250421T110000
DTEND;TZID=Europe/London:20250421T113000
DTSTAMP:20260423T021533
CREATED:20231019T120029Z
LAST-MODIFIED:20231019T121833Z
UID:10000633-1745233200-1745235000@netherstowey-pc.gov.uk
SUMMARY:Story Time for babies\, toddlers and pre-schoolers
DESCRIPTION:Story Time is a lovely activity for babies and toddlers\, pre-school children\, and their grown-ups. \nHeld every Monday (apart from bank holidays) from 11 to 11.30. Listen to a story then pick an instrument from the music box and join in as we sing nursery rhymes.
URL:https://netherstowey-pc.gov.uk/event/story-time-for-babies-toddlers-and-pre-schoolers/2025-04-21
LOCATION:Thomas Poole Library\, Castle Street\, Nether Stowey\, TA5 1LN
CATEGORIES:Thomas Poole Library
ATTACH;FMTTYPE=image/jpeg:https://netherstowey-pc.gov.uk/wp-content/uploads/2023/10/unfocused-children-paying-attention-their-teacher-scaled.jpg
ORGANIZER;CN="Thomas Poole Library":MAILTO:eventsandpr@thomaspoolelibrary.org.uk
END:VEVENT
BEGIN:VEVENT
DTSTART;TZID=Europe/London:20250418T103000
DTEND;TZID=Europe/London:20250418T120000
DTSTAMP:20260423T021533
CREATED:20250107T114944Z
LAST-MODIFIED:20250107T115122Z
UID:10001542-1744972200-1744977600@netherstowey-pc.gov.uk
SUMMARY:Knit and Natter
DESCRIPTION:A friendly and social group meets every Friday morning from 10.30 to midday. \nAll ages and abilities are welcome. \nBring your own project\, which could be knitting\, sewing\, crocheting\, embroidery etc. or just come for a natter and see what others are working on. \nIt’s a great way to get inspired\, learn new tips and make new friends! \nThere is no charge for the group\, just a donation for tea or coffee.
URL:https://netherstowey-pc.gov.uk/event/knit-and-natter-2/2025-04-18
LOCATION:Thomas Poole Library\, Castle Street\, Nether Stowey\, TA5 1LN
CATEGORIES:Social,Thomas Poole Library
ORGANIZER;CN="Thomas Poole Library":MAILTO:eventsandpr@thomaspoolelibrary.org.uk
END:VEVENT
BEGIN:VEVENT
DTSTART;TZID=Europe/London:20250417T170000
DTEND;TZID=Europe/London:20250417T183000
DTSTAMP:20260423T021533
CREATED:20231019T102344Z
LAST-MODIFIED:20231019T102425Z
UID:10000109-1744909200-1744914600@netherstowey-pc.gov.uk
SUMMARY:Chess Time at the Library
DESCRIPTION:Learn the basics\, discover new moves and have fun!
URL:https://netherstowey-pc.gov.uk/event/chess-time-at-the-library/2025-04-17
LOCATION:Thomas Poole Library\, Castle Street\, Nether Stowey\, TA5 1LN
CATEGORIES:Thomas Poole Library
ORGANIZER;CN="Thomas Poole Library":MAILTO:eventsandpr@thomaspoolelibrary.org.uk
END:VEVENT
BEGIN:VEVENT
DTSTART;TZID=Europe/London:20250414T190000
DTEND;TZID=Europe/London:20250414T190000
DTSTAMP:20260423T021533
CREATED:20240418T143326Z
LAST-MODIFIED:20250604T112050Z
UID:10001406-1744657200-1744657200@netherstowey-pc.gov.uk
SUMMARY:Parish Council Meeting
DESCRIPTION:This meeting will be held at St Marys Church Centre. Members of the public are welcome to attend. The agenda will be available here from the Wednesday afternoon before the meeting and also available in the Parish Office window and on notice boards at The Cross and at Harry Prowse Close and Church View.
URL:https://netherstowey-pc.gov.uk/event/parish-council-meeting-17
LOCATION:St Mary’s Church Centre\, St Mary Street\, Nether Stowey\, TA5 1LJ\, United Kingdom
CATEGORIES:Parish Council Meetings
ORGANIZER;CN="Nether Stowey Parish Council":MAILTO:clerk@netherstowey-pc.gov.uk
END:VEVENT
BEGIN:VEVENT
DTSTART;TZID=Europe/London:20250414T110000
DTEND;TZID=Europe/London:20250414T113000
DTSTAMP:20260423T021533
CREATED:20231019T120029Z
LAST-MODIFIED:20231019T121833Z
UID:10000632-1744628400-1744630200@netherstowey-pc.gov.uk
SUMMARY:Story Time for babies\, toddlers and pre-schoolers
DESCRIPTION:Story Time is a lovely activity for babies and toddlers\, pre-school children\, and their grown-ups. \nHeld every Monday (apart from bank holidays) from 11 to 11.30. Listen to a story then pick an instrument from the music box and join in as we sing nursery rhymes.
URL:https://netherstowey-pc.gov.uk/event/story-time-for-babies-toddlers-and-pre-schoolers/2025-04-14
LOCATION:Thomas Poole Library\, Castle Street\, Nether Stowey\, TA5 1LN
CATEGORIES:Thomas Poole Library
ATTACH;FMTTYPE=image/jpeg:https://netherstowey-pc.gov.uk/wp-content/uploads/2023/10/unfocused-children-paying-attention-their-teacher-scaled.jpg
ORGANIZER;CN="Thomas Poole Library":MAILTO:eventsandpr@thomaspoolelibrary.org.uk
END:VEVENT
BEGIN:VEVENT
DTSTART;TZID=Europe/London:20250413T140000
DTEND;TZID=Europe/London:20250413T163000
DTSTAMP:20260423T021533
CREATED:20250107T113839Z
LAST-MODIFIED:20250107T114107Z
UID:10001568-1744552800-1744561800@netherstowey-pc.gov.uk
SUMMARY:Nether Stowey & Fiddington WI
DESCRIPTION:The Women’s Institute is somewhere for women of all ages to relax\, have fun and make new friends. \nThey meet at the Church Centre\, Nether Stowey on the second Thursday of the month at 2pm
URL:https://netherstowey-pc.gov.uk/event/nether-stowey-fiddington-wi/2025-04-13
LOCATION:St Mary’s Church Centre\, St Mary Street\, Nether Stowey\, TA5 1LJ\, United Kingdom
CATEGORIES:NSF WI
ATTACH;FMTTYPE=image/jpeg:https://netherstowey-pc.gov.uk/wp-content/uploads/2023/10/WI.jpg
END:VEVENT
BEGIN:VEVENT
DTSTART;TZID=Europe/London:20250411T103000
DTEND;TZID=Europe/London:20250411T120000
DTSTAMP:20260423T021533
CREATED:20250107T114944Z
LAST-MODIFIED:20250107T115122Z
UID:10001541-1744367400-1744372800@netherstowey-pc.gov.uk
SUMMARY:Knit and Natter
DESCRIPTION:A friendly and social group meets every Friday morning from 10.30 to midday. \nAll ages and abilities are welcome. \nBring your own project\, which could be knitting\, sewing\, crocheting\, embroidery etc. or just come for a natter and see what others are working on. \nIt’s a great way to get inspired\, learn new tips and make new friends! \nThere is no charge for the group\, just a donation for tea or coffee.
URL:https://netherstowey-pc.gov.uk/event/knit-and-natter-2/2025-04-11
LOCATION:Thomas Poole Library\, Castle Street\, Nether Stowey\, TA5 1LN
CATEGORIES:Social,Thomas Poole Library
ORGANIZER;CN="Thomas Poole Library":MAILTO:eventsandpr@thomaspoolelibrary.org.uk
END:VEVENT
BEGIN:VEVENT
DTSTART;TZID=Europe/London:20250410T170000
DTEND;TZID=Europe/London:20250410T183000
DTSTAMP:20260423T021533
CREATED:20231019T102344Z
LAST-MODIFIED:20231019T102425Z
UID:10000108-1744304400-1744309800@netherstowey-pc.gov.uk
SUMMARY:Chess Time at the Library
DESCRIPTION:Learn the basics\, discover new moves and have fun!
URL:https://netherstowey-pc.gov.uk/event/chess-time-at-the-library/2025-04-10
LOCATION:Thomas Poole Library\, Castle Street\, Nether Stowey\, TA5 1LN
CATEGORIES:Thomas Poole Library
ORGANIZER;CN="Thomas Poole Library":MAILTO:eventsandpr@thomaspoolelibrary.org.uk
END:VEVENT
BEGIN:VEVENT
DTSTART;TZID=Europe/London:20250407T110000
DTEND;TZID=Europe/London:20250407T113000
DTSTAMP:20260423T021533
CREATED:20231019T120029Z
LAST-MODIFIED:20231019T121833Z
UID:10000631-1744023600-1744025400@netherstowey-pc.gov.uk
SUMMARY:Story Time for babies\, toddlers and pre-schoolers
DESCRIPTION:Story Time is a lovely activity for babies and toddlers\, pre-school children\, and their grown-ups. \nHeld every Monday (apart from bank holidays) from 11 to 11.30. Listen to a story then pick an instrument from the music box and join in as we sing nursery rhymes.
URL:https://netherstowey-pc.gov.uk/event/story-time-for-babies-toddlers-and-pre-schoolers/2025-04-07
LOCATION:Thomas Poole Library\, Castle Street\, Nether Stowey\, TA5 1LN
CATEGORIES:Thomas Poole Library
ATTACH;FMTTYPE=image/jpeg:https://netherstowey-pc.gov.uk/wp-content/uploads/2023/10/unfocused-children-paying-attention-their-teacher-scaled.jpg
ORGANIZER;CN="Thomas Poole Library":MAILTO:eventsandpr@thomaspoolelibrary.org.uk
END:VEVENT
END:VCALENDAR