BEGIN:VCALENDAR
VERSION:2.0
PRODID:-//Nether Stowey Parish Council - ECPv6.15.18//NONSGML v1.0//EN
CALSCALE:GREGORIAN
METHOD:PUBLISH
X-WR-CALNAME:Nether Stowey Parish Council
X-ORIGINAL-URL:https://netherstowey-pc.gov.uk
X-WR-CALDESC:Events for Nether Stowey Parish Council
REFRESH-INTERVAL;VALUE=DURATION:PT1H
X-Robots-Tag:noindex
X-PUBLISHED-TTL:PT1H
BEGIN:VTIMEZONE
TZID:Europe/London
BEGIN:DAYLIGHT
TZOFFSETFROM:+0000
TZOFFSETTO:+0100
TZNAME:BST
DTSTART:20230326T010000
END:DAYLIGHT
BEGIN:STANDARD
TZOFFSETFROM:+0100
TZOFFSETTO:+0000
TZNAME:GMT
DTSTART:20231029T010000
END:STANDARD
BEGIN:DAYLIGHT
TZOFFSETFROM:+0000
TZOFFSETTO:+0100
TZNAME:BST
DTSTART:20240331T010000
END:DAYLIGHT
BEGIN:STANDARD
TZOFFSETFROM:+0100
TZOFFSETTO:+0000
TZNAME:GMT
DTSTART:20241027T010000
END:STANDARD
BEGIN:DAYLIGHT
TZOFFSETFROM:+0000
TZOFFSETTO:+0100
TZNAME:BST
DTSTART:20250330T010000
END:DAYLIGHT
BEGIN:STANDARD
TZOFFSETFROM:+0100
TZOFFSETTO:+0000
TZNAME:GMT
DTSTART:20251026T010000
END:STANDARD
END:VTIMEZONE
BEGIN:VEVENT
DTSTART;TZID=Europe/London:20241217T093000
DTEND;TZID=Europe/London:20241217T113000
DTSTAMP:20260423T123134
CREATED:20231019T133740Z
LAST-MODIFIED:20231019T133740Z
UID:10001143-1734427800-1734435000@netherstowey-pc.gov.uk
SUMMARY:Nether Stowey Baby and Toddler Group
DESCRIPTION:Nether Stowey Baby and Toddler Group at St Mary Church Centre. \nEvery Tuesday – Term-time only. \nRelaxed and friendly group\, welcoming parents\, carers and their children to meet\, play\, chat and make new friends! \nEveryone welcome. £3 per family. \nFollow on Facebook @netherstoweybabyand toddlers or see their information here. \nContact is Lucy tel 0794 139 3138.
URL:https://netherstowey-pc.gov.uk/event/nether-stowey-baby-and-toddler-group/2024-12-17
LOCATION:St Mary’s Church Centre\, St Mary Street\, Nether Stowey\, TA5 1LJ\, United Kingdom
CATEGORIES:Social
ATTACH;FMTTYPE=image/jpeg:https://netherstowey-pc.gov.uk/wp-content/uploads/2023/10/Toddlers-Poster.jpg
END:VEVENT
BEGIN:VEVENT
DTSTART;TZID=Europe/London:20241216T110000
DTEND;TZID=Europe/London:20241216T113000
DTSTAMP:20260423T123134
CREATED:20231019T120029Z
LAST-MODIFIED:20231019T121833Z
UID:10000615-1734346800-1734348600@netherstowey-pc.gov.uk
SUMMARY:Story Time for babies\, toddlers and pre-schoolers
DESCRIPTION:Story Time is a lovely activity for babies and toddlers\, pre-school children\, and their grown-ups. \nHeld every Monday (apart from bank holidays) from 11 to 11.30. Listen to a story then pick an instrument from the music box and join in as we sing nursery rhymes.
URL:https://netherstowey-pc.gov.uk/event/story-time-for-babies-toddlers-and-pre-schoolers/2024-12-16
LOCATION:Thomas Poole Library\, Castle Street\, Nether Stowey\, TA5 1LN
CATEGORIES:Thomas Poole Library
ATTACH;FMTTYPE=image/jpeg:https://netherstowey-pc.gov.uk/wp-content/uploads/2023/10/unfocused-children-paying-attention-their-teacher-scaled.jpg
ORGANIZER;CN="Thomas Poole Library":MAILTO:eventsandpr@thomaspoolelibrary.org.uk
END:VEVENT
BEGIN:VEVENT
DTSTART;TZID=Europe/London:20241212T170000
DTEND;TZID=Europe/London:20241212T183000
DTSTAMP:20260423T123134
CREATED:20231019T102344Z
LAST-MODIFIED:20231019T102425Z
UID:10000091-1734022800-1734028200@netherstowey-pc.gov.uk
SUMMARY:Chess Time at the Library
DESCRIPTION:Learn the basics\, discover new moves and have fun!
URL:https://netherstowey-pc.gov.uk/event/chess-time-at-the-library/2024-12-12
LOCATION:Thomas Poole Library\, Castle Street\, Nether Stowey\, TA5 1LN
CATEGORIES:Thomas Poole Library
ORGANIZER;CN="Thomas Poole Library":MAILTO:eventsandpr@thomaspoolelibrary.org.uk
END:VEVENT
BEGIN:VEVENT
DTSTART;TZID=Europe/London:20241212T140000
DTEND;TZID=Europe/London:20241212T140000
DTSTAMP:20260423T123134
CREATED:20240710T104756Z
LAST-MODIFIED:20240710T105456Z
UID:10001235-1734012000-1734012000@netherstowey-pc.gov.uk
SUMMARY:Nether Stowey & Fiddington Women’s Institute
DESCRIPTION:The Women’s Institute is somewhere for women of all ages to relax\, have fun and make new friends. \nContact Ann Conway\, 075337 89841
URL:https://netherstowey-pc.gov.uk/event/nether-stowey-fiddington-womens-institute-2/2024-12-12
LOCATION:Thomas Poole Library\, Castle Street\, Nether Stowey\, TA5 1LN
CATEGORIES:NSF WI,Social
ATTACH;FMTTYPE=image/jpeg:https://netherstowey-pc.gov.uk/wp-content/uploads/2023/10/WI.jpg
END:VEVENT
BEGIN:VEVENT
DTSTART;TZID=Europe/London:20241210T143000
DTEND;TZID=Europe/London:20241210T143000
DTSTAMP:20260423T123134
CREATED:20240719T103400Z
LAST-MODIFIED:20240719T103401Z
UID:10001334-1733841000-1733841000@netherstowey-pc.gov.uk
SUMMARY:Stowey Green Spaces meeting
DESCRIPTION:WHERE:\nContact Stowey Green Spaces to find out where they’re meeting today\n\n\n\n\n\nCONTACT:\n\n\n Stowey Green Spaces\n 01278 732574
URL:https://netherstowey-pc.gov.uk/event/stowey-green-spaces-meeting-2/2024-12-10
CATEGORIES:Stowey Green Spaces
ATTACH;FMTTYPE=image/jpeg:https://netherstowey-pc.gov.uk/wp-content/uploads/2023/06/sgs-logo.jpg
END:VEVENT
BEGIN:VEVENT
DTSTART;TZID=Europe/London:20241210T140000
DTEND;TZID=Europe/London:20241210T170000
DTSTAMP:20260423T123134
CREATED:20231019T152442Z
LAST-MODIFIED:20231020T104411Z
UID:10001206-1733839200-1733850000@netherstowey-pc.gov.uk
SUMMARY:Short Mat Bowls Club
DESCRIPTION:Short Mat Bowls Club at the Church Centre\, £3 per session\, contact Kath Roberts tel 732789.
URL:https://netherstowey-pc.gov.uk/event/short-mat-bowls-club/2024-12-10
CATEGORIES:Social
ATTACH;FMTTYPE=image/jpeg:https://netherstowey-pc.gov.uk/wp-content/uploads/2023/10/Bowls.jpg
END:VEVENT
BEGIN:VEVENT
DTSTART;TZID=Europe/London:20241210T093000
DTEND;TZID=Europe/London:20241210T113000
DTSTAMP:20260423T123134
CREATED:20231019T133740Z
LAST-MODIFIED:20231019T133740Z
UID:10001142-1733823000-1733830200@netherstowey-pc.gov.uk
SUMMARY:Nether Stowey Baby and Toddler Group
DESCRIPTION:Nether Stowey Baby and Toddler Group at St Mary Church Centre. \nEvery Tuesday – Term-time only. \nRelaxed and friendly group\, welcoming parents\, carers and their children to meet\, play\, chat and make new friends! \nEveryone welcome. £3 per family. \nFollow on Facebook @netherstoweybabyand toddlers or see their information here. \nContact is Lucy tel 0794 139 3138.
URL:https://netherstowey-pc.gov.uk/event/nether-stowey-baby-and-toddler-group/2024-12-10
LOCATION:St Mary’s Church Centre\, St Mary Street\, Nether Stowey\, TA5 1LJ\, United Kingdom
CATEGORIES:Social
ATTACH;FMTTYPE=image/jpeg:https://netherstowey-pc.gov.uk/wp-content/uploads/2023/10/Toddlers-Poster.jpg
END:VEVENT
BEGIN:VEVENT
DTSTART;TZID=Europe/London:20241209T190000
DTEND;TZID=Europe/London:20241209T190000
DTSTAMP:20260423T123134
CREATED:20240418T142836Z
LAST-MODIFIED:20250206T114059Z
UID:10001402-1733770800-1733770800@netherstowey-pc.gov.uk
SUMMARY:Parish Council Meeting
DESCRIPTION:This meeting will be held at St Mary’s Church Centre. Members of the public are welcome to attend. The agenda will be available here from the Wednesday afternoon before the meeting and also available in the Parish Office window and on notice boards at The Cross\, at Harry Prowse Close and at Church View.
URL:https://netherstowey-pc.gov.uk/event/parish-council-meeting-13
LOCATION:St Mary’s Church Centre\, St Mary Street\, Nether Stowey\, TA5 1LJ\, United Kingdom
CATEGORIES:Parish Council Meetings
ORGANIZER;CN="Nether Stowey Parish Council":MAILTO:clerk@netherstowey-pc.gov.uk
END:VEVENT
BEGIN:VEVENT
DTSTART;TZID=Europe/London:20241209T110000
DTEND;TZID=Europe/London:20241209T113000
DTSTAMP:20260423T123134
CREATED:20231019T120029Z
LAST-MODIFIED:20231019T121833Z
UID:10000614-1733742000-1733743800@netherstowey-pc.gov.uk
SUMMARY:Story Time for babies\, toddlers and pre-schoolers
DESCRIPTION:Story Time is a lovely activity for babies and toddlers\, pre-school children\, and their grown-ups. \nHeld every Monday (apart from bank holidays) from 11 to 11.30. Listen to a story then pick an instrument from the music box and join in as we sing nursery rhymes.
URL:https://netherstowey-pc.gov.uk/event/story-time-for-babies-toddlers-and-pre-schoolers/2024-12-09
LOCATION:Thomas Poole Library\, Castle Street\, Nether Stowey\, TA5 1LN
CATEGORIES:Thomas Poole Library
ATTACH;FMTTYPE=image/jpeg:https://netherstowey-pc.gov.uk/wp-content/uploads/2023/10/unfocused-children-paying-attention-their-teacher-scaled.jpg
ORGANIZER;CN="Thomas Poole Library":MAILTO:eventsandpr@thomaspoolelibrary.org.uk
END:VEVENT
BEGIN:VEVENT
DTSTART;TZID=Europe/London:20241209T100000
DTEND;TZID=Europe/London:20241209T130000
DTSTAMP:20260423T123134
CREATED:20231019T131340Z
LAST-MODIFIED:20231020T103210Z
UID:10001024-1733738400-1733749200@netherstowey-pc.gov.uk
SUMMARY:Quantock Quilters (including Textiles)
DESCRIPTION:Quantock Quilters (including Textiles)\nEvery second and fourth Monday 10am-1pm at St Mary’s Church Centre. \nBeginners welcome. \nMore information from 652307 or 733709 or 671837.
URL:https://netherstowey-pc.gov.uk/event/quantock-quilters-including-textiles/2024-12-09
LOCATION:St Mary’s Church Centre\, St Mary Street\, Nether Stowey\, TA5 1LJ\, United Kingdom
CATEGORIES:Social
END:VEVENT
BEGIN:VEVENT
DTSTART;TZID=Europe/London:20241208T124500
DTEND;TZID=Europe/London:20241208T130000
DTSTAMP:20260423T123134
CREATED:20241111T102908Z
LAST-MODIFIED:20241111T124633Z
UID:10001508-1733661900-1733662800@netherstowey-pc.gov.uk
SUMMARY:Free Community Christmas Lunch
DESCRIPTION:No need to book – come along and enjoy a hot bowl of homemade soup and a roll followed by fruit. All ages welcome. 12.45pm for 1pm
URL:https://netherstowey-pc.gov.uk/event/free-community-christmas-lunch-2
ATTACH;FMTTYPE=image/jpeg:https://images.unsplash.com/photo-1636044994100-5728ed506526?ixid=M3w1MTA1MTZ8MHwxfGFsbHx8fHx8fHx8fDE3MzEzMjA5MTR8&ixlib=rb-4.0.3
ORGANIZER;CN="St Mary's Church":MAILTO:qv.benefice@gmail.com
END:VEVENT
BEGIN:VEVENT
DTSTART;TZID=Europe/London:20241205T170000
DTEND;TZID=Europe/London:20241205T183000
DTSTAMP:20260423T123134
CREATED:20231019T102344Z
LAST-MODIFIED:20231019T102425Z
UID:10000090-1733418000-1733423400@netherstowey-pc.gov.uk
SUMMARY:Chess Time at the Library
DESCRIPTION:Learn the basics\, discover new moves and have fun!
URL:https://netherstowey-pc.gov.uk/event/chess-time-at-the-library/2024-12-05
LOCATION:Thomas Poole Library\, Castle Street\, Nether Stowey\, TA5 1LN
CATEGORIES:Thomas Poole Library
ORGANIZER;CN="Thomas Poole Library":MAILTO:eventsandpr@thomaspoolelibrary.org.uk
END:VEVENT
BEGIN:VEVENT
DTSTART;TZID=Europe/London:20241203T140000
DTEND;TZID=Europe/London:20241203T170000
DTSTAMP:20260423T123134
CREATED:20231019T152442Z
LAST-MODIFIED:20231020T104411Z
UID:10001205-1733234400-1733245200@netherstowey-pc.gov.uk
SUMMARY:Short Mat Bowls Club
DESCRIPTION:Short Mat Bowls Club at the Church Centre\, £3 per session\, contact Kath Roberts tel 732789.
URL:https://netherstowey-pc.gov.uk/event/short-mat-bowls-club/2024-12-03
CATEGORIES:Social
ATTACH;FMTTYPE=image/jpeg:https://netherstowey-pc.gov.uk/wp-content/uploads/2023/10/Bowls.jpg
END:VEVENT
BEGIN:VEVENT
DTSTART;TZID=Europe/London:20241203T093000
DTEND;TZID=Europe/London:20241203T113000
DTSTAMP:20260423T123134
CREATED:20231019T133740Z
LAST-MODIFIED:20231019T133740Z
UID:10001141-1733218200-1733225400@netherstowey-pc.gov.uk
SUMMARY:Nether Stowey Baby and Toddler Group
DESCRIPTION:Nether Stowey Baby and Toddler Group at St Mary Church Centre. \nEvery Tuesday – Term-time only. \nRelaxed and friendly group\, welcoming parents\, carers and their children to meet\, play\, chat and make new friends! \nEveryone welcome. £3 per family. \nFollow on Facebook @netherstoweybabyand toddlers or see their information here. \nContact is Lucy tel 0794 139 3138.
URL:https://netherstowey-pc.gov.uk/event/nether-stowey-baby-and-toddler-group/2024-12-03
LOCATION:St Mary’s Church Centre\, St Mary Street\, Nether Stowey\, TA5 1LJ\, United Kingdom
CATEGORIES:Social
ATTACH;FMTTYPE=image/jpeg:https://netherstowey-pc.gov.uk/wp-content/uploads/2023/10/Toddlers-Poster.jpg
END:VEVENT
BEGIN:VEVENT
DTSTART;TZID=Europe/London:20241202T110000
DTEND;TZID=Europe/London:20241202T113000
DTSTAMP:20260423T123134
CREATED:20231019T120029Z
LAST-MODIFIED:20231019T121833Z
UID:10000613-1733137200-1733139000@netherstowey-pc.gov.uk
SUMMARY:Story Time for babies\, toddlers and pre-schoolers
DESCRIPTION:Story Time is a lovely activity for babies and toddlers\, pre-school children\, and their grown-ups. \nHeld every Monday (apart from bank holidays) from 11 to 11.30. Listen to a story then pick an instrument from the music box and join in as we sing nursery rhymes.
URL:https://netherstowey-pc.gov.uk/event/story-time-for-babies-toddlers-and-pre-schoolers/2024-12-02
LOCATION:Thomas Poole Library\, Castle Street\, Nether Stowey\, TA5 1LN
CATEGORIES:Thomas Poole Library
ATTACH;FMTTYPE=image/jpeg:https://netherstowey-pc.gov.uk/wp-content/uploads/2023/10/unfocused-children-paying-attention-their-teacher-scaled.jpg
ORGANIZER;CN="Thomas Poole Library":MAILTO:eventsandpr@thomaspoolelibrary.org.uk
END:VEVENT
BEGIN:VEVENT
DTSTART;TZID=Europe/London:20241128T170000
DTEND;TZID=Europe/London:20241128T183000
DTSTAMP:20260423T123134
CREATED:20231019T102344Z
LAST-MODIFIED:20231019T102425Z
UID:10000089-1732813200-1732818600@netherstowey-pc.gov.uk
SUMMARY:Chess Time at the Library
DESCRIPTION:Learn the basics\, discover new moves and have fun!
URL:https://netherstowey-pc.gov.uk/event/chess-time-at-the-library/2024-11-28
LOCATION:Thomas Poole Library\, Castle Street\, Nether Stowey\, TA5 1LN
CATEGORIES:Thomas Poole Library
ORGANIZER;CN="Thomas Poole Library":MAILTO:eventsandpr@thomaspoolelibrary.org.uk
END:VEVENT
BEGIN:VEVENT
DTSTART;TZID=Europe/London:20241126T140000
DTEND;TZID=Europe/London:20241126T170000
DTSTAMP:20260423T123134
CREATED:20231019T152442Z
LAST-MODIFIED:20231020T104411Z
UID:10001204-1732629600-1732640400@netherstowey-pc.gov.uk
SUMMARY:Short Mat Bowls Club
DESCRIPTION:Short Mat Bowls Club at the Church Centre\, £3 per session\, contact Kath Roberts tel 732789.
URL:https://netherstowey-pc.gov.uk/event/short-mat-bowls-club/2024-11-26
CATEGORIES:Social
ATTACH;FMTTYPE=image/jpeg:https://netherstowey-pc.gov.uk/wp-content/uploads/2023/10/Bowls.jpg
END:VEVENT
BEGIN:VEVENT
DTSTART;TZID=Europe/London:20241126T093000
DTEND;TZID=Europe/London:20241126T113000
DTSTAMP:20260423T123134
CREATED:20231019T133740Z
LAST-MODIFIED:20231019T133740Z
UID:10001140-1732613400-1732620600@netherstowey-pc.gov.uk
SUMMARY:Nether Stowey Baby and Toddler Group
DESCRIPTION:Nether Stowey Baby and Toddler Group at St Mary Church Centre. \nEvery Tuesday – Term-time only. \nRelaxed and friendly group\, welcoming parents\, carers and their children to meet\, play\, chat and make new friends! \nEveryone welcome. £3 per family. \nFollow on Facebook @netherstoweybabyand toddlers or see their information here. \nContact is Lucy tel 0794 139 3138.
URL:https://netherstowey-pc.gov.uk/event/nether-stowey-baby-and-toddler-group/2024-11-26
LOCATION:St Mary’s Church Centre\, St Mary Street\, Nether Stowey\, TA5 1LJ\, United Kingdom
CATEGORIES:Social
ATTACH;FMTTYPE=image/jpeg:https://netherstowey-pc.gov.uk/wp-content/uploads/2023/10/Toddlers-Poster.jpg
END:VEVENT
BEGIN:VEVENT
DTSTART;TZID=Europe/London:20241125T110000
DTEND;TZID=Europe/London:20241125T113000
DTSTAMP:20260423T123134
CREATED:20231019T120029Z
LAST-MODIFIED:20231019T121833Z
UID:10000612-1732532400-1732534200@netherstowey-pc.gov.uk
SUMMARY:Story Time for babies\, toddlers and pre-schoolers
DESCRIPTION:Story Time is a lovely activity for babies and toddlers\, pre-school children\, and their grown-ups. \nHeld every Monday (apart from bank holidays) from 11 to 11.30. Listen to a story then pick an instrument from the music box and join in as we sing nursery rhymes.
URL:https://netherstowey-pc.gov.uk/event/story-time-for-babies-toddlers-and-pre-schoolers/2024-11-25
LOCATION:Thomas Poole Library\, Castle Street\, Nether Stowey\, TA5 1LN
CATEGORIES:Thomas Poole Library
ATTACH;FMTTYPE=image/jpeg:https://netherstowey-pc.gov.uk/wp-content/uploads/2023/10/unfocused-children-paying-attention-their-teacher-scaled.jpg
ORGANIZER;CN="Thomas Poole Library":MAILTO:eventsandpr@thomaspoolelibrary.org.uk
END:VEVENT
BEGIN:VEVENT
DTSTART;TZID=Europe/London:20241125T100000
DTEND;TZID=Europe/London:20241125T130000
DTSTAMP:20260423T123134
CREATED:20231019T131609Z
LAST-MODIFIED:20231020T102812Z
UID:10001083-1732528800-1732539600@netherstowey-pc.gov.uk
SUMMARY:Quantock Quilters (including Textiles)
DESCRIPTION:Quantock Quilters (including Textiles)\nEvery second and fourth Monday 10am-1pm at St Mary’s Church Centre. \nBeginners welcome. \nMore information from 652307 or 733709 or 671837.
URL:https://netherstowey-pc.gov.uk/event/quantock-quilters-including-textiles-2/2024-11-25
LOCATION:St Mary’s Church Centre\, St Mary Street\, Nether Stowey\, TA5 1LJ\, United Kingdom
CATEGORIES:Social
END:VEVENT
BEGIN:VEVENT
DTSTART;TZID=Europe/London:20241123T223000
DTEND;TZID=Europe/London:20241123T230000
DTSTAMP:20260423T123134
CREATED:20241120T144613Z
LAST-MODIFIED:20241120T144613Z
UID:10001511-1732401000-1732402800@netherstowey-pc.gov.uk
SUMMARY:WARNING OF FIREWORKS AT QUANTOCK LAKES
DESCRIPTION:
URL:https://netherstowey-pc.gov.uk/event/warning-of-fireworks-at-quantock-lakes-3
ORGANIZER;CN="Naomi at Quantock Lakes":MAILTO:naomi.hansford@quantockevents.co.uk
END:VEVENT
BEGIN:VEVENT
DTSTART;TZID=Europe/London:20241121T190000
DTEND;TZID=Europe/London:20241121T190000
DTSTAMP:20260423T123134
CREATED:20240704T131426Z
LAST-MODIFIED:20250107T112603Z
UID:10001379-1732215600-1732215600@netherstowey-pc.gov.uk
SUMMARY:Stowey Gardeners
DESCRIPTION:Stowey Gardeners is a vibrant club based in Nether Stowey near Bridgwater in Somerset\, drawing members from all around the Quantock area. \nThey meet monthly in St Mary’s Church Centre\, Nether Stowey to enjoy a guest speaker\, raffle\, garden table\, tea\, coffee and homemade cake and exchange knowledge and information on a huge range of topics. \nThe aim of the club is to offer all gardeners\, whatever their particular enthusiasm\, a chance to get together with other gardeners in the locality\, to their joint advantage and mutual interest. \nSchedule of speakers and outings for 2024 \nStowey Gardeners 2024
URL:https://netherstowey-pc.gov.uk/event/stowey-gardeners-2/2024-11-21
LOCATION:St Mary’s Church Centre\, St Mary Street\, Nether Stowey\, TA5 1LJ\, United Kingdom
CATEGORIES:Stowey Gardeners
ATTACH;FMTTYPE=image/jpeg:https://netherstowey-pc.gov.uk/wp-content/uploads/2023/03/Stowey-Gardeners-logo.jpg
END:VEVENT
BEGIN:VEVENT
DTSTART;TZID=Europe/London:20241121T170000
DTEND;TZID=Europe/London:20241121T183000
DTSTAMP:20260423T123134
CREATED:20231019T102344Z
LAST-MODIFIED:20231019T102425Z
UID:10000088-1732208400-1732213800@netherstowey-pc.gov.uk
SUMMARY:Chess Time at the Library
DESCRIPTION:Learn the basics\, discover new moves and have fun!
URL:https://netherstowey-pc.gov.uk/event/chess-time-at-the-library/2024-11-21
LOCATION:Thomas Poole Library\, Castle Street\, Nether Stowey\, TA5 1LN
CATEGORIES:Thomas Poole Library
ORGANIZER;CN="Thomas Poole Library":MAILTO:eventsandpr@thomaspoolelibrary.org.uk
END:VEVENT
BEGIN:VEVENT
DTSTART;TZID=Europe/London:20241119T143000
DTEND;TZID=Europe/London:20241119T160000
DTSTAMP:20260423T123134
CREATED:20241030T124015Z
LAST-MODIFIED:20241030T125905Z
UID:10001506-1732026600-1732032000@netherstowey-pc.gov.uk
SUMMARY:Stowey Shuttle Open Meeting and AGM
DESCRIPTION:Stowey Shuttle AGM
URL:https://netherstowey-pc.gov.uk/event/stowey-shuttle-open-meeting-and-agm
LOCATION:Thomas Poole Library\, Castle Street\, Nether Stowey\, TA5 1LN
ATTACH;FMTTYPE=image/jpeg:https://images.unsplash.com/photo-1672245373762-2d8962f25584?ixid=M3w1MTA1MTZ8MHwxfGFsbHx8fHx8fHx8fDE3MzAyOTIyODN8&ixlib=rb-4.0.3
END:VEVENT
BEGIN:VEVENT
DTSTART;TZID=Europe/London:20241119T140000
DTEND;TZID=Europe/London:20241119T170000
DTSTAMP:20260423T123134
CREATED:20231019T152442Z
LAST-MODIFIED:20231020T104411Z
UID:10001203-1732024800-1732035600@netherstowey-pc.gov.uk
SUMMARY:Short Mat Bowls Club
DESCRIPTION:Short Mat Bowls Club at the Church Centre\, £3 per session\, contact Kath Roberts tel 732789.
URL:https://netherstowey-pc.gov.uk/event/short-mat-bowls-club/2024-11-19
CATEGORIES:Social
ATTACH;FMTTYPE=image/jpeg:https://netherstowey-pc.gov.uk/wp-content/uploads/2023/10/Bowls.jpg
END:VEVENT
BEGIN:VEVENT
DTSTART;TZID=Europe/London:20241119T093000
DTEND;TZID=Europe/London:20241119T113000
DTSTAMP:20260423T123134
CREATED:20231019T133740Z
LAST-MODIFIED:20231019T133740Z
UID:10001139-1732008600-1732015800@netherstowey-pc.gov.uk
SUMMARY:Nether Stowey Baby and Toddler Group
DESCRIPTION:Nether Stowey Baby and Toddler Group at St Mary Church Centre. \nEvery Tuesday – Term-time only. \nRelaxed and friendly group\, welcoming parents\, carers and their children to meet\, play\, chat and make new friends! \nEveryone welcome. £3 per family. \nFollow on Facebook @netherstoweybabyand toddlers or see their information here. \nContact is Lucy tel 0794 139 3138.
URL:https://netherstowey-pc.gov.uk/event/nether-stowey-baby-and-toddler-group/2024-11-19
LOCATION:St Mary’s Church Centre\, St Mary Street\, Nether Stowey\, TA5 1LJ\, United Kingdom
CATEGORIES:Social
ATTACH;FMTTYPE=image/jpeg:https://netherstowey-pc.gov.uk/wp-content/uploads/2023/10/Toddlers-Poster.jpg
END:VEVENT
BEGIN:VEVENT
DTSTART;TZID=Europe/London:20241118T110000
DTEND;TZID=Europe/London:20241118T113000
DTSTAMP:20260423T123134
CREATED:20231019T120029Z
LAST-MODIFIED:20231019T121833Z
UID:10000611-1731927600-1731929400@netherstowey-pc.gov.uk
SUMMARY:Story Time for babies\, toddlers and pre-schoolers
DESCRIPTION:Story Time is a lovely activity for babies and toddlers\, pre-school children\, and their grown-ups. \nHeld every Monday (apart from bank holidays) from 11 to 11.30. Listen to a story then pick an instrument from the music box and join in as we sing nursery rhymes.
URL:https://netherstowey-pc.gov.uk/event/story-time-for-babies-toddlers-and-pre-schoolers/2024-11-18
LOCATION:Thomas Poole Library\, Castle Street\, Nether Stowey\, TA5 1LN
CATEGORIES:Thomas Poole Library
ATTACH;FMTTYPE=image/jpeg:https://netherstowey-pc.gov.uk/wp-content/uploads/2023/10/unfocused-children-paying-attention-their-teacher-scaled.jpg
ORGANIZER;CN="Thomas Poole Library":MAILTO:eventsandpr@thomaspoolelibrary.org.uk
END:VEVENT
BEGIN:VEVENT
DTSTART;TZID=Europe/London:20241116T100000
DTEND;TZID=Europe/London:20241116T100000
DTSTAMP:20260423T123134
CREATED:20240719T102949Z
LAST-MODIFIED:20240719T103232Z
UID:10001319-1731751200-1731751200@netherstowey-pc.gov.uk
SUMMARY:Stowey Green Spaces - Litter Pick
DESCRIPTION:WHERE:\nContact Stowey Green Spaces to find out where they’re working today\n\n\n\n\n\nCONTACT:\n\n\n Stowey Green Spaces\n 01278 732574
URL:https://netherstowey-pc.gov.uk/event/stowey-green-spaces-litter-pick-2/2024-11-16
CATEGORIES:Stowey Green Spaces
ATTACH;FMTTYPE=image/jpeg:https://netherstowey-pc.gov.uk/wp-content/uploads/2023/06/sgs-logo.jpg
ORGANIZER;CN="Stowey Green Spaces":MAILTO:stoweygreenspaces@stowey.org.uk
END:VEVENT
BEGIN:VEVENT
DTSTART;TZID=Europe/London:20241114T170000
DTEND;TZID=Europe/London:20241114T183000
DTSTAMP:20260423T123134
CREATED:20231019T102344Z
LAST-MODIFIED:20231019T102425Z
UID:10000087-1731603600-1731609000@netherstowey-pc.gov.uk
SUMMARY:Chess Time at the Library
DESCRIPTION:Learn the basics\, discover new moves and have fun!
URL:https://netherstowey-pc.gov.uk/event/chess-time-at-the-library/2024-11-14
LOCATION:Thomas Poole Library\, Castle Street\, Nether Stowey\, TA5 1LN
CATEGORIES:Thomas Poole Library
ORGANIZER;CN="Thomas Poole Library":MAILTO:eventsandpr@thomaspoolelibrary.org.uk
END:VEVENT
BEGIN:VEVENT
DTSTART;TZID=Europe/London:20241114T140000
DTEND;TZID=Europe/London:20241114T140000
DTSTAMP:20260423T123134
CREATED:20240710T104756Z
LAST-MODIFIED:20240710T105456Z
UID:10001234-1731592800-1731592800@netherstowey-pc.gov.uk
SUMMARY:Nether Stowey & Fiddington Women’s Institute
DESCRIPTION:The Women’s Institute is somewhere for women of all ages to relax\, have fun and make new friends. \nContact Ann Conway\, 075337 89841
URL:https://netherstowey-pc.gov.uk/event/nether-stowey-fiddington-womens-institute-2/2024-11-14
LOCATION:Thomas Poole Library\, Castle Street\, Nether Stowey\, TA5 1LN
CATEGORIES:NSF WI,Social
ATTACH;FMTTYPE=image/jpeg:https://netherstowey-pc.gov.uk/wp-content/uploads/2023/10/WI.jpg
END:VEVENT
END:VCALENDAR