BEGIN:VCALENDAR
VERSION:2.0
PRODID:-//Nether Stowey Parish Council - ECPv6.15.18//NONSGML v1.0//EN
CALSCALE:GREGORIAN
METHOD:PUBLISH
X-WR-CALNAME:Nether Stowey Parish Council
X-ORIGINAL-URL:https://netherstowey-pc.gov.uk
X-WR-CALDESC:Events for Nether Stowey Parish Council
REFRESH-INTERVAL;VALUE=DURATION:PT1H
X-Robots-Tag:noindex
X-PUBLISHED-TTL:PT1H
BEGIN:VTIMEZONE
TZID:Europe/London
BEGIN:DAYLIGHT
TZOFFSETFROM:+0000
TZOFFSETTO:+0100
TZNAME:BST
DTSTART:20230326T010000
END:DAYLIGHT
BEGIN:STANDARD
TZOFFSETFROM:+0100
TZOFFSETTO:+0000
TZNAME:GMT
DTSTART:20231029T010000
END:STANDARD
BEGIN:DAYLIGHT
TZOFFSETFROM:+0000
TZOFFSETTO:+0100
TZNAME:BST
DTSTART:20240331T010000
END:DAYLIGHT
BEGIN:STANDARD
TZOFFSETFROM:+0100
TZOFFSETTO:+0000
TZNAME:GMT
DTSTART:20241027T010000
END:STANDARD
BEGIN:DAYLIGHT
TZOFFSETFROM:+0000
TZOFFSETTO:+0100
TZNAME:BST
DTSTART:20250330T010000
END:DAYLIGHT
BEGIN:STANDARD
TZOFFSETFROM:+0100
TZOFFSETTO:+0000
TZNAME:GMT
DTSTART:20251026T010000
END:STANDARD
END:VTIMEZONE
BEGIN:VEVENT
DTSTART;TZID=Europe/London:20240817T140000
DTEND;TZID=Europe/London:20240817T160000
DTSTAMP:20260423T041636
CREATED:20240704T130626Z
LAST-MODIFIED:20240704T140010Z
UID:10001490-1723903200-1723910400@netherstowey-pc.gov.uk
SUMMARY:NSFC Senior Men's Pre-season 2024
DESCRIPTION:For more information visit their page on this site at Nether Stowey FC or see them at Facebook/Nether Stowey Football Club \nNSFC preseason_0001
URL:https://netherstowey-pc.gov.uk/event/nsfc-senior-mens-pre-season-2024-9
LOCATION:Away – check fixture list
CATEGORIES:NSFC
ATTACH;FMTTYPE=image/jpeg:https://netherstowey-pc.gov.uk/wp-content/uploads/2023/10/NSFC.jpg
ORGANIZER;CN="Steve Easden":MAILTO:easden85ste@mail.com
END:VEVENT
BEGIN:VEVENT
DTSTART;TZID=Europe/London:20240817T100000
DTEND;TZID=Europe/London:20240817T123000
DTSTAMP:20260423T041636
CREATED:20240702T104124Z
LAST-MODIFIED:20240702T104124Z
UID:10001418-1723888800-1723897800@netherstowey-pc.gov.uk
SUMMARY:Dungeons and Dragons
DESCRIPTION:Want to play Dungeons and Dragons?\nIntroductory session at the Thomas Poole Library \nNo experience necessary\, new players welcome!\nAll equipment and instructions provided.
URL:https://netherstowey-pc.gov.uk/event/dungeons-and-dragons-4/2024-08-17
LOCATION:Thomas Poole Library\, Castle Street\, Nether Stowey\, TA5 1LN
CATEGORIES:Thomas Poole Library
ORGANIZER;CN="Thomas Poole Library":MAILTO:eventsandpr@thomaspoolelibrary.org.uk
END:VEVENT
BEGIN:VEVENT
DTSTART;TZID=Europe/London:20240817T100000
DTEND;TZID=Europe/London:20240817T100000
DTSTAMP:20260423T041636
CREATED:20240719T102949Z
LAST-MODIFIED:20240719T103232Z
UID:10001316-1723888800-1723888800@netherstowey-pc.gov.uk
SUMMARY:Stowey Green Spaces - Litter Pick
DESCRIPTION:WHERE:\nContact Stowey Green Spaces to find out where they’re working today\n\n\n\n\n\nCONTACT:\n\n\n Stowey Green Spaces\n 01278 732574
URL:https://netherstowey-pc.gov.uk/event/stowey-green-spaces-litter-pick-2/2024-08-17
CATEGORIES:Stowey Green Spaces
ATTACH;FMTTYPE=image/jpeg:https://netherstowey-pc.gov.uk/wp-content/uploads/2023/06/sgs-logo.jpg
ORGANIZER;CN="Stowey Green Spaces":MAILTO:stoweygreenspaces@stowey.org.uk
END:VEVENT
BEGIN:VEVENT
DTSTART;TZID=Europe/London:20240815T170000
DTEND;TZID=Europe/London:20240815T183000
DTSTAMP:20260423T041636
CREATED:20231019T102344Z
LAST-MODIFIED:20231019T102425Z
UID:10000074-1723741200-1723746600@netherstowey-pc.gov.uk
SUMMARY:Chess Time at the Library
DESCRIPTION:Learn the basics\, discover new moves and have fun!
URL:https://netherstowey-pc.gov.uk/event/chess-time-at-the-library/2024-08-15
LOCATION:Thomas Poole Library\, Castle Street\, Nether Stowey\, TA5 1LN
CATEGORIES:Thomas Poole Library
ORGANIZER;CN="Thomas Poole Library":MAILTO:eventsandpr@thomaspoolelibrary.org.uk
END:VEVENT
BEGIN:VEVENT
DTSTART;TZID=Europe/London:20240814T184500
DTEND;TZID=Europe/London:20240814T204500
DTSTAMP:20260423T041636
CREATED:20240704T130556Z
LAST-MODIFIED:20240704T141652Z
UID:10001489-1723661100-1723668300@netherstowey-pc.gov.uk
SUMMARY:NSFC Senior Men's Pre-season 2024
DESCRIPTION:For more information visit their page on this site at Nether Stowey FC or see them at Facebook/Nether Stowey Football Club \nNSFC preseason_0001
URL:https://netherstowey-pc.gov.uk/event/nsfc-senior-mens-pre-season-2024-8
LOCATION:Nether Stowey Recreation Ground
CATEGORIES:NSFC
ATTACH;FMTTYPE=image/jpeg:https://netherstowey-pc.gov.uk/wp-content/uploads/2023/10/NSFC.jpg
ORGANIZER;CN="Steve Easden":MAILTO:easden85ste@mail.com
END:VEVENT
BEGIN:VEVENT
DTSTART;TZID=Europe/London:20240813T184500
DTEND;TZID=Europe/London:20240813T204500
DTSTAMP:20260423T041636
CREATED:20240704T130532Z
LAST-MODIFIED:20240704T141537Z
UID:10001488-1723574700-1723581900@netherstowey-pc.gov.uk
SUMMARY:NSFC Senior Men's Pre-season 2024
DESCRIPTION:For more information visit their page on this site at Nether Stowey FC or see them at Facebook/Nether Stowey Football Club \nNSFC preseason_0001
URL:https://netherstowey-pc.gov.uk/event/nsfc-senior-mens-pre-season-2024-7
LOCATION:Nether Stowey Recreation Ground
CATEGORIES:NSFC
ATTACH;FMTTYPE=image/jpeg:https://netherstowey-pc.gov.uk/wp-content/uploads/2023/10/NSFC.jpg
ORGANIZER;CN="Steve Easden":MAILTO:easden85ste@mail.com
END:VEVENT
BEGIN:VEVENT
DTSTART;TZID=Europe/London:20240813T143000
DTEND;TZID=Europe/London:20240813T143000
DTSTAMP:20260423T041636
CREATED:20240719T103400Z
LAST-MODIFIED:20240719T103401Z
UID:10001330-1723559400-1723559400@netherstowey-pc.gov.uk
SUMMARY:Stowey Green Spaces meeting
DESCRIPTION:WHERE:\nContact Stowey Green Spaces to find out where they’re meeting today\n\n\n\n\n\nCONTACT:\n\n\n Stowey Green Spaces\n 01278 732574
URL:https://netherstowey-pc.gov.uk/event/stowey-green-spaces-meeting-2/2024-08-13
CATEGORIES:Stowey Green Spaces
ATTACH;FMTTYPE=image/jpeg:https://netherstowey-pc.gov.uk/wp-content/uploads/2023/06/sgs-logo.jpg
END:VEVENT
BEGIN:VEVENT
DTSTART;TZID=Europe/London:20240813T140000
DTEND;TZID=Europe/London:20240813T170000
DTSTAMP:20260423T041636
CREATED:20231019T152442Z
LAST-MODIFIED:20231020T104411Z
UID:10001189-1723557600-1723568400@netherstowey-pc.gov.uk
SUMMARY:Short Mat Bowls Club
DESCRIPTION:Short Mat Bowls Club at the Church Centre\, £3 per session\, contact Kath Roberts tel 732789.
URL:https://netherstowey-pc.gov.uk/event/short-mat-bowls-club/2024-08-13
CATEGORIES:Social
ATTACH;FMTTYPE=image/jpeg:https://netherstowey-pc.gov.uk/wp-content/uploads/2023/10/Bowls.jpg
END:VEVENT
BEGIN:VEVENT
DTSTART;TZID=Europe/London:20240813T093000
DTEND;TZID=Europe/London:20240813T113000
DTSTAMP:20260423T041636
CREATED:20231019T133740Z
LAST-MODIFIED:20231019T133740Z
UID:10001125-1723541400-1723548600@netherstowey-pc.gov.uk
SUMMARY:Nether Stowey Baby and Toddler Group
DESCRIPTION:Nether Stowey Baby and Toddler Group at St Mary Church Centre. \nEvery Tuesday – Term-time only. \nRelaxed and friendly group\, welcoming parents\, carers and their children to meet\, play\, chat and make new friends! \nEveryone welcome. £3 per family. \nFollow on Facebook @netherstoweybabyand toddlers or see their information here. \nContact is Lucy tel 0794 139 3138.
URL:https://netherstowey-pc.gov.uk/event/nether-stowey-baby-and-toddler-group/2024-08-13
LOCATION:St Mary’s Church Centre\, St Mary Street\, Nether Stowey\, TA5 1LJ\, United Kingdom
CATEGORIES:Social
ATTACH;FMTTYPE=image/jpeg:https://netherstowey-pc.gov.uk/wp-content/uploads/2023/10/Toddlers-Poster.jpg
END:VEVENT
BEGIN:VEVENT
DTSTART;TZID=Europe/London:20240812T110000
DTEND;TZID=Europe/London:20240812T113000
DTSTAMP:20260423T041636
CREATED:20231019T120029Z
LAST-MODIFIED:20231019T121833Z
UID:10000597-1723460400-1723462200@netherstowey-pc.gov.uk
SUMMARY:Story Time for babies\, toddlers and pre-schoolers
DESCRIPTION:Story Time is a lovely activity for babies and toddlers\, pre-school children\, and their grown-ups. \nHeld every Monday (apart from bank holidays) from 11 to 11.30. Listen to a story then pick an instrument from the music box and join in as we sing nursery rhymes.
URL:https://netherstowey-pc.gov.uk/event/story-time-for-babies-toddlers-and-pre-schoolers/2024-08-12
LOCATION:Thomas Poole Library\, Castle Street\, Nether Stowey\, TA5 1LN
CATEGORIES:Thomas Poole Library
ATTACH;FMTTYPE=image/jpeg:https://netherstowey-pc.gov.uk/wp-content/uploads/2023/10/unfocused-children-paying-attention-their-teacher-scaled.jpg
ORGANIZER;CN="Thomas Poole Library":MAILTO:eventsandpr@thomaspoolelibrary.org.uk
END:VEVENT
BEGIN:VEVENT
DTSTART;TZID=Europe/London:20240812T100000
DTEND;TZID=Europe/London:20240812T130000
DTSTAMP:20260423T041636
CREATED:20231019T131340Z
LAST-MODIFIED:20231020T103210Z
UID:10001020-1723456800-1723467600@netherstowey-pc.gov.uk
SUMMARY:Quantock Quilters (including Textiles)
DESCRIPTION:Quantock Quilters (including Textiles)\nEvery second and fourth Monday 10am-1pm at St Mary’s Church Centre. \nBeginners welcome. \nMore information from 652307 or 733709 or 671837.
URL:https://netherstowey-pc.gov.uk/event/quantock-quilters-including-textiles/2024-08-12
LOCATION:St Mary’s Church Centre\, St Mary Street\, Nether Stowey\, TA5 1LJ\, United Kingdom
CATEGORIES:Social
END:VEVENT
BEGIN:VEVENT
DTSTART;TZID=Europe/London:20240810T140000
DTEND;TZID=Europe/London:20240810T160000
DTSTAMP:20260423T041636
CREATED:20240704T130443Z
LAST-MODIFIED:20240704T141442Z
UID:10001487-1723298400-1723305600@netherstowey-pc.gov.uk
SUMMARY:NSFC Senior Men's Pre-season 2024
DESCRIPTION:For more information visit their page on this site at Nether Stowey FC or see them at Facebook/Nether Stowey Football Club \nNSFC preseason_0001
URL:https://netherstowey-pc.gov.uk/event/nsfc-senior-mens-pre-season-2024-6
LOCATION:Nether Stowey Recreation Ground
CATEGORIES:NSFC
ATTACH;FMTTYPE=image/jpeg:https://netherstowey-pc.gov.uk/wp-content/uploads/2023/10/NSFC.jpg
ORGANIZER;CN="Steve Easden":MAILTO:easden85ste@mail.com
END:VEVENT
BEGIN:VEVENT
DTSTART;TZID=Europe/London:20240808T184500
DTEND;TZID=Europe/London:20240808T204500
DTSTAMP:20260423T041636
CREATED:20240704T130352Z
LAST-MODIFIED:20240704T132100Z
UID:10001486-1723142700-1723149900@netherstowey-pc.gov.uk
SUMMARY:NSFC Senior Men's Pre-season 2024
DESCRIPTION:For more information visit their page on this site at Nether Stowey FC or see them at Facebook/Nether Stowey Football Club \nNSFC preseason_0001
URL:https://netherstowey-pc.gov.uk/event/nsfc-senior-mens-pre-season-2024-5
LOCATION:Nether Stowey Recreation Ground
CATEGORIES:NSFC
ATTACH;FMTTYPE=image/jpeg:https://netherstowey-pc.gov.uk/wp-content/uploads/2023/10/NSFC.jpg
ORGANIZER;CN="Steve Easden":MAILTO:easden85ste@mail.com
END:VEVENT
BEGIN:VEVENT
DTSTART;TZID=Europe/London:20240808T170000
DTEND;TZID=Europe/London:20240808T183000
DTSTAMP:20260423T041636
CREATED:20231019T102344Z
LAST-MODIFIED:20231019T102425Z
UID:10000073-1723136400-1723141800@netherstowey-pc.gov.uk
SUMMARY:Chess Time at the Library
DESCRIPTION:Learn the basics\, discover new moves and have fun!
URL:https://netherstowey-pc.gov.uk/event/chess-time-at-the-library/2024-08-08
LOCATION:Thomas Poole Library\, Castle Street\, Nether Stowey\, TA5 1LN
CATEGORIES:Thomas Poole Library
ORGANIZER;CN="Thomas Poole Library":MAILTO:eventsandpr@thomaspoolelibrary.org.uk
END:VEVENT
BEGIN:VEVENT
DTSTART;TZID=Europe/London:20240808T140000
DTEND;TZID=Europe/London:20240808T140000
DTSTAMP:20260423T041636
CREATED:20240710T104756Z
LAST-MODIFIED:20240710T105456Z
UID:10001231-1723125600-1723125600@netherstowey-pc.gov.uk
SUMMARY:Nether Stowey & Fiddington Women’s Institute
DESCRIPTION:The Women’s Institute is somewhere for women of all ages to relax\, have fun and make new friends. \nContact Ann Conway\, 075337 89841
URL:https://netherstowey-pc.gov.uk/event/nether-stowey-fiddington-womens-institute-2/2024-08-08
LOCATION:Thomas Poole Library\, Castle Street\, Nether Stowey\, TA5 1LN
CATEGORIES:NSF WI,Social
ATTACH;FMTTYPE=image/jpeg:https://netherstowey-pc.gov.uk/wp-content/uploads/2023/10/WI.jpg
END:VEVENT
BEGIN:VEVENT
DTSTART;TZID=Europe/London:20240807T190000
DTEND;TZID=Europe/London:20240807T213000
DTSTAMP:20260423T041636
CREATED:20240704T125706Z
LAST-MODIFIED:20240704T125706Z
UID:10001482-1723057200-1723066200@netherstowey-pc.gov.uk
SUMMARY:NSFC Senior Men's Pre-season 2024
DESCRIPTION:For more information visit their page on this site at Nether Stowey FC or see them at Facebook/Nether Stowey Football Club \nNSFC preseason_0001
URL:https://netherstowey-pc.gov.uk/event/nsfc-senior-mens-pre-season-2024/2024-08-07
LOCATION:Nether Stowey Recreation Ground
CATEGORIES:NSFC
ATTACH;FMTTYPE=image/jpeg:https://netherstowey-pc.gov.uk/wp-content/uploads/2023/10/NSFC.jpg
ORGANIZER;CN="Steve Easden":MAILTO:easden85ste@mail.com
END:VEVENT
BEGIN:VEVENT
DTSTART;TZID=Europe/London:20240806T140000
DTEND;TZID=Europe/London:20240806T170000
DTSTAMP:20260423T041636
CREATED:20231019T152442Z
LAST-MODIFIED:20231020T104411Z
UID:10001188-1722952800-1722963600@netherstowey-pc.gov.uk
SUMMARY:Short Mat Bowls Club
DESCRIPTION:Short Mat Bowls Club at the Church Centre\, £3 per session\, contact Kath Roberts tel 732789.
URL:https://netherstowey-pc.gov.uk/event/short-mat-bowls-club/2024-08-06
CATEGORIES:Social
ATTACH;FMTTYPE=image/jpeg:https://netherstowey-pc.gov.uk/wp-content/uploads/2023/10/Bowls.jpg
END:VEVENT
BEGIN:VEVENT
DTSTART;TZID=Europe/London:20240806T093000
DTEND;TZID=Europe/London:20240806T113000
DTSTAMP:20260423T041636
CREATED:20231019T133740Z
LAST-MODIFIED:20231019T133740Z
UID:10001124-1722936600-1722943800@netherstowey-pc.gov.uk
SUMMARY:Nether Stowey Baby and Toddler Group
DESCRIPTION:Nether Stowey Baby and Toddler Group at St Mary Church Centre. \nEvery Tuesday – Term-time only. \nRelaxed and friendly group\, welcoming parents\, carers and their children to meet\, play\, chat and make new friends! \nEveryone welcome. £3 per family. \nFollow on Facebook @netherstoweybabyand toddlers or see their information here. \nContact is Lucy tel 0794 139 3138.
URL:https://netherstowey-pc.gov.uk/event/nether-stowey-baby-and-toddler-group/2024-08-06
LOCATION:St Mary’s Church Centre\, St Mary Street\, Nether Stowey\, TA5 1LJ\, United Kingdom
CATEGORIES:Social
ATTACH;FMTTYPE=image/jpeg:https://netherstowey-pc.gov.uk/wp-content/uploads/2023/10/Toddlers-Poster.jpg
END:VEVENT
BEGIN:VEVENT
DTSTART;TZID=Europe/London:20240805T110000
DTEND;TZID=Europe/London:20240805T113000
DTSTAMP:20260423T041636
CREATED:20231019T120029Z
LAST-MODIFIED:20231019T121833Z
UID:10000596-1722855600-1722857400@netherstowey-pc.gov.uk
SUMMARY:Story Time for babies\, toddlers and pre-schoolers
DESCRIPTION:Story Time is a lovely activity for babies and toddlers\, pre-school children\, and their grown-ups. \nHeld every Monday (apart from bank holidays) from 11 to 11.30. Listen to a story then pick an instrument from the music box and join in as we sing nursery rhymes.
URL:https://netherstowey-pc.gov.uk/event/story-time-for-babies-toddlers-and-pre-schoolers/2024-08-05
LOCATION:Thomas Poole Library\, Castle Street\, Nether Stowey\, TA5 1LN
CATEGORIES:Thomas Poole Library
ATTACH;FMTTYPE=image/jpeg:https://netherstowey-pc.gov.uk/wp-content/uploads/2023/10/unfocused-children-paying-attention-their-teacher-scaled.jpg
ORGANIZER;CN="Thomas Poole Library":MAILTO:eventsandpr@thomaspoolelibrary.org.uk
END:VEVENT
BEGIN:VEVENT
DTSTART;TZID=Europe/London:20240804T103000
DTEND;TZID=Europe/London:20240804T123000
DTSTAMP:20260423T041636
CREATED:20240704T130302Z
LAST-MODIFIED:20240704T141351Z
UID:10001485-1722767400-1722774600@netherstowey-pc.gov.uk
SUMMARY:NSFC Senior Men's Pre-season 2024
DESCRIPTION:For more information visit their page on this site at Nether Stowey FC or see them at Facebook/Nether Stowey Football Club \nNSFC preseason_0001
URL:https://netherstowey-pc.gov.uk/event/nsfc-senior-mens-pre-season-2024-4
LOCATION:Nether Stowey Recreation Ground
CATEGORIES:NSFC
ATTACH;FMTTYPE=image/jpeg:https://netherstowey-pc.gov.uk/wp-content/uploads/2023/10/NSFC.jpg
ORGANIZER;CN="Steve Easden":MAILTO:easden85ste@mail.com
END:VEVENT
BEGIN:VEVENT
DTSTART;TZID=Europe/London:20240803T120000
DTEND;TZID=Europe/London:20240803T140000
DTSTAMP:20260423T041636
CREATED:20240704T130228Z
LAST-MODIFIED:20240704T131712Z
UID:10001484-1722686400-1722693600@netherstowey-pc.gov.uk
SUMMARY:NSFC Senior Men's Pre-season 2024
DESCRIPTION:For more information visit their page on this site at Nether Stowey FC or see them at Facebook/Nether Stowey Football Club \nNSFC preseason_0001
URL:https://netherstowey-pc.gov.uk/event/nsfc-senior-mens-pre-season-2024-3
LOCATION:Away – check fixture list
CATEGORIES:NSFC
ATTACH;FMTTYPE=image/jpeg:https://netherstowey-pc.gov.uk/wp-content/uploads/2023/10/NSFC.jpg
ORGANIZER;CN="Steve Easden":MAILTO:easden85ste@mail.com
END:VEVENT
BEGIN:VEVENT
DTSTART;TZID=Europe/London:20240803T100000
DTEND;TZID=Europe/London:20240803T123000
DTSTAMP:20260423T041636
CREATED:20240702T104124Z
LAST-MODIFIED:20240702T104124Z
UID:10001417-1722679200-1722688200@netherstowey-pc.gov.uk
SUMMARY:Dungeons and Dragons
DESCRIPTION:Want to play Dungeons and Dragons?\nIntroductory session at the Thomas Poole Library \nNo experience necessary\, new players welcome!\nAll equipment and instructions provided.
URL:https://netherstowey-pc.gov.uk/event/dungeons-and-dragons-4/2024-08-03
LOCATION:Thomas Poole Library\, Castle Street\, Nether Stowey\, TA5 1LN
CATEGORIES:Thomas Poole Library
ORGANIZER;CN="Thomas Poole Library":MAILTO:eventsandpr@thomaspoolelibrary.org.uk
END:VEVENT
BEGIN:VEVENT
DTSTART;TZID=Europe/London:20240801T170000
DTEND;TZID=Europe/London:20240801T183000
DTSTAMP:20260423T041636
CREATED:20231019T102344Z
LAST-MODIFIED:20231019T102425Z
UID:10000072-1722531600-1722537000@netherstowey-pc.gov.uk
SUMMARY:Chess Time at the Library
DESCRIPTION:Learn the basics\, discover new moves and have fun!
URL:https://netherstowey-pc.gov.uk/event/chess-time-at-the-library/2024-08-01
LOCATION:Thomas Poole Library\, Castle Street\, Nether Stowey\, TA5 1LN
CATEGORIES:Thomas Poole Library
ORGANIZER;CN="Thomas Poole Library":MAILTO:eventsandpr@thomaspoolelibrary.org.uk
END:VEVENT
BEGIN:VEVENT
DTSTART;TZID=Europe/London:20240731T190000
DTEND;TZID=Europe/London:20240731T213000
DTSTAMP:20260423T041636
CREATED:20240704T125706Z
LAST-MODIFIED:20240704T125706Z
UID:10001481-1722452400-1722461400@netherstowey-pc.gov.uk
SUMMARY:NSFC Senior Men's Pre-season 2024
DESCRIPTION:For more information visit their page on this site at Nether Stowey FC or see them at Facebook/Nether Stowey Football Club \nNSFC preseason_0001
URL:https://netherstowey-pc.gov.uk/event/nsfc-senior-mens-pre-season-2024/2024-07-31
LOCATION:Nether Stowey Recreation Ground
CATEGORIES:NSFC
ATTACH;FMTTYPE=image/jpeg:https://netherstowey-pc.gov.uk/wp-content/uploads/2023/10/NSFC.jpg
ORGANIZER;CN="Steve Easden":MAILTO:easden85ste@mail.com
END:VEVENT
BEGIN:VEVENT
DTSTART;TZID=Europe/London:20240730T140000
DTEND;TZID=Europe/London:20240730T170000
DTSTAMP:20260423T041636
CREATED:20231019T152442Z
LAST-MODIFIED:20231020T104411Z
UID:10001187-1722348000-1722358800@netherstowey-pc.gov.uk
SUMMARY:Short Mat Bowls Club
DESCRIPTION:Short Mat Bowls Club at the Church Centre\, £3 per session\, contact Kath Roberts tel 732789.
URL:https://netherstowey-pc.gov.uk/event/short-mat-bowls-club/2024-07-30
CATEGORIES:Social
ATTACH;FMTTYPE=image/jpeg:https://netherstowey-pc.gov.uk/wp-content/uploads/2023/10/Bowls.jpg
END:VEVENT
BEGIN:VEVENT
DTSTART;TZID=Europe/London:20240730T093000
DTEND;TZID=Europe/London:20240730T113000
DTSTAMP:20260423T041636
CREATED:20231019T133740Z
LAST-MODIFIED:20231019T133740Z
UID:10001123-1722331800-1722339000@netherstowey-pc.gov.uk
SUMMARY:Nether Stowey Baby and Toddler Group
DESCRIPTION:Nether Stowey Baby and Toddler Group at St Mary Church Centre. \nEvery Tuesday – Term-time only. \nRelaxed and friendly group\, welcoming parents\, carers and their children to meet\, play\, chat and make new friends! \nEveryone welcome. £3 per family. \nFollow on Facebook @netherstoweybabyand toddlers or see their information here. \nContact is Lucy tel 0794 139 3138.
URL:https://netherstowey-pc.gov.uk/event/nether-stowey-baby-and-toddler-group/2024-07-30
LOCATION:St Mary’s Church Centre\, St Mary Street\, Nether Stowey\, TA5 1LJ\, United Kingdom
CATEGORIES:Social
ATTACH;FMTTYPE=image/jpeg:https://netherstowey-pc.gov.uk/wp-content/uploads/2023/10/Toddlers-Poster.jpg
END:VEVENT
BEGIN:VEVENT
DTSTART;TZID=Europe/London:20240729T110000
DTEND;TZID=Europe/London:20240729T113000
DTSTAMP:20260423T041636
CREATED:20231019T120029Z
LAST-MODIFIED:20231019T121833Z
UID:10000595-1722250800-1722252600@netherstowey-pc.gov.uk
SUMMARY:Story Time for babies\, toddlers and pre-schoolers
DESCRIPTION:Story Time is a lovely activity for babies and toddlers\, pre-school children\, and their grown-ups. \nHeld every Monday (apart from bank holidays) from 11 to 11.30. Listen to a story then pick an instrument from the music box and join in as we sing nursery rhymes.
URL:https://netherstowey-pc.gov.uk/event/story-time-for-babies-toddlers-and-pre-schoolers/2024-07-29
LOCATION:Thomas Poole Library\, Castle Street\, Nether Stowey\, TA5 1LN
CATEGORIES:Thomas Poole Library
ATTACH;FMTTYPE=image/jpeg:https://netherstowey-pc.gov.uk/wp-content/uploads/2023/10/unfocused-children-paying-attention-their-teacher-scaled.jpg
ORGANIZER;CN="Thomas Poole Library":MAILTO:eventsandpr@thomaspoolelibrary.org.uk
END:VEVENT
BEGIN:VEVENT
DTSTART;TZID=Europe/London:20240728T104500
DTEND;TZID=Europe/London:20240728T124500
DTSTAMP:20260423T041636
CREATED:20240704T130043Z
LAST-MODIFIED:20240704T141257Z
UID:10001483-1722163500-1722170700@netherstowey-pc.gov.uk
SUMMARY:NSFC Senior Men's Pre-season 2024
DESCRIPTION:For more information visit their page on this site at Nether Stowey FC or see them at Facebook/Nether Stowey Football Club \nNSFC preseason_0001
URL:https://netherstowey-pc.gov.uk/event/nsfc-senior-mens-pre-season-2024-2
LOCATION:Nether Stowey Recreation Ground
CATEGORIES:NSFC
ATTACH;FMTTYPE=image/jpeg:https://netherstowey-pc.gov.uk/wp-content/uploads/2023/10/NSFC.jpg
ORGANIZER;CN="Steve Easden":MAILTO:easden85ste@mail.com
END:VEVENT
BEGIN:VEVENT
DTSTART;TZID=Europe/London:20240725T170000
DTEND;TZID=Europe/London:20240725T183000
DTSTAMP:20260423T041636
CREATED:20231019T102344Z
LAST-MODIFIED:20231019T102425Z
UID:10000071-1721926800-1721932200@netherstowey-pc.gov.uk
SUMMARY:Chess Time at the Library
DESCRIPTION:Learn the basics\, discover new moves and have fun!
URL:https://netherstowey-pc.gov.uk/event/chess-time-at-the-library/2024-07-25
LOCATION:Thomas Poole Library\, Castle Street\, Nether Stowey\, TA5 1LN
CATEGORIES:Thomas Poole Library
ORGANIZER;CN="Thomas Poole Library":MAILTO:eventsandpr@thomaspoolelibrary.org.uk
END:VEVENT
BEGIN:VEVENT
DTSTART;TZID=Europe/London:20240724T190000
DTEND;TZID=Europe/London:20240724T213000
DTSTAMP:20260423T041636
CREATED:20240704T125706Z
LAST-MODIFIED:20240704T125706Z
UID:10001480-1721847600-1721856600@netherstowey-pc.gov.uk
SUMMARY:NSFC Senior Men's Pre-season 2024
DESCRIPTION:For more information visit their page on this site at Nether Stowey FC or see them at Facebook/Nether Stowey Football Club \nNSFC preseason_0001
URL:https://netherstowey-pc.gov.uk/event/nsfc-senior-mens-pre-season-2024/2024-07-24
LOCATION:Nether Stowey Recreation Ground
CATEGORIES:NSFC
ATTACH;FMTTYPE=image/jpeg:https://netherstowey-pc.gov.uk/wp-content/uploads/2023/10/NSFC.jpg
ORGANIZER;CN="Steve Easden":MAILTO:easden85ste@mail.com
END:VEVENT
END:VCALENDAR