BEGIN:VCALENDAR
VERSION:2.0
PRODID:-//Nether Stowey Parish Council - ECPv6.15.18//NONSGML v1.0//EN
CALSCALE:GREGORIAN
METHOD:PUBLISH
X-WR-CALNAME:Nether Stowey Parish Council
X-ORIGINAL-URL:https://netherstowey-pc.gov.uk
X-WR-CALDESC:Events for Nether Stowey Parish Council
REFRESH-INTERVAL;VALUE=DURATION:PT1H
X-Robots-Tag:noindex
X-PUBLISHED-TTL:PT1H
BEGIN:VTIMEZONE
TZID:Europe/London
BEGIN:DAYLIGHT
TZOFFSETFROM:+0000
TZOFFSETTO:+0100
TZNAME:BST
DTSTART:20230326T010000
END:DAYLIGHT
BEGIN:STANDARD
TZOFFSETFROM:+0100
TZOFFSETTO:+0000
TZNAME:GMT
DTSTART:20231029T010000
END:STANDARD
BEGIN:DAYLIGHT
TZOFFSETFROM:+0000
TZOFFSETTO:+0100
TZNAME:BST
DTSTART:20240331T010000
END:DAYLIGHT
BEGIN:STANDARD
TZOFFSETFROM:+0100
TZOFFSETTO:+0000
TZNAME:GMT
DTSTART:20241027T010000
END:STANDARD
BEGIN:DAYLIGHT
TZOFFSETFROM:+0000
TZOFFSETTO:+0100
TZNAME:BST
DTSTART:20250330T010000
END:DAYLIGHT
BEGIN:STANDARD
TZOFFSETFROM:+0100
TZOFFSETTO:+0000
TZNAME:GMT
DTSTART:20251026T010000
END:STANDARD
END:VTIMEZONE
BEGIN:VEVENT
DTSTART;TZID=Europe/London:20240730T140000
DTEND;TZID=Europe/London:20240730T170000
DTSTAMP:20260423T065044
CREATED:20231019T152442Z
LAST-MODIFIED:20231020T104411Z
UID:10001187-1722348000-1722358800@netherstowey-pc.gov.uk
SUMMARY:Short Mat Bowls Club
DESCRIPTION:Short Mat Bowls Club at the Church Centre\, £3 per session\, contact Kath Roberts tel 732789.
URL:https://netherstowey-pc.gov.uk/event/short-mat-bowls-club/2024-07-30
CATEGORIES:Social
ATTACH;FMTTYPE=image/jpeg:https://netherstowey-pc.gov.uk/wp-content/uploads/2023/10/Bowls.jpg
END:VEVENT
BEGIN:VEVENT
DTSTART;TZID=Europe/London:20240730T093000
DTEND;TZID=Europe/London:20240730T113000
DTSTAMP:20260423T065044
CREATED:20231019T133740Z
LAST-MODIFIED:20231019T133740Z
UID:10001123-1722331800-1722339000@netherstowey-pc.gov.uk
SUMMARY:Nether Stowey Baby and Toddler Group
DESCRIPTION:Nether Stowey Baby and Toddler Group at St Mary Church Centre. \nEvery Tuesday – Term-time only. \nRelaxed and friendly group\, welcoming parents\, carers and their children to meet\, play\, chat and make new friends! \nEveryone welcome. £3 per family. \nFollow on Facebook @netherstoweybabyand toddlers or see their information here. \nContact is Lucy tel 0794 139 3138.
URL:https://netherstowey-pc.gov.uk/event/nether-stowey-baby-and-toddler-group/2024-07-30
LOCATION:St Mary’s Church Centre\, St Mary Street\, Nether Stowey\, TA5 1LJ\, United Kingdom
CATEGORIES:Social
ATTACH;FMTTYPE=image/jpeg:https://netherstowey-pc.gov.uk/wp-content/uploads/2023/10/Toddlers-Poster.jpg
END:VEVENT
BEGIN:VEVENT
DTSTART;TZID=Europe/London:20240729T110000
DTEND;TZID=Europe/London:20240729T113000
DTSTAMP:20260423T065044
CREATED:20231019T120029Z
LAST-MODIFIED:20231019T121833Z
UID:10000595-1722250800-1722252600@netherstowey-pc.gov.uk
SUMMARY:Story Time for babies\, toddlers and pre-schoolers
DESCRIPTION:Story Time is a lovely activity for babies and toddlers\, pre-school children\, and their grown-ups. \nHeld every Monday (apart from bank holidays) from 11 to 11.30. Listen to a story then pick an instrument from the music box and join in as we sing nursery rhymes.
URL:https://netherstowey-pc.gov.uk/event/story-time-for-babies-toddlers-and-pre-schoolers/2024-07-29
LOCATION:Thomas Poole Library\, Castle Street\, Nether Stowey\, TA5 1LN
CATEGORIES:Thomas Poole Library
ATTACH;FMTTYPE=image/jpeg:https://netherstowey-pc.gov.uk/wp-content/uploads/2023/10/unfocused-children-paying-attention-their-teacher-scaled.jpg
ORGANIZER;CN="Thomas Poole Library":MAILTO:eventsandpr@thomaspoolelibrary.org.uk
END:VEVENT
BEGIN:VEVENT
DTSTART;TZID=Europe/London:20240728T104500
DTEND;TZID=Europe/London:20240728T124500
DTSTAMP:20260423T065044
CREATED:20240704T130043Z
LAST-MODIFIED:20240704T141257Z
UID:10001483-1722163500-1722170700@netherstowey-pc.gov.uk
SUMMARY:NSFC Senior Men's Pre-season 2024
DESCRIPTION:For more information visit their page on this site at Nether Stowey FC or see them at Facebook/Nether Stowey Football Club \nNSFC preseason_0001
URL:https://netherstowey-pc.gov.uk/event/nsfc-senior-mens-pre-season-2024-2
LOCATION:Nether Stowey Recreation Ground
CATEGORIES:NSFC
ATTACH;FMTTYPE=image/jpeg:https://netherstowey-pc.gov.uk/wp-content/uploads/2023/10/NSFC.jpg
ORGANIZER;CN="Steve Easden":MAILTO:easden85ste@mail.com
END:VEVENT
BEGIN:VEVENT
DTSTART;TZID=Europe/London:20240725T170000
DTEND;TZID=Europe/London:20240725T183000
DTSTAMP:20260423T065044
CREATED:20231019T102344Z
LAST-MODIFIED:20231019T102425Z
UID:10000071-1721926800-1721932200@netherstowey-pc.gov.uk
SUMMARY:Chess Time at the Library
DESCRIPTION:Learn the basics\, discover new moves and have fun!
URL:https://netherstowey-pc.gov.uk/event/chess-time-at-the-library/2024-07-25
LOCATION:Thomas Poole Library\, Castle Street\, Nether Stowey\, TA5 1LN
CATEGORIES:Thomas Poole Library
ORGANIZER;CN="Thomas Poole Library":MAILTO:eventsandpr@thomaspoolelibrary.org.uk
END:VEVENT
BEGIN:VEVENT
DTSTART;TZID=Europe/London:20240724T190000
DTEND;TZID=Europe/London:20240724T213000
DTSTAMP:20260423T065044
CREATED:20240704T125706Z
LAST-MODIFIED:20240704T125706Z
UID:10001480-1721847600-1721856600@netherstowey-pc.gov.uk
SUMMARY:NSFC Senior Men's Pre-season 2024
DESCRIPTION:For more information visit their page on this site at Nether Stowey FC or see them at Facebook/Nether Stowey Football Club \nNSFC preseason_0001
URL:https://netherstowey-pc.gov.uk/event/nsfc-senior-mens-pre-season-2024/2024-07-24
LOCATION:Nether Stowey Recreation Ground
CATEGORIES:NSFC
ATTACH;FMTTYPE=image/jpeg:https://netherstowey-pc.gov.uk/wp-content/uploads/2023/10/NSFC.jpg
ORGANIZER;CN="Steve Easden":MAILTO:easden85ste@mail.com
END:VEVENT
BEGIN:VEVENT
DTSTART;TZID=Europe/London:20240723T140000
DTEND;TZID=Europe/London:20240723T170000
DTSTAMP:20260423T065044
CREATED:20231019T152442Z
LAST-MODIFIED:20231020T104411Z
UID:10001186-1721743200-1721754000@netherstowey-pc.gov.uk
SUMMARY:Short Mat Bowls Club
DESCRIPTION:Short Mat Bowls Club at the Church Centre\, £3 per session\, contact Kath Roberts tel 732789.
URL:https://netherstowey-pc.gov.uk/event/short-mat-bowls-club/2024-07-23
CATEGORIES:Social
ATTACH;FMTTYPE=image/jpeg:https://netherstowey-pc.gov.uk/wp-content/uploads/2023/10/Bowls.jpg
END:VEVENT
BEGIN:VEVENT
DTSTART;TZID=Europe/London:20240723T093000
DTEND;TZID=Europe/London:20240723T113000
DTSTAMP:20260423T065044
CREATED:20231019T133740Z
LAST-MODIFIED:20231019T133740Z
UID:10001122-1721727000-1721734200@netherstowey-pc.gov.uk
SUMMARY:Nether Stowey Baby and Toddler Group
DESCRIPTION:Nether Stowey Baby and Toddler Group at St Mary Church Centre. \nEvery Tuesday – Term-time only. \nRelaxed and friendly group\, welcoming parents\, carers and their children to meet\, play\, chat and make new friends! \nEveryone welcome. £3 per family. \nFollow on Facebook @netherstoweybabyand toddlers or see their information here. \nContact is Lucy tel 0794 139 3138.
URL:https://netherstowey-pc.gov.uk/event/nether-stowey-baby-and-toddler-group/2024-07-23
LOCATION:St Mary’s Church Centre\, St Mary Street\, Nether Stowey\, TA5 1LJ\, United Kingdom
CATEGORIES:Social
ATTACH;FMTTYPE=image/jpeg:https://netherstowey-pc.gov.uk/wp-content/uploads/2023/10/Toddlers-Poster.jpg
END:VEVENT
BEGIN:VEVENT
DTSTART;TZID=Europe/London:20240722T110000
DTEND;TZID=Europe/London:20240722T113000
DTSTAMP:20260423T065044
CREATED:20231019T120029Z
LAST-MODIFIED:20231019T121833Z
UID:10000594-1721646000-1721647800@netherstowey-pc.gov.uk
SUMMARY:Story Time for babies\, toddlers and pre-schoolers
DESCRIPTION:Story Time is a lovely activity for babies and toddlers\, pre-school children\, and their grown-ups. \nHeld every Monday (apart from bank holidays) from 11 to 11.30. Listen to a story then pick an instrument from the music box and join in as we sing nursery rhymes.
URL:https://netherstowey-pc.gov.uk/event/story-time-for-babies-toddlers-and-pre-schoolers/2024-07-22
LOCATION:Thomas Poole Library\, Castle Street\, Nether Stowey\, TA5 1LN
CATEGORIES:Thomas Poole Library
ATTACH;FMTTYPE=image/jpeg:https://netherstowey-pc.gov.uk/wp-content/uploads/2023/10/unfocused-children-paying-attention-their-teacher-scaled.jpg
ORGANIZER;CN="Thomas Poole Library":MAILTO:eventsandpr@thomaspoolelibrary.org.uk
END:VEVENT
BEGIN:VEVENT
DTSTART;TZID=Europe/London:20240722T100000
DTEND;TZID=Europe/London:20240722T130000
DTSTAMP:20260423T065044
CREATED:20231019T131609Z
LAST-MODIFIED:20231020T102812Z
UID:10001079-1721642400-1721653200@netherstowey-pc.gov.uk
SUMMARY:Quantock Quilters (including Textiles)
DESCRIPTION:Quantock Quilters (including Textiles)\nEvery second and fourth Monday 10am-1pm at St Mary’s Church Centre. \nBeginners welcome. \nMore information from 652307 or 733709 or 671837.
URL:https://netherstowey-pc.gov.uk/event/quantock-quilters-including-textiles-2/2024-07-22
LOCATION:St Mary’s Church Centre\, St Mary Street\, Nether Stowey\, TA5 1LJ\, United Kingdom
CATEGORIES:Social
END:VEVENT
BEGIN:VEVENT
DTSTART;TZID=Europe/London:20240720T100000
DTEND;TZID=Europe/London:20240720T123000
DTSTAMP:20260423T065044
CREATED:20240702T104124Z
LAST-MODIFIED:20240702T104124Z
UID:10001416-1721469600-1721478600@netherstowey-pc.gov.uk
SUMMARY:Dungeons and Dragons
DESCRIPTION:Want to play Dungeons and Dragons?\nIntroductory session at the Thomas Poole Library \nNo experience necessary\, new players welcome!\nAll equipment and instructions provided.
URL:https://netherstowey-pc.gov.uk/event/dungeons-and-dragons-4/2024-07-20
LOCATION:Thomas Poole Library\, Castle Street\, Nether Stowey\, TA5 1LN
CATEGORIES:Thomas Poole Library
ORGANIZER;CN="Thomas Poole Library":MAILTO:eventsandpr@thomaspoolelibrary.org.uk
END:VEVENT
BEGIN:VEVENT
DTSTART;TZID=Europe/London:20240720T100000
DTEND;TZID=Europe/London:20240720T100000
DTSTAMP:20260423T065044
CREATED:20240719T102949Z
LAST-MODIFIED:20240719T103232Z
UID:10001315-1721469600-1721469600@netherstowey-pc.gov.uk
SUMMARY:Stowey Green Spaces - Litter Pick
DESCRIPTION:WHERE:\nContact Stowey Green Spaces to find out where they’re working today\n\n\n\n\n\nCONTACT:\n\n\n Stowey Green Spaces\n 01278 732574
URL:https://netherstowey-pc.gov.uk/event/stowey-green-spaces-litter-pick-2/2024-07-20
CATEGORIES:Stowey Green Spaces
ATTACH;FMTTYPE=image/jpeg:https://netherstowey-pc.gov.uk/wp-content/uploads/2023/06/sgs-logo.jpg
ORGANIZER;CN="Stowey Green Spaces":MAILTO:stoweygreenspaces@stowey.org.uk
END:VEVENT
BEGIN:VEVENT
DTSTART;TZID=Europe/London:20240718T190000
DTEND;TZID=Europe/London:20240718T190000
DTSTAMP:20260423T065044
CREATED:20240704T131426Z
LAST-MODIFIED:20250107T112603Z
UID:10001376-1721329200-1721329200@netherstowey-pc.gov.uk
SUMMARY:Stowey Gardeners
DESCRIPTION:Stowey Gardeners is a vibrant club based in Nether Stowey near Bridgwater in Somerset\, drawing members from all around the Quantock area. \nThey meet monthly in St Mary’s Church Centre\, Nether Stowey to enjoy a guest speaker\, raffle\, garden table\, tea\, coffee and homemade cake and exchange knowledge and information on a huge range of topics. \nThe aim of the club is to offer all gardeners\, whatever their particular enthusiasm\, a chance to get together with other gardeners in the locality\, to their joint advantage and mutual interest. \nSchedule of speakers and outings for 2024 \nStowey Gardeners 2024
URL:https://netherstowey-pc.gov.uk/event/stowey-gardeners-2/2024-07-18
LOCATION:St Mary’s Church Centre\, St Mary Street\, Nether Stowey\, TA5 1LJ\, United Kingdom
CATEGORIES:Stowey Gardeners
ATTACH;FMTTYPE=image/jpeg:https://netherstowey-pc.gov.uk/wp-content/uploads/2023/03/Stowey-Gardeners-logo.jpg
END:VEVENT
BEGIN:VEVENT
DTSTART;TZID=Europe/London:20240718T170000
DTEND;TZID=Europe/London:20240718T183000
DTSTAMP:20260423T065044
CREATED:20231019T102344Z
LAST-MODIFIED:20231019T102425Z
UID:10000070-1721322000-1721327400@netherstowey-pc.gov.uk
SUMMARY:Chess Time at the Library
DESCRIPTION:Learn the basics\, discover new moves and have fun!
URL:https://netherstowey-pc.gov.uk/event/chess-time-at-the-library/2024-07-18
LOCATION:Thomas Poole Library\, Castle Street\, Nether Stowey\, TA5 1LN
CATEGORIES:Thomas Poole Library
ORGANIZER;CN="Thomas Poole Library":MAILTO:eventsandpr@thomaspoolelibrary.org.uk
END:VEVENT
BEGIN:VEVENT
DTSTART;TZID=Europe/London:20240717T190000
DTEND;TZID=Europe/London:20240717T213000
DTSTAMP:20260423T065044
CREATED:20240704T125706Z
LAST-MODIFIED:20240704T125706Z
UID:10001479-1721242800-1721251800@netherstowey-pc.gov.uk
SUMMARY:NSFC Senior Men's Pre-season 2024
DESCRIPTION:For more information visit their page on this site at Nether Stowey FC or see them at Facebook/Nether Stowey Football Club \nNSFC preseason_0001
URL:https://netherstowey-pc.gov.uk/event/nsfc-senior-mens-pre-season-2024/2024-07-17
LOCATION:Nether Stowey Recreation Ground
CATEGORIES:NSFC
ATTACH;FMTTYPE=image/jpeg:https://netherstowey-pc.gov.uk/wp-content/uploads/2023/10/NSFC.jpg
ORGANIZER;CN="Steve Easden":MAILTO:easden85ste@mail.com
END:VEVENT
BEGIN:VEVENT
DTSTART;TZID=Europe/London:20240716T191500
DTEND;TZID=Europe/London:20240716T211500
DTSTAMP:20260423T065044
CREATED:20240627T142011Z
LAST-MODIFIED:20240627T142646Z
UID:10001413-1721157300-1721164500@netherstowey-pc.gov.uk
SUMMARY:Nether Stowey Football Club Annual General Meeting
DESCRIPTION:Everyone welcome\, come and get involved in the future of NSFC!\nWe are actively looking to recruit volunteers to help progress and develop the Club further. \n7.15pm for a 7.30pm start at the NSFC Portakabin on the Recreation Ground\n#upthestowey \nNSFC AGM
URL:https://netherstowey-pc.gov.uk/event/nether-stowey-football-club-annual-general-meeting
LOCATION:Nether Stowey Recreation Ground
CATEGORIES:NSFC
ATTACH;FMTTYPE=image/jpeg:https://netherstowey-pc.gov.uk/wp-content/uploads/2023/10/NSFC.jpg
ORGANIZER;CN="Steve Easden":MAILTO:easden85ste@mail.com
END:VEVENT
BEGIN:VEVENT
DTSTART;TZID=Europe/London:20240716T140000
DTEND;TZID=Europe/London:20240716T170000
DTSTAMP:20260423T065044
CREATED:20231019T152442Z
LAST-MODIFIED:20231020T104411Z
UID:10001185-1721138400-1721149200@netherstowey-pc.gov.uk
SUMMARY:Short Mat Bowls Club
DESCRIPTION:Short Mat Bowls Club at the Church Centre\, £3 per session\, contact Kath Roberts tel 732789.
URL:https://netherstowey-pc.gov.uk/event/short-mat-bowls-club/2024-07-16
CATEGORIES:Social
ATTACH;FMTTYPE=image/jpeg:https://netherstowey-pc.gov.uk/wp-content/uploads/2023/10/Bowls.jpg
END:VEVENT
BEGIN:VEVENT
DTSTART;TZID=Europe/London:20240716T093000
DTEND;TZID=Europe/London:20240716T113000
DTSTAMP:20260423T065044
CREATED:20231019T133740Z
LAST-MODIFIED:20231019T133740Z
UID:10001121-1721122200-1721129400@netherstowey-pc.gov.uk
SUMMARY:Nether Stowey Baby and Toddler Group
DESCRIPTION:Nether Stowey Baby and Toddler Group at St Mary Church Centre. \nEvery Tuesday – Term-time only. \nRelaxed and friendly group\, welcoming parents\, carers and their children to meet\, play\, chat and make new friends! \nEveryone welcome. £3 per family. \nFollow on Facebook @netherstoweybabyand toddlers or see their information here. \nContact is Lucy tel 0794 139 3138.
URL:https://netherstowey-pc.gov.uk/event/nether-stowey-baby-and-toddler-group/2024-07-16
LOCATION:St Mary’s Church Centre\, St Mary Street\, Nether Stowey\, TA5 1LJ\, United Kingdom
CATEGORIES:Social
ATTACH;FMTTYPE=image/jpeg:https://netherstowey-pc.gov.uk/wp-content/uploads/2023/10/Toddlers-Poster.jpg
END:VEVENT
BEGIN:VEVENT
DTSTART;TZID=Europe/London:20240715T110000
DTEND;TZID=Europe/London:20240715T113000
DTSTAMP:20260423T065044
CREATED:20231019T120029Z
LAST-MODIFIED:20231019T121833Z
UID:10000593-1721041200-1721043000@netherstowey-pc.gov.uk
SUMMARY:Story Time for babies\, toddlers and pre-schoolers
DESCRIPTION:Story Time is a lovely activity for babies and toddlers\, pre-school children\, and their grown-ups. \nHeld every Monday (apart from bank holidays) from 11 to 11.30. Listen to a story then pick an instrument from the music box and join in as we sing nursery rhymes.
URL:https://netherstowey-pc.gov.uk/event/story-time-for-babies-toddlers-and-pre-schoolers/2024-07-15
LOCATION:Thomas Poole Library\, Castle Street\, Nether Stowey\, TA5 1LN
CATEGORIES:Thomas Poole Library
ATTACH;FMTTYPE=image/jpeg:https://netherstowey-pc.gov.uk/wp-content/uploads/2023/10/unfocused-children-paying-attention-their-teacher-scaled.jpg
ORGANIZER;CN="Thomas Poole Library":MAILTO:eventsandpr@thomaspoolelibrary.org.uk
END:VEVENT
BEGIN:VEVENT
DTSTART;TZID=Europe/London:20240713T140000
DTEND;TZID=Europe/London:20240713T170000
DTSTAMP:20260423T065044
CREATED:20240701T095606Z
LAST-MODIFIED:20240701T120036Z
UID:10001414-1720879200-1720890000@netherstowey-pc.gov.uk
SUMMARY:Tom Poole and Tom Wedgwood in the Quantocks and the Alps
DESCRIPTION:A talk at the library by Prof Tim Fulford followed by tea with Sara Coleridge at Poole House.\nSunday 13 July 2pm-5pm\, tickets £5
URL:https://netherstowey-pc.gov.uk/event/tome-poole-and-tom-wedgwood-in-the-quantocks-and-the-alps
LOCATION:Thomas Poole Library\, Castle Street\, Nether Stowey\, TA5 1LN
CATEGORIES:Thomas Poole Library
ORGANIZER;CN="Thomas Poole Library":MAILTO:eventsandpr@thomaspoolelibrary.org.uk
END:VEVENT
BEGIN:VEVENT
DTSTART;TZID=Europe/London:20240711T170000
DTEND;TZID=Europe/London:20240711T183000
DTSTAMP:20260423T065044
CREATED:20231019T102344Z
LAST-MODIFIED:20231019T102425Z
UID:10000069-1720717200-1720722600@netherstowey-pc.gov.uk
SUMMARY:Chess Time at the Library
DESCRIPTION:Learn the basics\, discover new moves and have fun!
URL:https://netherstowey-pc.gov.uk/event/chess-time-at-the-library/2024-07-11
LOCATION:Thomas Poole Library\, Castle Street\, Nether Stowey\, TA5 1LN
CATEGORIES:Thomas Poole Library
ORGANIZER;CN="Thomas Poole Library":MAILTO:eventsandpr@thomaspoolelibrary.org.uk
END:VEVENT
BEGIN:VEVENT
DTSTART;TZID=Europe/London:20240711T140000
DTEND;TZID=Europe/London:20240711T140000
DTSTAMP:20260423T065044
CREATED:20240710T104524Z
LAST-MODIFIED:20240710T104649Z
UID:10001498-1720706400-1720706400@netherstowey-pc.gov.uk
SUMMARY:NS & F WI - "My life as a Court Usher"
DESCRIPTION:
URL:https://netherstowey-pc.gov.uk/event/ns-f-wi-my-life-as-a-court-usher
LOCATION:St Mary’s Church Centre\, St Mary Street\, Nether Stowey\, TA5 1LJ\, United Kingdom
CATEGORIES:NSF WI
END:VEVENT
BEGIN:VEVENT
DTSTART;TZID=Europe/London:20240710T190000
DTEND;TZID=Europe/London:20240710T213000
DTSTAMP:20260423T065044
CREATED:20240704T125706Z
LAST-MODIFIED:20240704T125706Z
UID:10001478-1720638000-1720647000@netherstowey-pc.gov.uk
SUMMARY:NSFC Senior Men's Pre-season 2024
DESCRIPTION:For more information visit their page on this site at Nether Stowey FC or see them at Facebook/Nether Stowey Football Club \nNSFC preseason_0001
URL:https://netherstowey-pc.gov.uk/event/nsfc-senior-mens-pre-season-2024/2024-07-10
LOCATION:Nether Stowey Recreation Ground
CATEGORIES:NSFC
ATTACH;FMTTYPE=image/jpeg:https://netherstowey-pc.gov.uk/wp-content/uploads/2023/10/NSFC.jpg
ORGANIZER;CN="Steve Easden":MAILTO:easden85ste@mail.com
END:VEVENT
BEGIN:VEVENT
DTSTART;TZID=Europe/London:20240709T143000
DTEND;TZID=Europe/London:20240709T143000
DTSTAMP:20260423T065044
CREATED:20231019T165503Z
LAST-MODIFIED:20231019T165612Z
UID:10001329-1720535400-1720535400@netherstowey-pc.gov.uk
SUMMARY:Stowey Green Spaces meeting
DESCRIPTION:WHERE:\nContact Stowey Green Spaces to find out where they’re meeting today\n\n\n\n\n\nCONTACT:\n\n\n Stowey Green Spaces\n 01278 734604
URL:https://netherstowey-pc.gov.uk/event/stowey-green-spaces-meeting/2024-07-09
CATEGORIES:Stowey Green Spaces
ATTACH;FMTTYPE=image/jpeg:https://netherstowey-pc.gov.uk/wp-content/uploads/2023/06/sgs-logo.jpg
END:VEVENT
BEGIN:VEVENT
DTSTART;TZID=Europe/London:20240709T140000
DTEND;TZID=Europe/London:20240709T170000
DTSTAMP:20260423T065044
CREATED:20231019T152442Z
LAST-MODIFIED:20231020T104411Z
UID:10001184-1720533600-1720544400@netherstowey-pc.gov.uk
SUMMARY:Short Mat Bowls Club
DESCRIPTION:Short Mat Bowls Club at the Church Centre\, £3 per session\, contact Kath Roberts tel 732789.
URL:https://netherstowey-pc.gov.uk/event/short-mat-bowls-club/2024-07-09
CATEGORIES:Social
ATTACH;FMTTYPE=image/jpeg:https://netherstowey-pc.gov.uk/wp-content/uploads/2023/10/Bowls.jpg
END:VEVENT
BEGIN:VEVENT
DTSTART;TZID=Europe/London:20240709T093000
DTEND;TZID=Europe/London:20240709T113000
DTSTAMP:20260423T065044
CREATED:20231019T133740Z
LAST-MODIFIED:20231019T133740Z
UID:10001120-1720517400-1720524600@netherstowey-pc.gov.uk
SUMMARY:Nether Stowey Baby and Toddler Group
DESCRIPTION:Nether Stowey Baby and Toddler Group at St Mary Church Centre. \nEvery Tuesday – Term-time only. \nRelaxed and friendly group\, welcoming parents\, carers and their children to meet\, play\, chat and make new friends! \nEveryone welcome. £3 per family. \nFollow on Facebook @netherstoweybabyand toddlers or see their information here. \nContact is Lucy tel 0794 139 3138.
URL:https://netherstowey-pc.gov.uk/event/nether-stowey-baby-and-toddler-group/2024-07-09
LOCATION:St Mary’s Church Centre\, St Mary Street\, Nether Stowey\, TA5 1LJ\, United Kingdom
CATEGORIES:Social
ATTACH;FMTTYPE=image/jpeg:https://netherstowey-pc.gov.uk/wp-content/uploads/2023/10/Toddlers-Poster.jpg
END:VEVENT
BEGIN:VEVENT
DTSTART;TZID=Europe/London:20240708T190000
DTEND;TZID=Europe/London:20240708T190000
DTSTAMP:20260423T065044
CREATED:20240418T141706Z
LAST-MODIFIED:20250206T113732Z
UID:10001398-1720465200-1720465200@netherstowey-pc.gov.uk
SUMMARY:Parish Council Meeting
DESCRIPTION:This meeting will be held at St Marys Church Centre. Members of the public are welcome to attend. The agenda will be available here from the Wednesday afternoon before the meeting and also available in the Parish Office window and on notice boards at The Cross and at Harry Prowse Close. \nPlanning applications (links open in new tabs on the Somerset Council website): \n36/23/00017 – The Courtyard Shop\, Castle Street (Listed Building Consent)\n36/23/00023 – The Courtyard Shop\, Castle Street (Full Planning Application)\nProposal: Change of use of shop to ancillary accommodation including internal renovations.\nNote – two applications for the same property \nIn accordance with Section 1 of the Public Bodies (Admission to Meetings) Act 1960\, the Parish Council will resolve to exclude the Press and Public from the meeting for discussion of item 16 due to the sensitive nature of the matter to be considered. \n 
URL:https://netherstowey-pc.gov.uk/event/parish-council-meeting-10
LOCATION:St Mary’s Church Centre\, St Mary Street\, Nether Stowey\, TA5 1LJ\, United Kingdom
CATEGORIES:Parish Council Meetings
ORGANIZER;CN="Nether Stowey Parish Council":MAILTO:clerk@netherstowey-pc.gov.uk
END:VEVENT
BEGIN:VEVENT
DTSTART;TZID=Europe/London:20240708T110000
DTEND;TZID=Europe/London:20240708T113000
DTSTAMP:20260423T065044
CREATED:20231019T120029Z
LAST-MODIFIED:20231019T121833Z
UID:10000592-1720436400-1720438200@netherstowey-pc.gov.uk
SUMMARY:Story Time for babies\, toddlers and pre-schoolers
DESCRIPTION:Story Time is a lovely activity for babies and toddlers\, pre-school children\, and their grown-ups. \nHeld every Monday (apart from bank holidays) from 11 to 11.30. Listen to a story then pick an instrument from the music box and join in as we sing nursery rhymes.
URL:https://netherstowey-pc.gov.uk/event/story-time-for-babies-toddlers-and-pre-schoolers/2024-07-08
LOCATION:Thomas Poole Library\, Castle Street\, Nether Stowey\, TA5 1LN
CATEGORIES:Thomas Poole Library
ATTACH;FMTTYPE=image/jpeg:https://netherstowey-pc.gov.uk/wp-content/uploads/2023/10/unfocused-children-paying-attention-their-teacher-scaled.jpg
ORGANIZER;CN="Thomas Poole Library":MAILTO:eventsandpr@thomaspoolelibrary.org.uk
END:VEVENT
BEGIN:VEVENT
DTSTART;TZID=Europe/London:20240708T100000
DTEND;TZID=Europe/London:20240708T130000
DTSTAMP:20260423T065044
CREATED:20231019T131340Z
LAST-MODIFIED:20231020T103210Z
UID:10001019-1720432800-1720443600@netherstowey-pc.gov.uk
SUMMARY:Quantock Quilters (including Textiles)
DESCRIPTION:Quantock Quilters (including Textiles)\nEvery second and fourth Monday 10am-1pm at St Mary’s Church Centre. \nBeginners welcome. \nMore information from 652307 or 733709 or 671837.
URL:https://netherstowey-pc.gov.uk/event/quantock-quilters-including-textiles/2024-07-08
LOCATION:St Mary’s Church Centre\, St Mary Street\, Nether Stowey\, TA5 1LJ\, United Kingdom
CATEGORIES:Social
END:VEVENT
BEGIN:VEVENT
DTSTART;TZID=Europe/London:20240706T100000
DTEND;TZID=Europe/London:20240706T123000
DTSTAMP:20260423T065044
CREATED:20240702T104124Z
LAST-MODIFIED:20240702T104124Z
UID:10001415-1720260000-1720269000@netherstowey-pc.gov.uk
SUMMARY:Dungeons and Dragons
DESCRIPTION:Want to play Dungeons and Dragons?\nIntroductory session at the Thomas Poole Library \nNo experience necessary\, new players welcome!\nAll equipment and instructions provided.
URL:https://netherstowey-pc.gov.uk/event/dungeons-and-dragons-4/2024-07-06
LOCATION:Thomas Poole Library\, Castle Street\, Nether Stowey\, TA5 1LN
CATEGORIES:Thomas Poole Library
ORGANIZER;CN="Thomas Poole Library":MAILTO:eventsandpr@thomaspoolelibrary.org.uk
END:VEVENT
END:VCALENDAR