BEGIN:VCALENDAR
VERSION:2.0
PRODID:-//Nether Stowey Parish Council - ECPv6.15.18//NONSGML v1.0//EN
CALSCALE:GREGORIAN
METHOD:PUBLISH
X-WR-CALNAME:Nether Stowey Parish Council
X-ORIGINAL-URL:https://netherstowey-pc.gov.uk
X-WR-CALDESC:Events for Nether Stowey Parish Council
REFRESH-INTERVAL;VALUE=DURATION:PT1H
X-Robots-Tag:noindex
X-PUBLISHED-TTL:PT1H
BEGIN:VTIMEZONE
TZID:Europe/London
BEGIN:DAYLIGHT
TZOFFSETFROM:+0000
TZOFFSETTO:+0100
TZNAME:BST
DTSTART:20230326T010000
END:DAYLIGHT
BEGIN:STANDARD
TZOFFSETFROM:+0100
TZOFFSETTO:+0000
TZNAME:GMT
DTSTART:20231029T010000
END:STANDARD
BEGIN:DAYLIGHT
TZOFFSETFROM:+0000
TZOFFSETTO:+0100
TZNAME:BST
DTSTART:20240331T010000
END:DAYLIGHT
BEGIN:STANDARD
TZOFFSETFROM:+0100
TZOFFSETTO:+0000
TZNAME:GMT
DTSTART:20241027T010000
END:STANDARD
BEGIN:DAYLIGHT
TZOFFSETFROM:+0000
TZOFFSETTO:+0100
TZNAME:BST
DTSTART:20250330T010000
END:DAYLIGHT
BEGIN:STANDARD
TZOFFSETFROM:+0100
TZOFFSETTO:+0000
TZNAME:GMT
DTSTART:20251026T010000
END:STANDARD
END:VTIMEZONE
BEGIN:VEVENT
DTSTART;TZID=Europe/London:20240709T140000
DTEND;TZID=Europe/London:20240709T170000
DTSTAMP:20260423T095438
CREATED:20231019T152442Z
LAST-MODIFIED:20231020T104411Z
UID:10001184-1720533600-1720544400@netherstowey-pc.gov.uk
SUMMARY:Short Mat Bowls Club
DESCRIPTION:Short Mat Bowls Club at the Church Centre\, £3 per session\, contact Kath Roberts tel 732789.
URL:https://netherstowey-pc.gov.uk/event/short-mat-bowls-club/2024-07-09
CATEGORIES:Social
ATTACH;FMTTYPE=image/jpeg:https://netherstowey-pc.gov.uk/wp-content/uploads/2023/10/Bowls.jpg
END:VEVENT
BEGIN:VEVENT
DTSTART;TZID=Europe/London:20240709T093000
DTEND;TZID=Europe/London:20240709T113000
DTSTAMP:20260423T095438
CREATED:20231019T133740Z
LAST-MODIFIED:20231019T133740Z
UID:10001120-1720517400-1720524600@netherstowey-pc.gov.uk
SUMMARY:Nether Stowey Baby and Toddler Group
DESCRIPTION:Nether Stowey Baby and Toddler Group at St Mary Church Centre. \nEvery Tuesday – Term-time only. \nRelaxed and friendly group\, welcoming parents\, carers and their children to meet\, play\, chat and make new friends! \nEveryone welcome. £3 per family. \nFollow on Facebook @netherstoweybabyand toddlers or see their information here. \nContact is Lucy tel 0794 139 3138.
URL:https://netherstowey-pc.gov.uk/event/nether-stowey-baby-and-toddler-group/2024-07-09
LOCATION:St Mary’s Church Centre\, St Mary Street\, Nether Stowey\, TA5 1LJ\, United Kingdom
CATEGORIES:Social
ATTACH;FMTTYPE=image/jpeg:https://netherstowey-pc.gov.uk/wp-content/uploads/2023/10/Toddlers-Poster.jpg
END:VEVENT
BEGIN:VEVENT
DTSTART;TZID=Europe/London:20240708T190000
DTEND;TZID=Europe/London:20240708T190000
DTSTAMP:20260423T095438
CREATED:20240418T141706Z
LAST-MODIFIED:20250206T113732Z
UID:10001398-1720465200-1720465200@netherstowey-pc.gov.uk
SUMMARY:Parish Council Meeting
DESCRIPTION:This meeting will be held at St Marys Church Centre. Members of the public are welcome to attend. The agenda will be available here from the Wednesday afternoon before the meeting and also available in the Parish Office window and on notice boards at The Cross and at Harry Prowse Close. \nPlanning applications (links open in new tabs on the Somerset Council website): \n36/23/00017 – The Courtyard Shop\, Castle Street (Listed Building Consent)\n36/23/00023 – The Courtyard Shop\, Castle Street (Full Planning Application)\nProposal: Change of use of shop to ancillary accommodation including internal renovations.\nNote – two applications for the same property \nIn accordance with Section 1 of the Public Bodies (Admission to Meetings) Act 1960\, the Parish Council will resolve to exclude the Press and Public from the meeting for discussion of item 16 due to the sensitive nature of the matter to be considered. \n 
URL:https://netherstowey-pc.gov.uk/event/parish-council-meeting-10
LOCATION:St Mary’s Church Centre\, St Mary Street\, Nether Stowey\, TA5 1LJ\, United Kingdom
CATEGORIES:Parish Council Meetings
ORGANIZER;CN="Nether Stowey Parish Council":MAILTO:clerk@netherstowey-pc.gov.uk
END:VEVENT
BEGIN:VEVENT
DTSTART;TZID=Europe/London:20240708T110000
DTEND;TZID=Europe/London:20240708T113000
DTSTAMP:20260423T095438
CREATED:20231019T120029Z
LAST-MODIFIED:20231019T121833Z
UID:10000592-1720436400-1720438200@netherstowey-pc.gov.uk
SUMMARY:Story Time for babies\, toddlers and pre-schoolers
DESCRIPTION:Story Time is a lovely activity for babies and toddlers\, pre-school children\, and their grown-ups. \nHeld every Monday (apart from bank holidays) from 11 to 11.30. Listen to a story then pick an instrument from the music box and join in as we sing nursery rhymes.
URL:https://netherstowey-pc.gov.uk/event/story-time-for-babies-toddlers-and-pre-schoolers/2024-07-08
LOCATION:Thomas Poole Library\, Castle Street\, Nether Stowey\, TA5 1LN
CATEGORIES:Thomas Poole Library
ATTACH;FMTTYPE=image/jpeg:https://netherstowey-pc.gov.uk/wp-content/uploads/2023/10/unfocused-children-paying-attention-their-teacher-scaled.jpg
ORGANIZER;CN="Thomas Poole Library":MAILTO:eventsandpr@thomaspoolelibrary.org.uk
END:VEVENT
BEGIN:VEVENT
DTSTART;TZID=Europe/London:20240708T100000
DTEND;TZID=Europe/London:20240708T130000
DTSTAMP:20260423T095438
CREATED:20231019T131340Z
LAST-MODIFIED:20231020T103210Z
UID:10001019-1720432800-1720443600@netherstowey-pc.gov.uk
SUMMARY:Quantock Quilters (including Textiles)
DESCRIPTION:Quantock Quilters (including Textiles)\nEvery second and fourth Monday 10am-1pm at St Mary’s Church Centre. \nBeginners welcome. \nMore information from 652307 or 733709 or 671837.
URL:https://netherstowey-pc.gov.uk/event/quantock-quilters-including-textiles/2024-07-08
LOCATION:St Mary’s Church Centre\, St Mary Street\, Nether Stowey\, TA5 1LJ\, United Kingdom
CATEGORIES:Social
END:VEVENT
BEGIN:VEVENT
DTSTART;TZID=Europe/London:20240706T100000
DTEND;TZID=Europe/London:20240706T123000
DTSTAMP:20260423T095438
CREATED:20240702T104124Z
LAST-MODIFIED:20240702T104124Z
UID:10001415-1720260000-1720269000@netherstowey-pc.gov.uk
SUMMARY:Dungeons and Dragons
DESCRIPTION:Want to play Dungeons and Dragons?\nIntroductory session at the Thomas Poole Library \nNo experience necessary\, new players welcome!\nAll equipment and instructions provided.
URL:https://netherstowey-pc.gov.uk/event/dungeons-and-dragons-4/2024-07-06
LOCATION:Thomas Poole Library\, Castle Street\, Nether Stowey\, TA5 1LN
CATEGORIES:Thomas Poole Library
ORGANIZER;CN="Thomas Poole Library":MAILTO:eventsandpr@thomaspoolelibrary.org.uk
END:VEVENT
BEGIN:VEVENT
DTSTART;TZID=Europe/London:20240704T170000
DTEND;TZID=Europe/London:20240704T183000
DTSTAMP:20260423T095438
CREATED:20231019T102344Z
LAST-MODIFIED:20231019T102425Z
UID:10000068-1720112400-1720117800@netherstowey-pc.gov.uk
SUMMARY:Chess Time at the Library
DESCRIPTION:Learn the basics\, discover new moves and have fun!
URL:https://netherstowey-pc.gov.uk/event/chess-time-at-the-library/2024-07-04
LOCATION:Thomas Poole Library\, Castle Street\, Nether Stowey\, TA5 1LN
CATEGORIES:Thomas Poole Library
ORGANIZER;CN="Thomas Poole Library":MAILTO:eventsandpr@thomaspoolelibrary.org.uk
END:VEVENT
BEGIN:VEVENT
DTSTART;TZID=Europe/London:20240702T140000
DTEND;TZID=Europe/London:20240702T170000
DTSTAMP:20260423T095438
CREATED:20231019T152442Z
LAST-MODIFIED:20231020T104411Z
UID:10001183-1719928800-1719939600@netherstowey-pc.gov.uk
SUMMARY:Short Mat Bowls Club
DESCRIPTION:Short Mat Bowls Club at the Church Centre\, £3 per session\, contact Kath Roberts tel 732789.
URL:https://netherstowey-pc.gov.uk/event/short-mat-bowls-club/2024-07-02
CATEGORIES:Social
ATTACH;FMTTYPE=image/jpeg:https://netherstowey-pc.gov.uk/wp-content/uploads/2023/10/Bowls.jpg
END:VEVENT
BEGIN:VEVENT
DTSTART;TZID=Europe/London:20240702T093000
DTEND;TZID=Europe/London:20240702T113000
DTSTAMP:20260423T095438
CREATED:20231019T133740Z
LAST-MODIFIED:20231019T133740Z
UID:10001119-1719912600-1719919800@netherstowey-pc.gov.uk
SUMMARY:Nether Stowey Baby and Toddler Group
DESCRIPTION:Nether Stowey Baby and Toddler Group at St Mary Church Centre. \nEvery Tuesday – Term-time only. \nRelaxed and friendly group\, welcoming parents\, carers and their children to meet\, play\, chat and make new friends! \nEveryone welcome. £3 per family. \nFollow on Facebook @netherstoweybabyand toddlers or see their information here. \nContact is Lucy tel 0794 139 3138.
URL:https://netherstowey-pc.gov.uk/event/nether-stowey-baby-and-toddler-group/2024-07-02
LOCATION:St Mary’s Church Centre\, St Mary Street\, Nether Stowey\, TA5 1LJ\, United Kingdom
CATEGORIES:Social
ATTACH;FMTTYPE=image/jpeg:https://netherstowey-pc.gov.uk/wp-content/uploads/2023/10/Toddlers-Poster.jpg
END:VEVENT
BEGIN:VEVENT
DTSTART;TZID=Europe/London:20240701T110000
DTEND;TZID=Europe/London:20240701T113000
DTSTAMP:20260423T095438
CREATED:20231019T120029Z
LAST-MODIFIED:20231019T121833Z
UID:10000591-1719831600-1719833400@netherstowey-pc.gov.uk
SUMMARY:Story Time for babies\, toddlers and pre-schoolers
DESCRIPTION:Story Time is a lovely activity for babies and toddlers\, pre-school children\, and their grown-ups. \nHeld every Monday (apart from bank holidays) from 11 to 11.30. Listen to a story then pick an instrument from the music box and join in as we sing nursery rhymes.
URL:https://netherstowey-pc.gov.uk/event/story-time-for-babies-toddlers-and-pre-schoolers/2024-07-01
LOCATION:Thomas Poole Library\, Castle Street\, Nether Stowey\, TA5 1LN
CATEGORIES:Thomas Poole Library
ATTACH;FMTTYPE=image/jpeg:https://netherstowey-pc.gov.uk/wp-content/uploads/2023/10/unfocused-children-paying-attention-their-teacher-scaled.jpg
ORGANIZER;CN="Thomas Poole Library":MAILTO:eventsandpr@thomaspoolelibrary.org.uk
END:VEVENT
BEGIN:VEVENT
DTSTART;TZID=Europe/London:20240627T170000
DTEND;TZID=Europe/London:20240627T183000
DTSTAMP:20260423T095438
CREATED:20231019T102344Z
LAST-MODIFIED:20231019T102425Z
UID:10000067-1719507600-1719513000@netherstowey-pc.gov.uk
SUMMARY:Chess Time at the Library
DESCRIPTION:Learn the basics\, discover new moves and have fun!
URL:https://netherstowey-pc.gov.uk/event/chess-time-at-the-library/2024-06-27
LOCATION:Thomas Poole Library\, Castle Street\, Nether Stowey\, TA5 1LN
CATEGORIES:Thomas Poole Library
ORGANIZER;CN="Thomas Poole Library":MAILTO:eventsandpr@thomaspoolelibrary.org.uk
END:VEVENT
BEGIN:VEVENT
DTSTART;TZID=Europe/London:20240625T140000
DTEND;TZID=Europe/London:20240625T170000
DTSTAMP:20260423T095438
CREATED:20231019T152442Z
LAST-MODIFIED:20231020T104411Z
UID:10001182-1719324000-1719334800@netherstowey-pc.gov.uk
SUMMARY:Short Mat Bowls Club
DESCRIPTION:Short Mat Bowls Club at the Church Centre\, £3 per session\, contact Kath Roberts tel 732789.
URL:https://netherstowey-pc.gov.uk/event/short-mat-bowls-club/2024-06-25
CATEGORIES:Social
ATTACH;FMTTYPE=image/jpeg:https://netherstowey-pc.gov.uk/wp-content/uploads/2023/10/Bowls.jpg
END:VEVENT
BEGIN:VEVENT
DTSTART;TZID=Europe/London:20240625T093000
DTEND;TZID=Europe/London:20240625T113000
DTSTAMP:20260423T095438
CREATED:20231019T133740Z
LAST-MODIFIED:20231019T133740Z
UID:10001118-1719307800-1719315000@netherstowey-pc.gov.uk
SUMMARY:Nether Stowey Baby and Toddler Group
DESCRIPTION:Nether Stowey Baby and Toddler Group at St Mary Church Centre. \nEvery Tuesday – Term-time only. \nRelaxed and friendly group\, welcoming parents\, carers and their children to meet\, play\, chat and make new friends! \nEveryone welcome. £3 per family. \nFollow on Facebook @netherstoweybabyand toddlers or see their information here. \nContact is Lucy tel 0794 139 3138.
URL:https://netherstowey-pc.gov.uk/event/nether-stowey-baby-and-toddler-group/2024-06-25
LOCATION:St Mary’s Church Centre\, St Mary Street\, Nether Stowey\, TA5 1LJ\, United Kingdom
CATEGORIES:Social
ATTACH;FMTTYPE=image/jpeg:https://netherstowey-pc.gov.uk/wp-content/uploads/2023/10/Toddlers-Poster.jpg
END:VEVENT
BEGIN:VEVENT
DTSTART;TZID=Europe/London:20240624T110000
DTEND;TZID=Europe/London:20240624T113000
DTSTAMP:20260423T095438
CREATED:20231019T120029Z
LAST-MODIFIED:20231019T121833Z
UID:10000590-1719226800-1719228600@netherstowey-pc.gov.uk
SUMMARY:Story Time for babies\, toddlers and pre-schoolers
DESCRIPTION:Story Time is a lovely activity for babies and toddlers\, pre-school children\, and their grown-ups. \nHeld every Monday (apart from bank holidays) from 11 to 11.30. Listen to a story then pick an instrument from the music box and join in as we sing nursery rhymes.
URL:https://netherstowey-pc.gov.uk/event/story-time-for-babies-toddlers-and-pre-schoolers/2024-06-24
LOCATION:Thomas Poole Library\, Castle Street\, Nether Stowey\, TA5 1LN
CATEGORIES:Thomas Poole Library
ATTACH;FMTTYPE=image/jpeg:https://netherstowey-pc.gov.uk/wp-content/uploads/2023/10/unfocused-children-paying-attention-their-teacher-scaled.jpg
ORGANIZER;CN="Thomas Poole Library":MAILTO:eventsandpr@thomaspoolelibrary.org.uk
END:VEVENT
BEGIN:VEVENT
DTSTART;TZID=Europe/London:20240624T100000
DTEND;TZID=Europe/London:20240624T130000
DTSTAMP:20260423T095438
CREATED:20231019T131609Z
LAST-MODIFIED:20231020T102812Z
UID:10001078-1719223200-1719234000@netherstowey-pc.gov.uk
SUMMARY:Quantock Quilters (including Textiles)
DESCRIPTION:Quantock Quilters (including Textiles)\nEvery second and fourth Monday 10am-1pm at St Mary’s Church Centre. \nBeginners welcome. \nMore information from 652307 or 733709 or 671837.
URL:https://netherstowey-pc.gov.uk/event/quantock-quilters-including-textiles-2/2024-06-24
LOCATION:St Mary’s Church Centre\, St Mary Street\, Nether Stowey\, TA5 1LJ\, United Kingdom
CATEGORIES:Social
END:VEVENT
BEGIN:VEVENT
DTSTART;VALUE=DATE:20240623
DTEND;VALUE=DATE:20240624
DTSTAMP:20260423T095438
CREATED:20240423T113103Z
LAST-MODIFIED:20240423T113536Z
UID:10001408-1719100800-1719187199@netherstowey-pc.gov.uk
SUMMARY:Stowey Gardeners - Coach Trip to RHS Rosemoor
DESCRIPTION:
URL:https://netherstowey-pc.gov.uk/event/stowey-gardeners-coach-trip-to-rhs-rosemoor
CATEGORIES:Stowey Gardeners
ATTACH;FMTTYPE=image/jpeg:https://netherstowey-pc.gov.uk/wp-content/uploads/2023/03/Stowey-Gardeners-logo.jpg
ORGANIZER;CN="Stowey Gardeners":MAILTO:shbassoon@aol.com
END:VEVENT
BEGIN:VEVENT
DTSTART;TZID=Europe/London:20240622T150000
DTEND;TZID=Europe/London:20240622T170000
DTSTAMP:20260423T095438
CREATED:20240508T150759Z
LAST-MODIFIED:20240604T152713Z
UID:10001410-1719068400-1719075600@netherstowey-pc.gov.uk
SUMMARY:The 216th Stowey Women's Walk
DESCRIPTION:The 216th Stowey Women’s Walk takes place on Saturday 22 June. The Walk departs from The Cross at 3pm. Afternoon tea afterwards (£6 for adults\, children free). \nRegister to walk at the Thomas Poole Library or call Janet on 01278 732266
URL:https://netherstowey-pc.gov.uk/event/the-216th-stowey-womens-walk-2
LOCATION:The Cross\, Nether Stowey\, The Cross\, Nether Stowey\, Somerset\, TA5 1LN\, United Kingdom
END:VEVENT
BEGIN:VEVENT
DTSTART;TZID=Europe/London:20240620T190000
DTEND;TZID=Europe/London:20240620T190000
DTSTAMP:20260423T095438
CREATED:20240208T142859Z
LAST-MODIFIED:20240208T143113Z
UID:10001375-1718910000-1718910000@netherstowey-pc.gov.uk
SUMMARY:Stowey Gardeners
DESCRIPTION:Stowey Gardeners is a vibrant club based in Nether Stowey near Bridgwater in Somerset\, drawing members from all around the Quantock area. \nThey meet monthly in St Mary’s Church Centre\, Nether Stowey to enjoy a guest speaker\, raffle\, garden table\, tea\, coffee and homemade cake and exchange knowledge and information on a huge range of topics. \nThe aim of the club is to offer all gardeners\, whatever their particular enthusiasm\, a chance to get together with other gardeners in the locality\, to their joint advantage and mutual interest. \nSchedule of speakers and outings for 2024 \nStowey Gardeners 2024
URL:https://netherstowey-pc.gov.uk/event/stowey-gardeners/2024-06-20
CATEGORIES:Stowey Gardeners
ATTACH;FMTTYPE=image/jpeg:https://netherstowey-pc.gov.uk/wp-content/uploads/2023/03/Stowey-Gardeners-logo.jpg
END:VEVENT
BEGIN:VEVENT
DTSTART;TZID=Europe/London:20240620T170000
DTEND;TZID=Europe/London:20240620T183000
DTSTAMP:20260423T095438
CREATED:20231019T102344Z
LAST-MODIFIED:20231019T102425Z
UID:10000066-1718902800-1718908200@netherstowey-pc.gov.uk
SUMMARY:Chess Time at the Library
DESCRIPTION:Learn the basics\, discover new moves and have fun!
URL:https://netherstowey-pc.gov.uk/event/chess-time-at-the-library/2024-06-20
LOCATION:Thomas Poole Library\, Castle Street\, Nether Stowey\, TA5 1LN
CATEGORIES:Thomas Poole Library
ORGANIZER;CN="Thomas Poole Library":MAILTO:eventsandpr@thomaspoolelibrary.org.uk
END:VEVENT
BEGIN:VEVENT
DTSTART;TZID=Europe/London:20240618T140000
DTEND;TZID=Europe/London:20240618T170000
DTSTAMP:20260423T095438
CREATED:20231019T152442Z
LAST-MODIFIED:20231020T104411Z
UID:10001181-1718719200-1718730000@netherstowey-pc.gov.uk
SUMMARY:Short Mat Bowls Club
DESCRIPTION:Short Mat Bowls Club at the Church Centre\, £3 per session\, contact Kath Roberts tel 732789.
URL:https://netherstowey-pc.gov.uk/event/short-mat-bowls-club/2024-06-18
CATEGORIES:Social
ATTACH;FMTTYPE=image/jpeg:https://netherstowey-pc.gov.uk/wp-content/uploads/2023/10/Bowls.jpg
END:VEVENT
BEGIN:VEVENT
DTSTART;TZID=Europe/London:20240618T093000
DTEND;TZID=Europe/London:20240618T113000
DTSTAMP:20260423T095438
CREATED:20231019T133740Z
LAST-MODIFIED:20231019T133740Z
UID:10001117-1718703000-1718710200@netherstowey-pc.gov.uk
SUMMARY:Nether Stowey Baby and Toddler Group
DESCRIPTION:Nether Stowey Baby and Toddler Group at St Mary Church Centre. \nEvery Tuesday – Term-time only. \nRelaxed and friendly group\, welcoming parents\, carers and their children to meet\, play\, chat and make new friends! \nEveryone welcome. £3 per family. \nFollow on Facebook @netherstoweybabyand toddlers or see their information here. \nContact is Lucy tel 0794 139 3138.
URL:https://netherstowey-pc.gov.uk/event/nether-stowey-baby-and-toddler-group/2024-06-18
LOCATION:St Mary’s Church Centre\, St Mary Street\, Nether Stowey\, TA5 1LJ\, United Kingdom
CATEGORIES:Social
ATTACH;FMTTYPE=image/jpeg:https://netherstowey-pc.gov.uk/wp-content/uploads/2023/10/Toddlers-Poster.jpg
END:VEVENT
BEGIN:VEVENT
DTSTART;TZID=Europe/London:20240617T110000
DTEND;TZID=Europe/London:20240617T113000
DTSTAMP:20260423T095438
CREATED:20231019T120029Z
LAST-MODIFIED:20231019T121833Z
UID:10000589-1718622000-1718623800@netherstowey-pc.gov.uk
SUMMARY:Story Time for babies\, toddlers and pre-schoolers
DESCRIPTION:Story Time is a lovely activity for babies and toddlers\, pre-school children\, and their grown-ups. \nHeld every Monday (apart from bank holidays) from 11 to 11.30. Listen to a story then pick an instrument from the music box and join in as we sing nursery rhymes.
URL:https://netherstowey-pc.gov.uk/event/story-time-for-babies-toddlers-and-pre-schoolers/2024-06-17
LOCATION:Thomas Poole Library\, Castle Street\, Nether Stowey\, TA5 1LN
CATEGORIES:Thomas Poole Library
ATTACH;FMTTYPE=image/jpeg:https://netherstowey-pc.gov.uk/wp-content/uploads/2023/10/unfocused-children-paying-attention-their-teacher-scaled.jpg
ORGANIZER;CN="Thomas Poole Library":MAILTO:eventsandpr@thomaspoolelibrary.org.uk
END:VEVENT
BEGIN:VEVENT
DTSTART;TZID=Europe/London:20240615T100000
DTEND;TZID=Europe/London:20240615T100000
DTSTAMP:20260423T095438
CREATED:20231019T165219Z
LAST-MODIFIED:20231019T165219Z
UID:10001314-1718445600-1718445600@netherstowey-pc.gov.uk
SUMMARY:Stowey Green Spaces - Litter Pick
DESCRIPTION:WHERE:\nContact Stowey Green Spaces to find out where they’re working today\n\n\n\n\n\nCONTACT:\n\n\n Stowey Green Spaces\n 01278 734604
URL:https://netherstowey-pc.gov.uk/event/stowey-green-spaces-litter-pick/2024-06-15
CATEGORIES:Stowey Green Spaces
ATTACH;FMTTYPE=image/jpeg:https://netherstowey-pc.gov.uk/wp-content/uploads/2023/06/sgs-logo.jpg
ORGANIZER;CN="Stowey Green Spaces":MAILTO:stoweygreenspaces@stowey.org.uk
END:VEVENT
BEGIN:VEVENT
DTSTART;TZID=Europe/London:20240613T170000
DTEND;TZID=Europe/London:20240613T183000
DTSTAMP:20260423T095438
CREATED:20231019T102344Z
LAST-MODIFIED:20231019T102425Z
UID:10000065-1718298000-1718303400@netherstowey-pc.gov.uk
SUMMARY:Chess Time at the Library
DESCRIPTION:Learn the basics\, discover new moves and have fun!
URL:https://netherstowey-pc.gov.uk/event/chess-time-at-the-library/2024-06-13
LOCATION:Thomas Poole Library\, Castle Street\, Nether Stowey\, TA5 1LN
CATEGORIES:Thomas Poole Library
ORGANIZER;CN="Thomas Poole Library":MAILTO:eventsandpr@thomaspoolelibrary.org.uk
END:VEVENT
BEGIN:VEVENT
DTSTART;TZID=Europe/London:20240613T140000
DTEND;TZID=Europe/London:20240613T140000
DTSTAMP:20260423T095438
CREATED:20231019T155923Z
LAST-MODIFIED:20231019T160110Z
UID:10001229-1718287200-1718287200@netherstowey-pc.gov.uk
SUMMARY:Nether Stowey & Fiddington Women’s Institute
DESCRIPTION:The Women’s Institute is somewhere for women of all ages to relax\, have fun and make new friends. \nContact Terry Binding\, tel 733051.
URL:https://netherstowey-pc.gov.uk/event/nether-stowey-fiddington-womens-institute/2024-06-13
LOCATION:Thomas Poole Library\, Castle Street\, Nether Stowey\, TA5 1LN
CATEGORIES:Social
ATTACH;FMTTYPE=image/jpeg:https://netherstowey-pc.gov.uk/wp-content/uploads/2023/10/WI.jpg
END:VEVENT
BEGIN:VEVENT
DTSTART;TZID=Europe/London:20240611T143000
DTEND;TZID=Europe/London:20240611T143000
DTSTAMP:20260423T095438
CREATED:20231019T165503Z
LAST-MODIFIED:20231019T165612Z
UID:10001328-1718116200-1718116200@netherstowey-pc.gov.uk
SUMMARY:Stowey Green Spaces meeting
DESCRIPTION:WHERE:\nContact Stowey Green Spaces to find out where they’re meeting today\n\n\n\n\n\nCONTACT:\n\n\n Stowey Green Spaces\n 01278 734604
URL:https://netherstowey-pc.gov.uk/event/stowey-green-spaces-meeting/2024-06-11
CATEGORIES:Stowey Green Spaces
ATTACH;FMTTYPE=image/jpeg:https://netherstowey-pc.gov.uk/wp-content/uploads/2023/06/sgs-logo.jpg
END:VEVENT
BEGIN:VEVENT
DTSTART;TZID=Europe/London:20240611T140000
DTEND;TZID=Europe/London:20240611T170000
DTSTAMP:20260423T095438
CREATED:20231019T152442Z
LAST-MODIFIED:20231020T104411Z
UID:10001180-1718114400-1718125200@netherstowey-pc.gov.uk
SUMMARY:Short Mat Bowls Club
DESCRIPTION:Short Mat Bowls Club at the Church Centre\, £3 per session\, contact Kath Roberts tel 732789.
URL:https://netherstowey-pc.gov.uk/event/short-mat-bowls-club/2024-06-11
CATEGORIES:Social
ATTACH;FMTTYPE=image/jpeg:https://netherstowey-pc.gov.uk/wp-content/uploads/2023/10/Bowls.jpg
END:VEVENT
BEGIN:VEVENT
DTSTART;TZID=Europe/London:20240611T093000
DTEND;TZID=Europe/London:20240611T113000
DTSTAMP:20260423T095438
CREATED:20231019T133740Z
LAST-MODIFIED:20231019T133740Z
UID:10001116-1718098200-1718105400@netherstowey-pc.gov.uk
SUMMARY:Nether Stowey Baby and Toddler Group
DESCRIPTION:Nether Stowey Baby and Toddler Group at St Mary Church Centre. \nEvery Tuesday – Term-time only. \nRelaxed and friendly group\, welcoming parents\, carers and their children to meet\, play\, chat and make new friends! \nEveryone welcome. £3 per family. \nFollow on Facebook @netherstoweybabyand toddlers or see their information here. \nContact is Lucy tel 0794 139 3138.
URL:https://netherstowey-pc.gov.uk/event/nether-stowey-baby-and-toddler-group/2024-06-11
LOCATION:St Mary’s Church Centre\, St Mary Street\, Nether Stowey\, TA5 1LJ\, United Kingdom
CATEGORIES:Social
ATTACH;FMTTYPE=image/jpeg:https://netherstowey-pc.gov.uk/wp-content/uploads/2023/10/Toddlers-Poster.jpg
END:VEVENT
BEGIN:VEVENT
DTSTART;TZID=Europe/London:20240610T190000
DTEND;TZID=Europe/London:20240610T190000
DTSTAMP:20260423T095438
CREATED:20240418T141508Z
LAST-MODIFIED:20250206T113607Z
UID:10001397-1718046000-1718046000@netherstowey-pc.gov.uk
SUMMARY:Parish Council Meeting
DESCRIPTION:This meeting will be held at St Marys Church Centre. Members of the public are welcome to attend. The agenda will be available here from the Wednesday afternoon before the meeting and also available in the Parish Office window and on notice boards at The Cross and at Harry Prowse Close and Malherbie Road. \nPlanning applications (links open in new tabs on the Somerset Council website): \n36/23/00011 – Cricketer Farm (phase 2) Nether Stowey\nProposal: Erection of 58 dwellings (40% affordable units) with access\, landscaping\, parking\, public open space and associated works. \n36/24/00008 – Court Cottage\, Stowey Court Nether Stowey\nProposal: Replacement windows\, doors & garage doors\, new & additional conservation style rooflights\, re-pointing\, new fascia\, change of windows to doors on the rear elevation\, new ventilation cowls on the roof structure
URL:https://netherstowey-pc.gov.uk/event/parish-council-meeting-9
LOCATION:St Mary’s Church Centre\, St Mary Street\, Nether Stowey\, TA5 1LJ\, United Kingdom
CATEGORIES:Parish Council Meetings
ORGANIZER;CN="Nether Stowey Parish Council":MAILTO:clerk@netherstowey-pc.gov.uk
END:VEVENT
BEGIN:VEVENT
DTSTART;TZID=Europe/London:20240610T110000
DTEND;TZID=Europe/London:20240610T113000
DTSTAMP:20260423T095438
CREATED:20231019T120029Z
LAST-MODIFIED:20231019T121833Z
UID:10000588-1718017200-1718019000@netherstowey-pc.gov.uk
SUMMARY:Story Time for babies\, toddlers and pre-schoolers
DESCRIPTION:Story Time is a lovely activity for babies and toddlers\, pre-school children\, and their grown-ups. \nHeld every Monday (apart from bank holidays) from 11 to 11.30. Listen to a story then pick an instrument from the music box and join in as we sing nursery rhymes.
URL:https://netherstowey-pc.gov.uk/event/story-time-for-babies-toddlers-and-pre-schoolers/2024-06-10
LOCATION:Thomas Poole Library\, Castle Street\, Nether Stowey\, TA5 1LN
CATEGORIES:Thomas Poole Library
ATTACH;FMTTYPE=image/jpeg:https://netherstowey-pc.gov.uk/wp-content/uploads/2023/10/unfocused-children-paying-attention-their-teacher-scaled.jpg
ORGANIZER;CN="Thomas Poole Library":MAILTO:eventsandpr@thomaspoolelibrary.org.uk
END:VEVENT
END:VCALENDAR