BEGIN:VCALENDAR
VERSION:2.0
PRODID:-//Nether Stowey Parish Council - ECPv6.15.18//NONSGML v1.0//EN
CALSCALE:GREGORIAN
METHOD:PUBLISH
X-WR-CALNAME:Nether Stowey Parish Council
X-ORIGINAL-URL:https://netherstowey-pc.gov.uk
X-WR-CALDESC:Events for Nether Stowey Parish Council
REFRESH-INTERVAL;VALUE=DURATION:PT1H
X-Robots-Tag:noindex
X-PUBLISHED-TTL:PT1H
BEGIN:VTIMEZONE
TZID:Europe/London
BEGIN:DAYLIGHT
TZOFFSETFROM:+0000
TZOFFSETTO:+0100
TZNAME:BST
DTSTART:20230326T010000
END:DAYLIGHT
BEGIN:STANDARD
TZOFFSETFROM:+0100
TZOFFSETTO:+0000
TZNAME:GMT
DTSTART:20231029T010000
END:STANDARD
BEGIN:DAYLIGHT
TZOFFSETFROM:+0000
TZOFFSETTO:+0100
TZNAME:BST
DTSTART:20240331T010000
END:DAYLIGHT
BEGIN:STANDARD
TZOFFSETFROM:+0100
TZOFFSETTO:+0000
TZNAME:GMT
DTSTART:20241027T010000
END:STANDARD
BEGIN:DAYLIGHT
TZOFFSETFROM:+0000
TZOFFSETTO:+0100
TZNAME:BST
DTSTART:20250330T010000
END:DAYLIGHT
BEGIN:STANDARD
TZOFFSETFROM:+0100
TZOFFSETTO:+0000
TZNAME:GMT
DTSTART:20251026T010000
END:STANDARD
END:VTIMEZONE
BEGIN:VEVENT
DTSTART;TZID=Europe/London:20240613T140000
DTEND;TZID=Europe/London:20240613T140000
DTSTAMP:20260423T123122
CREATED:20231019T155923Z
LAST-MODIFIED:20231019T160110Z
UID:10001229-1718287200-1718287200@netherstowey-pc.gov.uk
SUMMARY:Nether Stowey & Fiddington Women’s Institute
DESCRIPTION:The Women’s Institute is somewhere for women of all ages to relax\, have fun and make new friends. \nContact Terry Binding\, tel 733051.
URL:https://netherstowey-pc.gov.uk/event/nether-stowey-fiddington-womens-institute/2024-06-13
LOCATION:Thomas Poole Library\, Castle Street\, Nether Stowey\, TA5 1LN
CATEGORIES:Social
ATTACH;FMTTYPE=image/jpeg:https://netherstowey-pc.gov.uk/wp-content/uploads/2023/10/WI.jpg
END:VEVENT
BEGIN:VEVENT
DTSTART;TZID=Europe/London:20240611T143000
DTEND;TZID=Europe/London:20240611T143000
DTSTAMP:20260423T123122
CREATED:20231019T165503Z
LAST-MODIFIED:20231019T165612Z
UID:10001328-1718116200-1718116200@netherstowey-pc.gov.uk
SUMMARY:Stowey Green Spaces meeting
DESCRIPTION:WHERE:\nContact Stowey Green Spaces to find out where they’re meeting today\n\n\n\n\n\nCONTACT:\n\n\n Stowey Green Spaces\n 01278 734604
URL:https://netherstowey-pc.gov.uk/event/stowey-green-spaces-meeting/2024-06-11
CATEGORIES:Stowey Green Spaces
ATTACH;FMTTYPE=image/jpeg:https://netherstowey-pc.gov.uk/wp-content/uploads/2023/06/sgs-logo.jpg
END:VEVENT
BEGIN:VEVENT
DTSTART;TZID=Europe/London:20240611T140000
DTEND;TZID=Europe/London:20240611T170000
DTSTAMP:20260423T123122
CREATED:20231019T152442Z
LAST-MODIFIED:20231020T104411Z
UID:10001180-1718114400-1718125200@netherstowey-pc.gov.uk
SUMMARY:Short Mat Bowls Club
DESCRIPTION:Short Mat Bowls Club at the Church Centre\, £3 per session\, contact Kath Roberts tel 732789.
URL:https://netherstowey-pc.gov.uk/event/short-mat-bowls-club/2024-06-11
CATEGORIES:Social
ATTACH;FMTTYPE=image/jpeg:https://netherstowey-pc.gov.uk/wp-content/uploads/2023/10/Bowls.jpg
END:VEVENT
BEGIN:VEVENT
DTSTART;TZID=Europe/London:20240611T093000
DTEND;TZID=Europe/London:20240611T113000
DTSTAMP:20260423T123122
CREATED:20231019T133740Z
LAST-MODIFIED:20231019T133740Z
UID:10001116-1718098200-1718105400@netherstowey-pc.gov.uk
SUMMARY:Nether Stowey Baby and Toddler Group
DESCRIPTION:Nether Stowey Baby and Toddler Group at St Mary Church Centre. \nEvery Tuesday – Term-time only. \nRelaxed and friendly group\, welcoming parents\, carers and their children to meet\, play\, chat and make new friends! \nEveryone welcome. £3 per family. \nFollow on Facebook @netherstoweybabyand toddlers or see their information here. \nContact is Lucy tel 0794 139 3138.
URL:https://netherstowey-pc.gov.uk/event/nether-stowey-baby-and-toddler-group/2024-06-11
LOCATION:St Mary’s Church Centre\, St Mary Street\, Nether Stowey\, TA5 1LJ\, United Kingdom
CATEGORIES:Social
ATTACH;FMTTYPE=image/jpeg:https://netherstowey-pc.gov.uk/wp-content/uploads/2023/10/Toddlers-Poster.jpg
END:VEVENT
BEGIN:VEVENT
DTSTART;TZID=Europe/London:20240610T190000
DTEND;TZID=Europe/London:20240610T190000
DTSTAMP:20260423T123122
CREATED:20240418T141508Z
LAST-MODIFIED:20250206T113607Z
UID:10001397-1718046000-1718046000@netherstowey-pc.gov.uk
SUMMARY:Parish Council Meeting
DESCRIPTION:This meeting will be held at St Marys Church Centre. Members of the public are welcome to attend. The agenda will be available here from the Wednesday afternoon before the meeting and also available in the Parish Office window and on notice boards at The Cross and at Harry Prowse Close and Malherbie Road. \nPlanning applications (links open in new tabs on the Somerset Council website): \n36/23/00011 – Cricketer Farm (phase 2) Nether Stowey\nProposal: Erection of 58 dwellings (40% affordable units) with access\, landscaping\, parking\, public open space and associated works. \n36/24/00008 – Court Cottage\, Stowey Court Nether Stowey\nProposal: Replacement windows\, doors & garage doors\, new & additional conservation style rooflights\, re-pointing\, new fascia\, change of windows to doors on the rear elevation\, new ventilation cowls on the roof structure
URL:https://netherstowey-pc.gov.uk/event/parish-council-meeting-9
LOCATION:St Mary’s Church Centre\, St Mary Street\, Nether Stowey\, TA5 1LJ\, United Kingdom
CATEGORIES:Parish Council Meetings
ORGANIZER;CN="Nether Stowey Parish Council":MAILTO:clerk@netherstowey-pc.gov.uk
END:VEVENT
BEGIN:VEVENT
DTSTART;TZID=Europe/London:20240610T110000
DTEND;TZID=Europe/London:20240610T113000
DTSTAMP:20260423T123122
CREATED:20231019T120029Z
LAST-MODIFIED:20231019T121833Z
UID:10000588-1718017200-1718019000@netherstowey-pc.gov.uk
SUMMARY:Story Time for babies\, toddlers and pre-schoolers
DESCRIPTION:Story Time is a lovely activity for babies and toddlers\, pre-school children\, and their grown-ups. \nHeld every Monday (apart from bank holidays) from 11 to 11.30. Listen to a story then pick an instrument from the music box and join in as we sing nursery rhymes.
URL:https://netherstowey-pc.gov.uk/event/story-time-for-babies-toddlers-and-pre-schoolers/2024-06-10
LOCATION:Thomas Poole Library\, Castle Street\, Nether Stowey\, TA5 1LN
CATEGORIES:Thomas Poole Library
ATTACH;FMTTYPE=image/jpeg:https://netherstowey-pc.gov.uk/wp-content/uploads/2023/10/unfocused-children-paying-attention-their-teacher-scaled.jpg
ORGANIZER;CN="Thomas Poole Library":MAILTO:eventsandpr@thomaspoolelibrary.org.uk
END:VEVENT
BEGIN:VEVENT
DTSTART;TZID=Europe/London:20240610T100000
DTEND;TZID=Europe/London:20240610T130000
DTSTAMP:20260423T123122
CREATED:20231019T131340Z
LAST-MODIFIED:20231020T103210Z
UID:10001018-1718013600-1718024400@netherstowey-pc.gov.uk
SUMMARY:Quantock Quilters (including Textiles)
DESCRIPTION:Quantock Quilters (including Textiles)\nEvery second and fourth Monday 10am-1pm at St Mary’s Church Centre. \nBeginners welcome. \nMore information from 652307 or 733709 or 671837.
URL:https://netherstowey-pc.gov.uk/event/quantock-quilters-including-textiles/2024-06-10
LOCATION:St Mary’s Church Centre\, St Mary Street\, Nether Stowey\, TA5 1LJ\, United Kingdom
CATEGORIES:Social
END:VEVENT
BEGIN:VEVENT
DTSTART;TZID=Europe/London:20240606T170000
DTEND;TZID=Europe/London:20240606T183000
DTSTAMP:20260423T123122
CREATED:20231019T102344Z
LAST-MODIFIED:20231019T102425Z
UID:10000064-1717693200-1717698600@netherstowey-pc.gov.uk
SUMMARY:Chess Time at the Library
DESCRIPTION:Learn the basics\, discover new moves and have fun!
URL:https://netherstowey-pc.gov.uk/event/chess-time-at-the-library/2024-06-06
LOCATION:Thomas Poole Library\, Castle Street\, Nether Stowey\, TA5 1LN
CATEGORIES:Thomas Poole Library
ORGANIZER;CN="Thomas Poole Library":MAILTO:eventsandpr@thomaspoolelibrary.org.uk
END:VEVENT
BEGIN:VEVENT
DTSTART;TZID=Europe/London:20240604T140000
DTEND;TZID=Europe/London:20240604T170000
DTSTAMP:20260423T123122
CREATED:20231019T152442Z
LAST-MODIFIED:20231020T104411Z
UID:10001179-1717509600-1717520400@netherstowey-pc.gov.uk
SUMMARY:Short Mat Bowls Club
DESCRIPTION:Short Mat Bowls Club at the Church Centre\, £3 per session\, contact Kath Roberts tel 732789.
URL:https://netherstowey-pc.gov.uk/event/short-mat-bowls-club/2024-06-04
CATEGORIES:Social
ATTACH;FMTTYPE=image/jpeg:https://netherstowey-pc.gov.uk/wp-content/uploads/2023/10/Bowls.jpg
END:VEVENT
BEGIN:VEVENT
DTSTART;TZID=Europe/London:20240604T093000
DTEND;TZID=Europe/London:20240604T113000
DTSTAMP:20260423T123122
CREATED:20231019T133740Z
LAST-MODIFIED:20231019T133740Z
UID:10001115-1717493400-1717500600@netherstowey-pc.gov.uk
SUMMARY:Nether Stowey Baby and Toddler Group
DESCRIPTION:Nether Stowey Baby and Toddler Group at St Mary Church Centre. \nEvery Tuesday – Term-time only. \nRelaxed and friendly group\, welcoming parents\, carers and their children to meet\, play\, chat and make new friends! \nEveryone welcome. £3 per family. \nFollow on Facebook @netherstoweybabyand toddlers or see their information here. \nContact is Lucy tel 0794 139 3138.
URL:https://netherstowey-pc.gov.uk/event/nether-stowey-baby-and-toddler-group/2024-06-04
LOCATION:St Mary’s Church Centre\, St Mary Street\, Nether Stowey\, TA5 1LJ\, United Kingdom
CATEGORIES:Social
ATTACH;FMTTYPE=image/jpeg:https://netherstowey-pc.gov.uk/wp-content/uploads/2023/10/Toddlers-Poster.jpg
END:VEVENT
BEGIN:VEVENT
DTSTART;TZID=Europe/London:20240603T110000
DTEND;TZID=Europe/London:20240603T113000
DTSTAMP:20260423T123122
CREATED:20231019T120029Z
LAST-MODIFIED:20231019T121833Z
UID:10000587-1717412400-1717414200@netherstowey-pc.gov.uk
SUMMARY:Story Time for babies\, toddlers and pre-schoolers
DESCRIPTION:Story Time is a lovely activity for babies and toddlers\, pre-school children\, and their grown-ups. \nHeld every Monday (apart from bank holidays) from 11 to 11.30. Listen to a story then pick an instrument from the music box and join in as we sing nursery rhymes.
URL:https://netherstowey-pc.gov.uk/event/story-time-for-babies-toddlers-and-pre-schoolers/2024-06-03
LOCATION:Thomas Poole Library\, Castle Street\, Nether Stowey\, TA5 1LN
CATEGORIES:Thomas Poole Library
ATTACH;FMTTYPE=image/jpeg:https://netherstowey-pc.gov.uk/wp-content/uploads/2023/10/unfocused-children-paying-attention-their-teacher-scaled.jpg
ORGANIZER;CN="Thomas Poole Library":MAILTO:eventsandpr@thomaspoolelibrary.org.uk
END:VEVENT
BEGIN:VEVENT
DTSTART;TZID=Europe/London:20240601T110000
DTEND;TZID=Europe/London:20240601T160000
DTSTAMP:20260423T123122
CREATED:20240523T145148Z
LAST-MODIFIED:20240523T145236Z
UID:10001412-1717239600-1717257600@netherstowey-pc.gov.uk
SUMMARY:Try volunteering at Coleridge Cottage
DESCRIPTION:
URL:https://netherstowey-pc.gov.uk/event/try-volunteering-at-coleridge-cottage
LOCATION:Coleridge Cottage\, Lime Street\, Nether Stowey\, Somerset\, TA5 1NQ\, United Kingdom
CATEGORIES:Social
ATTACH;FMTTYPE=image/jpeg:https://netherstowey-pc.gov.uk/wp-content/uploads/2024/05/Coleridge-Cottage-logo.jpg
END:VEVENT
BEGIN:VEVENT
DTSTART;TZID=Europe/London:20240530T170000
DTEND;TZID=Europe/London:20240530T183000
DTSTAMP:20260423T123122
CREATED:20231019T102344Z
LAST-MODIFIED:20231019T102425Z
UID:10000063-1717088400-1717093800@netherstowey-pc.gov.uk
SUMMARY:Chess Time at the Library
DESCRIPTION:Learn the basics\, discover new moves and have fun!
URL:https://netherstowey-pc.gov.uk/event/chess-time-at-the-library/2024-05-30
LOCATION:Thomas Poole Library\, Castle Street\, Nether Stowey\, TA5 1LN
CATEGORIES:Thomas Poole Library
ORGANIZER;CN="Thomas Poole Library":MAILTO:eventsandpr@thomaspoolelibrary.org.uk
END:VEVENT
BEGIN:VEVENT
DTSTART;TZID=Europe/London:20240528T140000
DTEND;TZID=Europe/London:20240528T170000
DTSTAMP:20260423T123122
CREATED:20231019T152442Z
LAST-MODIFIED:20231020T104411Z
UID:10001178-1716904800-1716915600@netherstowey-pc.gov.uk
SUMMARY:Short Mat Bowls Club
DESCRIPTION:Short Mat Bowls Club at the Church Centre\, £3 per session\, contact Kath Roberts tel 732789.
URL:https://netherstowey-pc.gov.uk/event/short-mat-bowls-club/2024-05-28
CATEGORIES:Social
ATTACH;FMTTYPE=image/jpeg:https://netherstowey-pc.gov.uk/wp-content/uploads/2023/10/Bowls.jpg
END:VEVENT
BEGIN:VEVENT
DTSTART;TZID=Europe/London:20240528T093000
DTEND;TZID=Europe/London:20240528T113000
DTSTAMP:20260423T123122
CREATED:20231019T133740Z
LAST-MODIFIED:20231019T133740Z
UID:10001114-1716888600-1716895800@netherstowey-pc.gov.uk
SUMMARY:Nether Stowey Baby and Toddler Group
DESCRIPTION:Nether Stowey Baby and Toddler Group at St Mary Church Centre. \nEvery Tuesday – Term-time only. \nRelaxed and friendly group\, welcoming parents\, carers and their children to meet\, play\, chat and make new friends! \nEveryone welcome. £3 per family. \nFollow on Facebook @netherstoweybabyand toddlers or see their information here. \nContact is Lucy tel 0794 139 3138.
URL:https://netherstowey-pc.gov.uk/event/nether-stowey-baby-and-toddler-group/2024-05-28
LOCATION:St Mary’s Church Centre\, St Mary Street\, Nether Stowey\, TA5 1LJ\, United Kingdom
CATEGORIES:Social
ATTACH;FMTTYPE=image/jpeg:https://netherstowey-pc.gov.uk/wp-content/uploads/2023/10/Toddlers-Poster.jpg
END:VEVENT
BEGIN:VEVENT
DTSTART;TZID=Europe/London:20240527T110000
DTEND;TZID=Europe/London:20240527T113000
DTSTAMP:20260423T123122
CREATED:20231019T120029Z
LAST-MODIFIED:20231019T121833Z
UID:10000586-1716807600-1716809400@netherstowey-pc.gov.uk
SUMMARY:Story Time for babies\, toddlers and pre-schoolers
DESCRIPTION:Story Time is a lovely activity for babies and toddlers\, pre-school children\, and their grown-ups. \nHeld every Monday (apart from bank holidays) from 11 to 11.30. Listen to a story then pick an instrument from the music box and join in as we sing nursery rhymes.
URL:https://netherstowey-pc.gov.uk/event/story-time-for-babies-toddlers-and-pre-schoolers/2024-05-27
LOCATION:Thomas Poole Library\, Castle Street\, Nether Stowey\, TA5 1LN
CATEGORIES:Thomas Poole Library
ATTACH;FMTTYPE=image/jpeg:https://netherstowey-pc.gov.uk/wp-content/uploads/2023/10/unfocused-children-paying-attention-their-teacher-scaled.jpg
ORGANIZER;CN="Thomas Poole Library":MAILTO:eventsandpr@thomaspoolelibrary.org.uk
END:VEVENT
BEGIN:VEVENT
DTSTART;TZID=Europe/London:20240527T100000
DTEND;TZID=Europe/London:20240527T130000
DTSTAMP:20260423T123122
CREATED:20231019T131609Z
LAST-MODIFIED:20231020T102812Z
UID:10001077-1716804000-1716814800@netherstowey-pc.gov.uk
SUMMARY:Quantock Quilters (including Textiles)
DESCRIPTION:Quantock Quilters (including Textiles)\nEvery second and fourth Monday 10am-1pm at St Mary’s Church Centre. \nBeginners welcome. \nMore information from 652307 or 733709 or 671837.
URL:https://netherstowey-pc.gov.uk/event/quantock-quilters-including-textiles-2/2024-05-27
LOCATION:St Mary’s Church Centre\, St Mary Street\, Nether Stowey\, TA5 1LJ\, United Kingdom
CATEGORIES:Social
END:VEVENT
BEGIN:VEVENT
DTSTART;TZID=Europe/London:20240523T170000
DTEND;TZID=Europe/London:20240523T183000
DTSTAMP:20260423T123122
CREATED:20231019T102344Z
LAST-MODIFIED:20231019T102425Z
UID:10000062-1716483600-1716489000@netherstowey-pc.gov.uk
SUMMARY:Chess Time at the Library
DESCRIPTION:Learn the basics\, discover new moves and have fun!
URL:https://netherstowey-pc.gov.uk/event/chess-time-at-the-library/2024-05-23
LOCATION:Thomas Poole Library\, Castle Street\, Nether Stowey\, TA5 1LN
CATEGORIES:Thomas Poole Library
ORGANIZER;CN="Thomas Poole Library":MAILTO:eventsandpr@thomaspoolelibrary.org.uk
END:VEVENT
BEGIN:VEVENT
DTSTART;TZID=Europe/London:20240521T140000
DTEND;TZID=Europe/London:20240521T170000
DTSTAMP:20260423T123122
CREATED:20231019T152442Z
LAST-MODIFIED:20231020T104411Z
UID:10001177-1716300000-1716310800@netherstowey-pc.gov.uk
SUMMARY:Short Mat Bowls Club
DESCRIPTION:Short Mat Bowls Club at the Church Centre\, £3 per session\, contact Kath Roberts tel 732789.
URL:https://netherstowey-pc.gov.uk/event/short-mat-bowls-club/2024-05-21
CATEGORIES:Social
ATTACH;FMTTYPE=image/jpeg:https://netherstowey-pc.gov.uk/wp-content/uploads/2023/10/Bowls.jpg
END:VEVENT
BEGIN:VEVENT
DTSTART;TZID=Europe/London:20240521T093000
DTEND;TZID=Europe/London:20240521T113000
DTSTAMP:20260423T123122
CREATED:20231019T133740Z
LAST-MODIFIED:20231019T133740Z
UID:10001113-1716283800-1716291000@netherstowey-pc.gov.uk
SUMMARY:Nether Stowey Baby and Toddler Group
DESCRIPTION:Nether Stowey Baby and Toddler Group at St Mary Church Centre. \nEvery Tuesday – Term-time only. \nRelaxed and friendly group\, welcoming parents\, carers and their children to meet\, play\, chat and make new friends! \nEveryone welcome. £3 per family. \nFollow on Facebook @netherstoweybabyand toddlers or see their information here. \nContact is Lucy tel 0794 139 3138.
URL:https://netherstowey-pc.gov.uk/event/nether-stowey-baby-and-toddler-group/2024-05-21
LOCATION:St Mary’s Church Centre\, St Mary Street\, Nether Stowey\, TA5 1LJ\, United Kingdom
CATEGORIES:Social
ATTACH;FMTTYPE=image/jpeg:https://netherstowey-pc.gov.uk/wp-content/uploads/2023/10/Toddlers-Poster.jpg
END:VEVENT
BEGIN:VEVENT
DTSTART;TZID=Europe/London:20240520T110000
DTEND;TZID=Europe/London:20240520T113000
DTSTAMP:20260423T123122
CREATED:20231019T120029Z
LAST-MODIFIED:20231019T121833Z
UID:10000585-1716202800-1716204600@netherstowey-pc.gov.uk
SUMMARY:Story Time for babies\, toddlers and pre-schoolers
DESCRIPTION:Story Time is a lovely activity for babies and toddlers\, pre-school children\, and their grown-ups. \nHeld every Monday (apart from bank holidays) from 11 to 11.30. Listen to a story then pick an instrument from the music box and join in as we sing nursery rhymes.
URL:https://netherstowey-pc.gov.uk/event/story-time-for-babies-toddlers-and-pre-schoolers/2024-05-20
LOCATION:Thomas Poole Library\, Castle Street\, Nether Stowey\, TA5 1LN
CATEGORIES:Thomas Poole Library
ATTACH;FMTTYPE=image/jpeg:https://netherstowey-pc.gov.uk/wp-content/uploads/2023/10/unfocused-children-paying-attention-their-teacher-scaled.jpg
ORGANIZER;CN="Thomas Poole Library":MAILTO:eventsandpr@thomaspoolelibrary.org.uk
END:VEVENT
BEGIN:VEVENT
DTSTART;TZID=Europe/London:20240518T100000
DTEND;TZID=Europe/London:20240518T120000
DTSTAMP:20260423T123122
CREATED:20240508T151239Z
LAST-MODIFIED:20240508T151239Z
UID:10001411-1716026400-1716033600@netherstowey-pc.gov.uk
SUMMARY:Stowey Gardeners Plant Sale
DESCRIPTION:
URL:https://netherstowey-pc.gov.uk/event/stowey-gardeners-plant-sale
LOCATION:Thomas Poole Library\, Castle Street\, Nether Stowey\, TA5 1LN
CATEGORIES:Stowey Gardeners
ATTACH;FMTTYPE=image/jpeg:https://netherstowey-pc.gov.uk/wp-content/uploads/2023/03/Stowey-Gardeners-logo.jpg
END:VEVENT
BEGIN:VEVENT
DTSTART;TZID=Europe/London:20240518T100000
DTEND;TZID=Europe/London:20240518T100000
DTSTAMP:20260423T123122
CREATED:20231019T165219Z
LAST-MODIFIED:20231019T165219Z
UID:10001313-1716026400-1716026400@netherstowey-pc.gov.uk
SUMMARY:Stowey Green Spaces - Litter Pick
DESCRIPTION:WHERE:\nContact Stowey Green Spaces to find out where they’re working today\n\n\n\n\n\nCONTACT:\n\n\n Stowey Green Spaces\n 01278 734604
URL:https://netherstowey-pc.gov.uk/event/stowey-green-spaces-litter-pick/2024-05-18
CATEGORIES:Stowey Green Spaces
ATTACH;FMTTYPE=image/jpeg:https://netherstowey-pc.gov.uk/wp-content/uploads/2023/06/sgs-logo.jpg
ORGANIZER;CN="Stowey Green Spaces":MAILTO:stoweygreenspaces@stowey.org.uk
END:VEVENT
BEGIN:VEVENT
DTSTART;TZID=Europe/London:20240516T190000
DTEND;TZID=Europe/London:20240516T190000
DTSTAMP:20260423T123122
CREATED:20240208T142859Z
LAST-MODIFIED:20240208T143113Z
UID:10001374-1715886000-1715886000@netherstowey-pc.gov.uk
SUMMARY:Stowey Gardeners
DESCRIPTION:Stowey Gardeners is a vibrant club based in Nether Stowey near Bridgwater in Somerset\, drawing members from all around the Quantock area. \nThey meet monthly in St Mary’s Church Centre\, Nether Stowey to enjoy a guest speaker\, raffle\, garden table\, tea\, coffee and homemade cake and exchange knowledge and information on a huge range of topics. \nThe aim of the club is to offer all gardeners\, whatever their particular enthusiasm\, a chance to get together with other gardeners in the locality\, to their joint advantage and mutual interest. \nSchedule of speakers and outings for 2024 \nStowey Gardeners 2024
URL:https://netherstowey-pc.gov.uk/event/stowey-gardeners/2024-05-16
CATEGORIES:Stowey Gardeners
ATTACH;FMTTYPE=image/jpeg:https://netherstowey-pc.gov.uk/wp-content/uploads/2023/03/Stowey-Gardeners-logo.jpg
END:VEVENT
BEGIN:VEVENT
DTSTART;TZID=Europe/London:20240516T170000
DTEND;TZID=Europe/London:20240516T183000
DTSTAMP:20260423T123122
CREATED:20231019T102344Z
LAST-MODIFIED:20231019T102425Z
UID:10000061-1715878800-1715884200@netherstowey-pc.gov.uk
SUMMARY:Chess Time at the Library
DESCRIPTION:Learn the basics\, discover new moves and have fun!
URL:https://netherstowey-pc.gov.uk/event/chess-time-at-the-library/2024-05-16
LOCATION:Thomas Poole Library\, Castle Street\, Nether Stowey\, TA5 1LN
CATEGORIES:Thomas Poole Library
ORGANIZER;CN="Thomas Poole Library":MAILTO:eventsandpr@thomaspoolelibrary.org.uk
END:VEVENT
BEGIN:VEVENT
DTSTART;TZID=Europe/London:20240514T143000
DTEND;TZID=Europe/London:20240514T143000
DTSTAMP:20260423T123122
CREATED:20231019T165503Z
LAST-MODIFIED:20231019T165612Z
UID:10001327-1715697000-1715697000@netherstowey-pc.gov.uk
SUMMARY:Stowey Green Spaces meeting
DESCRIPTION:WHERE:\nContact Stowey Green Spaces to find out where they’re meeting today\n\n\n\n\n\nCONTACT:\n\n\n Stowey Green Spaces\n 01278 734604
URL:https://netherstowey-pc.gov.uk/event/stowey-green-spaces-meeting/2024-05-14
CATEGORIES:Stowey Green Spaces
ATTACH;FMTTYPE=image/jpeg:https://netherstowey-pc.gov.uk/wp-content/uploads/2023/06/sgs-logo.jpg
END:VEVENT
BEGIN:VEVENT
DTSTART;TZID=Europe/London:20240514T140000
DTEND;TZID=Europe/London:20240514T170000
DTSTAMP:20260423T123122
CREATED:20231019T152442Z
LAST-MODIFIED:20231020T104411Z
UID:10001176-1715695200-1715706000@netherstowey-pc.gov.uk
SUMMARY:Short Mat Bowls Club
DESCRIPTION:Short Mat Bowls Club at the Church Centre\, £3 per session\, contact Kath Roberts tel 732789.
URL:https://netherstowey-pc.gov.uk/event/short-mat-bowls-club/2024-05-14
CATEGORIES:Social
ATTACH;FMTTYPE=image/jpeg:https://netherstowey-pc.gov.uk/wp-content/uploads/2023/10/Bowls.jpg
END:VEVENT
BEGIN:VEVENT
DTSTART;TZID=Europe/London:20240514T093000
DTEND;TZID=Europe/London:20240514T113000
DTSTAMP:20260423T123122
CREATED:20231019T133740Z
LAST-MODIFIED:20231019T133740Z
UID:10001112-1715679000-1715686200@netherstowey-pc.gov.uk
SUMMARY:Nether Stowey Baby and Toddler Group
DESCRIPTION:Nether Stowey Baby and Toddler Group at St Mary Church Centre. \nEvery Tuesday – Term-time only. \nRelaxed and friendly group\, welcoming parents\, carers and their children to meet\, play\, chat and make new friends! \nEveryone welcome. £3 per family. \nFollow on Facebook @netherstoweybabyand toddlers or see their information here. \nContact is Lucy tel 0794 139 3138.
URL:https://netherstowey-pc.gov.uk/event/nether-stowey-baby-and-toddler-group/2024-05-14
LOCATION:St Mary’s Church Centre\, St Mary Street\, Nether Stowey\, TA5 1LJ\, United Kingdom
CATEGORIES:Social
ATTACH;FMTTYPE=image/jpeg:https://netherstowey-pc.gov.uk/wp-content/uploads/2023/10/Toddlers-Poster.jpg
END:VEVENT
BEGIN:VEVENT
DTSTART;TZID=Europe/London:20240513T190000
DTEND;TZID=Europe/London:20240513T190000
DTSTAMP:20260423T123122
CREATED:20240418T101529Z
LAST-MODIFIED:20240621T112313Z
UID:10001396-1715626800-1715626800@netherstowey-pc.gov.uk
SUMMARY:Annual Parish Council Meeting
DESCRIPTION:Please note this meeting starts after the Annual Parish Meeting (which starts at 6.30pm). \nThis meeting will be held at St Marys Church Centre. Members of the public are welcome to attend. The agenda will be available here from the Wednesday afternoon before the meeting and also available in the Parish Office window and on notice boards at The Cross and at Harry Prowse Close.
URL:https://netherstowey-pc.gov.uk/event/annual-parish-council-meeting
LOCATION:St Mary’s Church Centre\, St Mary Street\, Nether Stowey\, TA5 1LJ\, United Kingdom
CATEGORIES:Parish Council Meetings
ORGANIZER;CN="Nether Stowey Parish Council":MAILTO:clerk@netherstowey-pc.gov.uk
END:VEVENT
BEGIN:VEVENT
DTSTART;TZID=Europe/London:20240513T183000
DTEND;TZID=Europe/London:20240513T183000
DTSTAMP:20260423T123122
CREATED:20240418T100114Z
LAST-MODIFIED:20260408T160632Z
UID:10001395-1715625000-1715625000@netherstowey-pc.gov.uk
SUMMARY:Annual Parish Meeting 2024
DESCRIPTION:NETHER STOWEY\nANNUAL PARISH MEETING \nto be held on \nMonday 13 May 2024 at 6.30pm \nat St Mary’s Church Centre \nALL ELECTORS OF THE PARISH ARE INVITED TO ATTEND \nEach year an Annual Parish Meeting is held at which residents can air issues or ask the Parish Council to investigate certain matters which are of concern.  The meeting is NOT a formal Parish Council Meeting\, but it is facilitated and funded by the Parish Council for the benefit of the community.  The draft minutes and reports from the last meeting (in 2023) are now available on the Parish Council website or from the office. \nThe Parish Meeting may\, by law\, discuss all parish affairs and pass resolutions about them.  Anyone who is entitled to vote in local elections in Nether Stowey may speak and vote at the Annual Parish Meeting. \nThe following matters have so far been placed on the agenda: \n\nWelcome\nTo accept apologies for absence\nTo confirm minutes of the Annual Parish Meeting held on 15 May 2023. Draft Minutes available here.\nThe Chairman’s Annual Report\nItems for discussion raised by Parishioners
URL:https://netherstowey-pc.gov.uk/event/14059
LOCATION:St Mary’s Church Centre\, St Mary Street\, Nether Stowey\, TA5 1LJ\, United Kingdom
CATEGORIES:Parish Council Meetings
ORGANIZER;CN="Nether Stowey Parish Council":MAILTO:clerk@netherstowey-pc.gov.uk
END:VEVENT
END:VCALENDAR