BEGIN:VCALENDAR
VERSION:2.0
PRODID:-//Nether Stowey Parish Council - ECPv6.15.18//NONSGML v1.0//EN
CALSCALE:GREGORIAN
METHOD:PUBLISH
X-WR-CALNAME:Nether Stowey Parish Council
X-ORIGINAL-URL:https://netherstowey-pc.gov.uk
X-WR-CALDESC:Events for Nether Stowey Parish Council
REFRESH-INTERVAL;VALUE=DURATION:PT1H
X-Robots-Tag:noindex
X-PUBLISHED-TTL:PT1H
BEGIN:VTIMEZONE
TZID:Europe/London
BEGIN:DAYLIGHT
TZOFFSETFROM:+0000
TZOFFSETTO:+0100
TZNAME:BST
DTSTART:20240331T010000
END:DAYLIGHT
BEGIN:STANDARD
TZOFFSETFROM:+0100
TZOFFSETTO:+0000
TZNAME:GMT
DTSTART:20241027T010000
END:STANDARD
BEGIN:DAYLIGHT
TZOFFSETFROM:+0000
TZOFFSETTO:+0100
TZNAME:BST
DTSTART:20250330T010000
END:DAYLIGHT
BEGIN:STANDARD
TZOFFSETFROM:+0100
TZOFFSETTO:+0000
TZNAME:GMT
DTSTART:20251026T010000
END:STANDARD
BEGIN:DAYLIGHT
TZOFFSETFROM:+0000
TZOFFSETTO:+0100
TZNAME:BST
DTSTART:20260329T010000
END:DAYLIGHT
BEGIN:STANDARD
TZOFFSETFROM:+0100
TZOFFSETTO:+0000
TZNAME:GMT
DTSTART:20261025T010000
END:STANDARD
END:VTIMEZONE
BEGIN:VEVENT
DTSTART;TZID=Europe/London:20251201T110000
DTEND;TZID=Europe/London:20251201T113000
DTSTAMP:20260421T183924
CREATED:20231019T120029Z
LAST-MODIFIED:20231019T121833Z
UID:10000665-1764586800-1764588600@netherstowey-pc.gov.uk
SUMMARY:Story Time for babies\, toddlers and pre-schoolers
DESCRIPTION:Story Time is a lovely activity for babies and toddlers\, pre-school children\, and their grown-ups. \nHeld every Monday (apart from bank holidays) from 11 to 11.30. Listen to a story then pick an instrument from the music box and join in as we sing nursery rhymes.
URL:https://netherstowey-pc.gov.uk/event/story-time-for-babies-toddlers-and-pre-schoolers/2025-12-01
LOCATION:Thomas Poole Library\, Castle Street\, Nether Stowey\, TA5 1LN
CATEGORIES:Thomas Poole Library
ATTACH;FMTTYPE=image/jpeg:https://netherstowey-pc.gov.uk/wp-content/uploads/2023/10/unfocused-children-paying-attention-their-teacher-scaled.jpg
ORGANIZER;CN="Thomas Poole Library":MAILTO:eventsandpr@thomaspoolelibrary.org.uk
END:VEVENT
BEGIN:VEVENT
DTSTART;TZID=Europe/London:20251129T103000
DTEND;TZID=Europe/London:20251129T103000
DTSTAMP:20260421T183924
CREATED:20250915T091630Z
LAST-MODIFIED:20250915T091702Z
UID:10001793-1764412200-1764412200@netherstowey-pc.gov.uk
SUMMARY:Christmas Wreath Workshop
DESCRIPTION:Saturday 29 November from 10.30 am.\nCost £45\, £20 deposit required.\nContact Janice on 01278 733436 to book your place. \nAll profits go to NS Village Hall and Recreation Ground
URL:https://netherstowey-pc.gov.uk/event/christmas-wreath-workshop
LOCATION:St Mary’s Church Centre\, St Mary Street\, Nether Stowey\, TA5 1LJ\, United Kingdom
END:VEVENT
BEGIN:VEVENT
DTSTART;TZID=Europe/London:20251129T100000
DTEND;TZID=Europe/London:20251129T130000
DTSTAMP:20260421T183924
CREATED:20251016T130012Z
LAST-MODIFIED:20251125T114410Z
UID:10001796-1764410400-1764421200@netherstowey-pc.gov.uk
SUMMARY:Meet Nether Stowey Parish Councillors - Sat 29 November 10am-1pm
DESCRIPTION:An opportunity to meet and chat with Parish Councillors. \n\nLearn what the Council does for the village\nUnderstand what we can and what we cannot do\nChat about what concerns you\nGive us your thoughts about the future of the village
URL:https://netherstowey-pc.gov.uk/event/meet-nether-stowey-parish-councillors-sat-29-november-10am-1pm
LOCATION:Thomas Poole Library\, Castle Street\, Nether Stowey\, TA5 1LN
CATEGORIES:Parish Council Meetings
ATTACH;FMTTYPE=image/jpeg:https://netherstowey-pc.gov.uk/wp-content/uploads/2023/10/Nether-Stowey-Parish-Council-logo.jpg
ORGANIZER;CN="Nether Stowey Parish Council":MAILTO:clerk@netherstowey-pc.gov.uk
END:VEVENT
BEGIN:VEVENT
DTSTART;TZID=Europe/London:20251127T170000
DTEND;TZID=Europe/London:20251127T183000
DTSTAMP:20260421T183924
CREATED:20231019T102344Z
LAST-MODIFIED:20231019T102425Z
UID:10000141-1764262800-1764268200@netherstowey-pc.gov.uk
SUMMARY:Chess Time at the Library
DESCRIPTION:Learn the basics\, discover new moves and have fun!
URL:https://netherstowey-pc.gov.uk/event/chess-time-at-the-library/2025-11-27
LOCATION:Thomas Poole Library\, Castle Street\, Nether Stowey\, TA5 1LN
CATEGORIES:Thomas Poole Library
ORGANIZER;CN="Thomas Poole Library":MAILTO:eventsandpr@thomaspoolelibrary.org.uk
END:VEVENT
BEGIN:VEVENT
DTSTART;TZID=Europe/London:20251125T150000
DTEND;TZID=Europe/London:20251125T150000
DTSTAMP:20260421T183924
CREATED:20251107T123233Z
LAST-MODIFIED:20251107T123307Z
UID:10001805-1764082800-1764082800@netherstowey-pc.gov.uk
SUMMARY:STOWEY SHUTTLE MEETING - 25 NOV
DESCRIPTION:Shuttle 2511
URL:https://netherstowey-pc.gov.uk/event/stowey-shuttle-meeting-25-nov
LOCATION:Thomas Poole Library\, Castle Street\, Nether Stowey\, TA5 1LN
CATEGORIES:Thomas Poole Library
ATTACH;FMTTYPE=image/jpeg:https://images.unsplash.com/photo-1540202712808-1c5e0aff443c?ixid=M3w1MTA1MTZ8MHwxfGFsbHx8fHx8fHx8fDE3NjI1MTg3NDV8&ixlib=rb-4.1.0
END:VEVENT
BEGIN:VEVENT
DTSTART;TZID=Europe/London:20251125T140000
DTEND;TZID=Europe/London:20251125T170000
DTSTAMP:20260421T183924
CREATED:20250623T110512Z
LAST-MODIFIED:20250623T111323Z
UID:10001661-1764079200-1764090000@netherstowey-pc.gov.uk
SUMMARY:NS Short Mat Bowls Club
DESCRIPTION:Short Mat Bowls Club at the Church Centre\, £4 per session\, contact: nsshortmatbowls@gmail.com or phone Terry Binding tel 01278 732710 \nNS Short Mat Bowls Club Poster May 2025 one page
URL:https://netherstowey-pc.gov.uk/event/ns-short-mat-bowls-club/2025-11-25
LOCATION:St Mary’s Church Centre\, St Mary Street\, Nether Stowey\, TA5 1LJ\, United Kingdom
ORGANIZER;CN="Mark Howells":MAILTO:nsshortmatbowls@gmail.com
END:VEVENT
BEGIN:VEVENT
DTSTART;TZID=Europe/London:20251124T110000
DTEND;TZID=Europe/London:20251124T113000
DTSTAMP:20260421T183924
CREATED:20231019T120029Z
LAST-MODIFIED:20231019T121833Z
UID:10000664-1763982000-1763983800@netherstowey-pc.gov.uk
SUMMARY:Story Time for babies\, toddlers and pre-schoolers
DESCRIPTION:Story Time is a lovely activity for babies and toddlers\, pre-school children\, and their grown-ups. \nHeld every Monday (apart from bank holidays) from 11 to 11.30. Listen to a story then pick an instrument from the music box and join in as we sing nursery rhymes.
URL:https://netherstowey-pc.gov.uk/event/story-time-for-babies-toddlers-and-pre-schoolers/2025-11-24
LOCATION:Thomas Poole Library\, Castle Street\, Nether Stowey\, TA5 1LN
CATEGORIES:Thomas Poole Library
ATTACH;FMTTYPE=image/jpeg:https://netherstowey-pc.gov.uk/wp-content/uploads/2023/10/unfocused-children-paying-attention-their-teacher-scaled.jpg
ORGANIZER;CN="Thomas Poole Library":MAILTO:eventsandpr@thomaspoolelibrary.org.uk
END:VEVENT
BEGIN:VEVENT
DTSTART;TZID=Europe/London:20251120T193000
DTEND;TZID=Europe/London:20251120T193000
DTSTAMP:20260421T183924
CREATED:20251105T114653Z
LAST-MODIFIED:20251106T122748Z
UID:10001803-1763667000-1763667000@netherstowey-pc.gov.uk
SUMMARY:Stowey Gardeners meeting - talk: Chelsea or Bust with Claire Hart
DESCRIPTION:SG Nov\nStowey Gardeners is a vibrant club based in Nether Stowey near Bridgwater in Somerset\, drawing members from all around the Quantock area. \nThey meet monthly in St Mary’s Church Centre\, Nether Stowey to enjoy a guest speaker\, raffle\, garden table\, tea\, coffee and homemade cake and exchange knowledge and information on a huge range of topics. \nThe aim of the club is to offer all gardeners\, whatever their particular enthusiasm\, a chance to get together with other gardeners in the locality\, to their joint advantage and mutual interest. \nThursday 20 November: a talk by Claire Hart\, project manager of an award winning stand “Chelsea or Bust”.  \nOn the door £5 or Annual membership £25.
URL:https://netherstowey-pc.gov.uk/event/stowey-gardeners-meeting-talk-chelsea-or-bust-with-claire-hart
LOCATION:St Mary’s Church Centre\, St Mary Street\, Nether Stowey\, TA5 1LJ\, United Kingdom
CATEGORIES:Stowey Gardeners
ORGANIZER;CN="Stowey Gardeners":MAILTO:stoweygardeners@yahoo.com
END:VEVENT
BEGIN:VEVENT
DTSTART;TZID=Europe/London:20251120T170000
DTEND;TZID=Europe/London:20251120T183000
DTSTAMP:20260421T183924
CREATED:20231019T102344Z
LAST-MODIFIED:20231019T102425Z
UID:10000140-1763658000-1763663400@netherstowey-pc.gov.uk
SUMMARY:Chess Time at the Library
DESCRIPTION:Learn the basics\, discover new moves and have fun!
URL:https://netherstowey-pc.gov.uk/event/chess-time-at-the-library/2025-11-20
LOCATION:Thomas Poole Library\, Castle Street\, Nether Stowey\, TA5 1LN
CATEGORIES:Thomas Poole Library
ORGANIZER;CN="Thomas Poole Library":MAILTO:eventsandpr@thomaspoolelibrary.org.uk
END:VEVENT
BEGIN:VEVENT
DTSTART;TZID=Europe/London:20251118T140000
DTEND;TZID=Europe/London:20251118T170000
DTSTAMP:20260421T183924
CREATED:20250623T110512Z
LAST-MODIFIED:20250623T111323Z
UID:10001660-1763474400-1763485200@netherstowey-pc.gov.uk
SUMMARY:NS Short Mat Bowls Club
DESCRIPTION:Short Mat Bowls Club at the Church Centre\, £4 per session\, contact: nsshortmatbowls@gmail.com or phone Terry Binding tel 01278 732710 \nNS Short Mat Bowls Club Poster May 2025 one page
URL:https://netherstowey-pc.gov.uk/event/ns-short-mat-bowls-club/2025-11-18
LOCATION:St Mary’s Church Centre\, St Mary Street\, Nether Stowey\, TA5 1LJ\, United Kingdom
ORGANIZER;CN="Mark Howells":MAILTO:nsshortmatbowls@gmail.com
END:VEVENT
BEGIN:VEVENT
DTSTART;TZID=Europe/London:20251117T110000
DTEND;TZID=Europe/London:20251117T113000
DTSTAMP:20260421T183924
CREATED:20231019T120029Z
LAST-MODIFIED:20231019T121833Z
UID:10000663-1763377200-1763379000@netherstowey-pc.gov.uk
SUMMARY:Story Time for babies\, toddlers and pre-schoolers
DESCRIPTION:Story Time is a lovely activity for babies and toddlers\, pre-school children\, and their grown-ups. \nHeld every Monday (apart from bank holidays) from 11 to 11.30. Listen to a story then pick an instrument from the music box and join in as we sing nursery rhymes.
URL:https://netherstowey-pc.gov.uk/event/story-time-for-babies-toddlers-and-pre-schoolers/2025-11-17
LOCATION:Thomas Poole Library\, Castle Street\, Nether Stowey\, TA5 1LN
CATEGORIES:Thomas Poole Library
ATTACH;FMTTYPE=image/jpeg:https://netherstowey-pc.gov.uk/wp-content/uploads/2023/10/unfocused-children-paying-attention-their-teacher-scaled.jpg
ORGANIZER;CN="Thomas Poole Library":MAILTO:eventsandpr@thomaspoolelibrary.org.uk
END:VEVENT
BEGIN:VEVENT
DTSTART;TZID=Europe/London:20251115T190000
DTEND;TZID=Europe/London:20251115T190000
DTSTAMP:20260421T183924
CREATED:20250915T090916Z
LAST-MODIFIED:20250915T092019Z
UID:10001792-1763233200-1763233200@netherstowey-pc.gov.uk
SUMMARY:Quiz evening with Ploughman's Supper and a Pud
DESCRIPTION:Quiz evening with Ploughman’s Supper and a Pud. Bring your own bottle(s).\nSaturday 15 November. Doors open 7pm\, quiz starts at 7.30pm\nTeams of up to 6 – £10 per person.\nPrize for the winning team and a raffle. \nTickets available from the Post Office. All tickets need to be paid for prior to the event.\nNo reserved tickets\, no pay at the door \nQuiz
URL:https://netherstowey-pc.gov.uk/event/quiz-evening-with-ploughmans-supper-and-a-pud
LOCATION:St Mary’s Church Centre\, St Mary Street\, Nether Stowey\, TA5 1LJ\, United Kingdom
END:VEVENT
BEGIN:VEVENT
DTSTART;TZID=Europe/London:20251114T130000
DTEND;TZID=Europe/London:20251114T190000
DTSTAMP:20260421T183924
CREATED:20251029T101929Z
LAST-MODIFIED:20251029T102028Z
UID:10001797-1763125200-1763146800@netherstowey-pc.gov.uk
SUMMARY:Wales & West Utilities Community Event
DESCRIPTION:Friday 14 November 1pm to 7pm\nat St Mary’s Church Centre\nDrop in for information\, support\, help with bills\, cake and a cuppa.\nFor more information e-mail greengas@wwutilities.co.uk
URL:https://netherstowey-pc.gov.uk/event/wales-west-utilities-community-event
LOCATION:St Mary’s Church Centre\, St Mary Street\, Nether Stowey\, TA5 1LJ\, United Kingdom
ORGANIZER;CN="WW Utilities":MAILTO:greengas@wwutilities.co.uk
END:VEVENT
BEGIN:VEVENT
DTSTART;TZID=Europe/London:20251113T170000
DTEND;TZID=Europe/London:20251113T183000
DTSTAMP:20260421T183924
CREATED:20231019T102344Z
LAST-MODIFIED:20231019T102425Z
UID:10000139-1763053200-1763058600@netherstowey-pc.gov.uk
SUMMARY:Chess Time at the Library
DESCRIPTION:Learn the basics\, discover new moves and have fun!
URL:https://netherstowey-pc.gov.uk/event/chess-time-at-the-library/2025-11-13
LOCATION:Thomas Poole Library\, Castle Street\, Nether Stowey\, TA5 1LN
CATEGORIES:Thomas Poole Library
ORGANIZER;CN="Thomas Poole Library":MAILTO:eventsandpr@thomaspoolelibrary.org.uk
END:VEVENT
BEGIN:VEVENT
DTSTART;TZID=Europe/London:20251113T140000
DTEND;TZID=Europe/London:20251113T140000
DTSTAMP:20260421T183924
CREATED:20251105T113750Z
LAST-MODIFIED:20251106T122509Z
UID:10001802-1763042400-1763042400@netherstowey-pc.gov.uk
SUMMARY:Nether Stowey & Fiddington WI
DESCRIPTION:wi nov\nThe Women’s Institute is somewhere for women of all ages to relax\, have fun and make new friends. \nThey meet at the Church Centre\, Nether Stowey on the second Thursday of the month at 2pm
URL:https://netherstowey-pc.gov.uk/event/nether-stowey-fiddington-wi-5
LOCATION:St Mary’s Church Centre\, St Mary Street\, Nether Stowey\, TA5 1LJ\, United Kingdom
CATEGORIES:NSF WI
END:VEVENT
BEGIN:VEVENT
DTSTART;TZID=Europe/London:20251111T140000
DTEND;TZID=Europe/London:20251111T170000
DTSTAMP:20260421T183924
CREATED:20250623T110512Z
LAST-MODIFIED:20250623T111323Z
UID:10001659-1762869600-1762880400@netherstowey-pc.gov.uk
SUMMARY:NS Short Mat Bowls Club
DESCRIPTION:Short Mat Bowls Club at the Church Centre\, £4 per session\, contact: nsshortmatbowls@gmail.com or phone Terry Binding tel 01278 732710 \nNS Short Mat Bowls Club Poster May 2025 one page
URL:https://netherstowey-pc.gov.uk/event/ns-short-mat-bowls-club/2025-11-11
LOCATION:St Mary’s Church Centre\, St Mary Street\, Nether Stowey\, TA5 1LJ\, United Kingdom
ORGANIZER;CN="Mark Howells":MAILTO:nsshortmatbowls@gmail.com
END:VEVENT
BEGIN:VEVENT
DTSTART;TZID=Europe/London:20251110T190000
DTEND;TZID=Europe/London:20251110T190000
DTSTAMP:20260421T183924
CREATED:20251106T121617Z
LAST-MODIFIED:20251218T090503Z
UID:10001804-1762801200-1762801200@netherstowey-pc.gov.uk
SUMMARY:Parish Council Meeting
DESCRIPTION:This meeting will be held at St Mary’s Church Centre. Members of the public are welcome to attend. The agenda will be available here from the Wednesday afternoon before the meeting and also available in the Parish Office window and on notice boards at The Cross and at Harry Prowse Close and Church View.
URL:https://netherstowey-pc.gov.uk/event/parish-council-meeting-monday-6-november
LOCATION:St Mary’s Church Centre\, St Mary Street\, Nether Stowey\, TA5 1LJ\, United Kingdom
CATEGORIES:Parish Council Meetings
ORGANIZER;CN="Nether Stowey Parish Council":MAILTO:clerk@netherstowey-pc.gov.uk
END:VEVENT
BEGIN:VEVENT
DTSTART;TZID=Europe/London:20251110T110000
DTEND;TZID=Europe/London:20251110T113000
DTSTAMP:20260421T183924
CREATED:20231019T120029Z
LAST-MODIFIED:20231019T121833Z
UID:10000662-1762772400-1762774200@netherstowey-pc.gov.uk
SUMMARY:Story Time for babies\, toddlers and pre-schoolers
DESCRIPTION:Story Time is a lovely activity for babies and toddlers\, pre-school children\, and their grown-ups. \nHeld every Monday (apart from bank holidays) from 11 to 11.30. Listen to a story then pick an instrument from the music box and join in as we sing nursery rhymes.
URL:https://netherstowey-pc.gov.uk/event/story-time-for-babies-toddlers-and-pre-schoolers/2025-11-10
LOCATION:Thomas Poole Library\, Castle Street\, Nether Stowey\, TA5 1LN
CATEGORIES:Thomas Poole Library
ATTACH;FMTTYPE=image/jpeg:https://netherstowey-pc.gov.uk/wp-content/uploads/2023/10/unfocused-children-paying-attention-their-teacher-scaled.jpg
ORGANIZER;CN="Thomas Poole Library":MAILTO:eventsandpr@thomaspoolelibrary.org.uk
END:VEVENT
BEGIN:VEVENT
DTSTART;TZID=Europe/London:20251109T105000
DTEND;TZID=Europe/London:20251109T105000
DTSTAMP:20260421T183924
CREATED:20251104T095305Z
LAST-MODIFIED:20251104T095410Z
UID:10001798-1762685400-1762685400@netherstowey-pc.gov.uk
SUMMARY:Remembrance Sunday Service
DESCRIPTION:Sunday 9 November at the Cross starting 10.50am
URL:https://netherstowey-pc.gov.uk/event/remembrance-sunday-service-2
LOCATION:The Cross\, Nether Stowey\, The Cross\, Nether Stowey\, Somerset\, TA5 1LN\, United Kingdom
CATEGORIES:St Mary's PCC
ATTACH;FMTTYPE=image/jpeg:https://images.unsplash.com/photo-1594744842389-171406feb570?ixid=M3w1MTA1MTZ8MHwxfGFsbHx8fHx8fHx8fDE3MzA5OTI3MzZ8&ixlib=rb-4.0.3
ORGANIZER;CN="St Mary's Benefice Office":MAILTO:qv.benefice@gmail.com
END:VEVENT
BEGIN:VEVENT
DTSTART;TZID=Europe/London:20251107T140000
DTEND;TZID=Europe/London:20251107T140000
DTSTAMP:20260421T183924
CREATED:20250707T093015Z
LAST-MODIFIED:20250707T093213Z
UID:10001779-1762524000-1762524000@netherstowey-pc.gov.uk
SUMMARY:Nether Stowey & Fiddington WI
DESCRIPTION:The Women’s Institute is somewhere for women of all ages to relax\, have fun and make new friends. \nThey meet at the Church Centre\, Nether Stowey on the second Thursday of the month at 2pm
URL:https://netherstowey-pc.gov.uk/event/nether-stowey-fiddington-wi-4/2025-11-07
LOCATION:St Mary’s Church Centre\, St Mary Street\, Nether Stowey\, TA5 1LJ\, United Kingdom
CATEGORIES:NSF WI
ATTACH;FMTTYPE=image/jpeg:https://netherstowey-pc.gov.uk/wp-content/uploads/2023/10/WI.jpg
END:VEVENT
BEGIN:VEVENT
DTSTART;TZID=Europe/London:20251106T170000
DTEND;TZID=Europe/London:20251106T183000
DTSTAMP:20260421T183924
CREATED:20231019T102344Z
LAST-MODIFIED:20231019T102425Z
UID:10000138-1762448400-1762453800@netherstowey-pc.gov.uk
SUMMARY:Chess Time at the Library
DESCRIPTION:Learn the basics\, discover new moves and have fun!
URL:https://netherstowey-pc.gov.uk/event/chess-time-at-the-library/2025-11-06
LOCATION:Thomas Poole Library\, Castle Street\, Nether Stowey\, TA5 1LN
CATEGORIES:Thomas Poole Library
ORGANIZER;CN="Thomas Poole Library":MAILTO:eventsandpr@thomaspoolelibrary.org.uk
END:VEVENT
BEGIN:VEVENT
DTSTART;TZID=Europe/London:20251104T140000
DTEND;TZID=Europe/London:20251104T170000
DTSTAMP:20260421T183924
CREATED:20250623T110512Z
LAST-MODIFIED:20250623T111323Z
UID:10001658-1762264800-1762275600@netherstowey-pc.gov.uk
SUMMARY:NS Short Mat Bowls Club
DESCRIPTION:Short Mat Bowls Club at the Church Centre\, £4 per session\, contact: nsshortmatbowls@gmail.com or phone Terry Binding tel 01278 732710 \nNS Short Mat Bowls Club Poster May 2025 one page
URL:https://netherstowey-pc.gov.uk/event/ns-short-mat-bowls-club/2025-11-04
LOCATION:St Mary’s Church Centre\, St Mary Street\, Nether Stowey\, TA5 1LJ\, United Kingdom
ORGANIZER;CN="Mark Howells":MAILTO:nsshortmatbowls@gmail.com
END:VEVENT
BEGIN:VEVENT
DTSTART;TZID=Europe/London:20251103T110000
DTEND;TZID=Europe/London:20251103T113000
DTSTAMP:20260421T183924
CREATED:20231019T120029Z
LAST-MODIFIED:20231019T121833Z
UID:10000661-1762167600-1762169400@netherstowey-pc.gov.uk
SUMMARY:Story Time for babies\, toddlers and pre-schoolers
DESCRIPTION:Story Time is a lovely activity for babies and toddlers\, pre-school children\, and their grown-ups. \nHeld every Monday (apart from bank holidays) from 11 to 11.30. Listen to a story then pick an instrument from the music box and join in as we sing nursery rhymes.
URL:https://netherstowey-pc.gov.uk/event/story-time-for-babies-toddlers-and-pre-schoolers/2025-11-03
LOCATION:Thomas Poole Library\, Castle Street\, Nether Stowey\, TA5 1LN
CATEGORIES:Thomas Poole Library
ATTACH;FMTTYPE=image/jpeg:https://netherstowey-pc.gov.uk/wp-content/uploads/2023/10/unfocused-children-paying-attention-their-teacher-scaled.jpg
ORGANIZER;CN="Thomas Poole Library":MAILTO:eventsandpr@thomaspoolelibrary.org.uk
END:VEVENT
BEGIN:VEVENT
DTSTART;TZID=Europe/London:20251101T190000
DTEND;TZID=Europe/London:20251101T190000
DTSTAMP:20260421T183924
CREATED:20250912T092728Z
LAST-MODIFIED:20250912T093134Z
UID:10001791-1762023600-1762023600@netherstowey-pc.gov.uk
SUMMARY:Somerset Festival of Remembrance
DESCRIPTION:Tickets from www.eventbrite.co.uk/e/somerset-festival-of-remembrance \nSFOR Poster with QR Code
URL:https://netherstowey-pc.gov.uk/event/somerset-festival-of-remembrance
LOCATION:Wells Cathedral\, Wells\, Cathedral Green\,\, Wells\, BA5 2UE\, United Kingdom
END:VEVENT
BEGIN:VEVENT
DTSTART;TZID=Europe/London:20251030T170000
DTEND;TZID=Europe/London:20251030T183000
DTSTAMP:20260421T183924
CREATED:20231019T102344Z
LAST-MODIFIED:20231019T102425Z
UID:10000137-1761843600-1761849000@netherstowey-pc.gov.uk
SUMMARY:Chess Time at the Library
DESCRIPTION:Learn the basics\, discover new moves and have fun!
URL:https://netherstowey-pc.gov.uk/event/chess-time-at-the-library/2025-10-30
LOCATION:Thomas Poole Library\, Castle Street\, Nether Stowey\, TA5 1LN
CATEGORIES:Thomas Poole Library
ORGANIZER;CN="Thomas Poole Library":MAILTO:eventsandpr@thomaspoolelibrary.org.uk
END:VEVENT
BEGIN:VEVENT
DTSTART;TZID=Europe/London:20251028T140000
DTEND;TZID=Europe/London:20251028T170000
DTSTAMP:20260421T183924
CREATED:20250623T110512Z
LAST-MODIFIED:20250623T111323Z
UID:10001657-1761660000-1761670800@netherstowey-pc.gov.uk
SUMMARY:NS Short Mat Bowls Club
DESCRIPTION:Short Mat Bowls Club at the Church Centre\, £4 per session\, contact: nsshortmatbowls@gmail.com or phone Terry Binding tel 01278 732710 \nNS Short Mat Bowls Club Poster May 2025 one page
URL:https://netherstowey-pc.gov.uk/event/ns-short-mat-bowls-club/2025-10-28
LOCATION:St Mary’s Church Centre\, St Mary Street\, Nether Stowey\, TA5 1LJ\, United Kingdom
ORGANIZER;CN="Mark Howells":MAILTO:nsshortmatbowls@gmail.com
END:VEVENT
BEGIN:VEVENT
DTSTART;TZID=Europe/London:20251028T080000
DTEND;TZID=Europe/London:20251028T170000
DTSTAMP:20260421T183924
CREATED:20250625T101051Z
LAST-MODIFIED:20250625T101714Z
UID:10001741-1761638400-1761670800@netherstowey-pc.gov.uk
SUMMARY:Wessex Water - Drop-in for advice and help
DESCRIPTION:Meet Wessex Water for a chat about your water bill\, your services and how to save water and prevent blockages.\nBridgwater Library 10am-12pm and 1pm-2pm on 26 August and 28 October. Note closed for lunch between 12pm and 1pm
URL:https://netherstowey-pc.gov.uk/event/wessex-water-drop-in-for-advice-and-help/2025-10-28
LOCATION:Bridgwater Library\, Binford Place\, Bridgwater\, TA6 3LF\, United Kingdom
END:VEVENT
BEGIN:VEVENT
DTSTART;TZID=Europe/London:20251027T110000
DTEND;TZID=Europe/London:20251027T113000
DTSTAMP:20260421T183924
CREATED:20231019T120029Z
LAST-MODIFIED:20231019T121833Z
UID:10000660-1761562800-1761564600@netherstowey-pc.gov.uk
SUMMARY:Story Time for babies\, toddlers and pre-schoolers
DESCRIPTION:Story Time is a lovely activity for babies and toddlers\, pre-school children\, and their grown-ups. \nHeld every Monday (apart from bank holidays) from 11 to 11.30. Listen to a story then pick an instrument from the music box and join in as we sing nursery rhymes.
URL:https://netherstowey-pc.gov.uk/event/story-time-for-babies-toddlers-and-pre-schoolers/2025-10-27
LOCATION:Thomas Poole Library\, Castle Street\, Nether Stowey\, TA5 1LN
CATEGORIES:Thomas Poole Library
ATTACH;FMTTYPE=image/jpeg:https://netherstowey-pc.gov.uk/wp-content/uploads/2023/10/unfocused-children-paying-attention-their-teacher-scaled.jpg
ORGANIZER;CN="Thomas Poole Library":MAILTO:eventsandpr@thomaspoolelibrary.org.uk
END:VEVENT
BEGIN:VEVENT
DTSTART;TZID=Europe/London:20251023T170000
DTEND;TZID=Europe/London:20251023T183000
DTSTAMP:20260421T183924
CREATED:20231019T102344Z
LAST-MODIFIED:20231019T102425Z
UID:10000136-1761238800-1761244200@netherstowey-pc.gov.uk
SUMMARY:Chess Time at the Library
DESCRIPTION:Learn the basics\, discover new moves and have fun!
URL:https://netherstowey-pc.gov.uk/event/chess-time-at-the-library/2025-10-23
LOCATION:Thomas Poole Library\, Castle Street\, Nether Stowey\, TA5 1LN
CATEGORIES:Thomas Poole Library
ORGANIZER;CN="Thomas Poole Library":MAILTO:eventsandpr@thomaspoolelibrary.org.uk
END:VEVENT
BEGIN:VEVENT
DTSTART;TZID=Europe/London:20251021T140000
DTEND;TZID=Europe/London:20251021T170000
DTSTAMP:20260421T183924
CREATED:20250623T110512Z
LAST-MODIFIED:20250623T111323Z
UID:10001656-1761055200-1761066000@netherstowey-pc.gov.uk
SUMMARY:NS Short Mat Bowls Club
DESCRIPTION:Short Mat Bowls Club at the Church Centre\, £4 per session\, contact: nsshortmatbowls@gmail.com or phone Terry Binding tel 01278 732710 \nNS Short Mat Bowls Club Poster May 2025 one page
URL:https://netherstowey-pc.gov.uk/event/ns-short-mat-bowls-club/2025-10-21
LOCATION:St Mary’s Church Centre\, St Mary Street\, Nether Stowey\, TA5 1LJ\, United Kingdom
ORGANIZER;CN="Mark Howells":MAILTO:nsshortmatbowls@gmail.com
END:VEVENT
END:VCALENDAR