BEGIN:VCALENDAR
VERSION:2.0
PRODID:-//Nether Stowey Parish Council - ECPv6.15.18//NONSGML v1.0//EN
CALSCALE:GREGORIAN
METHOD:PUBLISH
X-WR-CALNAME:Nether Stowey Parish Council
X-ORIGINAL-URL:https://netherstowey-pc.gov.uk
X-WR-CALDESC:Events for Nether Stowey Parish Council
REFRESH-INTERVAL;VALUE=DURATION:PT1H
X-Robots-Tag:noindex
X-PUBLISHED-TTL:PT1H
BEGIN:VTIMEZONE
TZID:Europe/London
BEGIN:DAYLIGHT
TZOFFSETFROM:+0000
TZOFFSETTO:+0100
TZNAME:BST
DTSTART:20250330T010000
END:DAYLIGHT
BEGIN:STANDARD
TZOFFSETFROM:+0100
TZOFFSETTO:+0000
TZNAME:GMT
DTSTART:20251026T010000
END:STANDARD
BEGIN:DAYLIGHT
TZOFFSETFROM:+0000
TZOFFSETTO:+0100
TZNAME:BST
DTSTART:20260329T010000
END:DAYLIGHT
BEGIN:STANDARD
TZOFFSETFROM:+0100
TZOFFSETTO:+0000
TZNAME:GMT
DTSTART:20261025T010000
END:STANDARD
BEGIN:DAYLIGHT
TZOFFSETFROM:+0000
TZOFFSETTO:+0100
TZNAME:BST
DTSTART:20270328T010000
END:DAYLIGHT
BEGIN:STANDARD
TZOFFSETFROM:+0100
TZOFFSETTO:+0000
TZNAME:GMT
DTSTART:20271031T010000
END:STANDARD
END:VTIMEZONE
BEGIN:VEVENT
DTSTART;TZID=Europe/London:20260908T140000
DTEND;TZID=Europe/London:20260908T170000
DTSTAMP:20260421T194335
CREATED:20260404T081641Z
LAST-MODIFIED:20260406T075148Z
UID:10001702-1788876000-1788886800@netherstowey-pc.gov.uk
SUMMARY:NS Short Mat Bowls Club
DESCRIPTION:Short Mat Bowls Club at the Church Centre\, £5 per session\, contact: nsshortmatbowls@gmail.com or phone Terry Binding tel 01278 732710 \nAdvert NS Short Mat Bowls Club Poster April 2026 half page (1)
URL:https://netherstowey-pc.gov.uk/event/ns-short-mat-bowls-club-2/2026-09-08
LOCATION:St Mary’s Church Centre\, St Mary Street\, Nether Stowey\, TA5 1LJ\, United Kingdom
ORGANIZER;CN="Mark Howells":MAILTO:nsshortmatbowls@gmail.com
END:VEVENT
BEGIN:VEVENT
DTSTART;TZID=Europe/London:20260910T170000
DTEND;TZID=Europe/London:20260910T183000
DTSTAMP:20260421T194335
CREATED:20231019T102344Z
LAST-MODIFIED:20231019T102425Z
UID:10000182-1789059600-1789065000@netherstowey-pc.gov.uk
SUMMARY:Chess Time at the Library
DESCRIPTION:Learn the basics\, discover new moves and have fun!
URL:https://netherstowey-pc.gov.uk/event/chess-time-at-the-library/2026-09-10
LOCATION:Thomas Poole Library\, Castle Street\, Nether Stowey\, TA5 1LN
CATEGORIES:Thomas Poole Library
ORGANIZER;CN="Thomas Poole Library":MAILTO:eventsandpr@thomaspoolelibrary.org.uk
END:VEVENT
BEGIN:VEVENT
DTSTART;TZID=Europe/London:20260914T110000
DTEND;TZID=Europe/London:20260914T113000
DTSTAMP:20260421T194335
CREATED:20231019T120029Z
LAST-MODIFIED:20231019T121833Z
UID:10000706-1789383600-1789385400@netherstowey-pc.gov.uk
SUMMARY:Story Time for babies\, toddlers and pre-schoolers
DESCRIPTION:Story Time is a lovely activity for babies and toddlers\, pre-school children\, and their grown-ups. \nHeld every Monday (apart from bank holidays) from 11 to 11.30. Listen to a story then pick an instrument from the music box and join in as we sing nursery rhymes.
URL:https://netherstowey-pc.gov.uk/event/story-time-for-babies-toddlers-and-pre-schoolers/2026-09-14
LOCATION:Thomas Poole Library\, Castle Street\, Nether Stowey\, TA5 1LN
CATEGORIES:Thomas Poole Library
ATTACH;FMTTYPE=image/jpeg:https://netherstowey-pc.gov.uk/wp-content/uploads/2023/10/unfocused-children-paying-attention-their-teacher-scaled.jpg
ORGANIZER;CN="Thomas Poole Library":MAILTO:eventsandpr@thomaspoolelibrary.org.uk
END:VEVENT
BEGIN:VEVENT
DTSTART;TZID=Europe/London:20260915T140000
DTEND;TZID=Europe/London:20260915T170000
DTSTAMP:20260421T194335
CREATED:20260404T081641Z
LAST-MODIFIED:20260406T075148Z
UID:10001703-1789480800-1789491600@netherstowey-pc.gov.uk
SUMMARY:NS Short Mat Bowls Club
DESCRIPTION:Short Mat Bowls Club at the Church Centre\, £5 per session\, contact: nsshortmatbowls@gmail.com or phone Terry Binding tel 01278 732710 \nAdvert NS Short Mat Bowls Club Poster April 2026 half page (1)
URL:https://netherstowey-pc.gov.uk/event/ns-short-mat-bowls-club-2/2026-09-15
LOCATION:St Mary’s Church Centre\, St Mary Street\, Nether Stowey\, TA5 1LJ\, United Kingdom
ORGANIZER;CN="Mark Howells":MAILTO:nsshortmatbowls@gmail.com
END:VEVENT
BEGIN:VEVENT
DTSTART;TZID=Europe/London:20260917T170000
DTEND;TZID=Europe/London:20260917T183000
DTSTAMP:20260421T194335
CREATED:20231019T102344Z
LAST-MODIFIED:20231019T102425Z
UID:10000183-1789664400-1789669800@netherstowey-pc.gov.uk
SUMMARY:Chess Time at the Library
DESCRIPTION:Learn the basics\, discover new moves and have fun!
URL:https://netherstowey-pc.gov.uk/event/chess-time-at-the-library/2026-09-17
LOCATION:Thomas Poole Library\, Castle Street\, Nether Stowey\, TA5 1LN
CATEGORIES:Thomas Poole Library
ORGANIZER;CN="Thomas Poole Library":MAILTO:eventsandpr@thomaspoolelibrary.org.uk
END:VEVENT
BEGIN:VEVENT
DTSTART;TZID=Europe/London:20260921T110000
DTEND;TZID=Europe/London:20260921T113000
DTSTAMP:20260421T194335
CREATED:20231019T120029Z
LAST-MODIFIED:20231019T121833Z
UID:10000707-1789988400-1789990200@netherstowey-pc.gov.uk
SUMMARY:Story Time for babies\, toddlers and pre-schoolers
DESCRIPTION:Story Time is a lovely activity for babies and toddlers\, pre-school children\, and their grown-ups. \nHeld every Monday (apart from bank holidays) from 11 to 11.30. Listen to a story then pick an instrument from the music box and join in as we sing nursery rhymes.
URL:https://netherstowey-pc.gov.uk/event/story-time-for-babies-toddlers-and-pre-schoolers/2026-09-21
LOCATION:Thomas Poole Library\, Castle Street\, Nether Stowey\, TA5 1LN
CATEGORIES:Thomas Poole Library
ATTACH;FMTTYPE=image/jpeg:https://netherstowey-pc.gov.uk/wp-content/uploads/2023/10/unfocused-children-paying-attention-their-teacher-scaled.jpg
ORGANIZER;CN="Thomas Poole Library":MAILTO:eventsandpr@thomaspoolelibrary.org.uk
END:VEVENT
BEGIN:VEVENT
DTSTART;TZID=Europe/London:20260922T140000
DTEND;TZID=Europe/London:20260922T170000
DTSTAMP:20260421T194335
CREATED:20260404T081641Z
LAST-MODIFIED:20260406T075148Z
UID:10001704-1790085600-1790096400@netherstowey-pc.gov.uk
SUMMARY:NS Short Mat Bowls Club
DESCRIPTION:Short Mat Bowls Club at the Church Centre\, £5 per session\, contact: nsshortmatbowls@gmail.com or phone Terry Binding tel 01278 732710 \nAdvert NS Short Mat Bowls Club Poster April 2026 half page (1)
URL:https://netherstowey-pc.gov.uk/event/ns-short-mat-bowls-club-2/2026-09-22
LOCATION:St Mary’s Church Centre\, St Mary Street\, Nether Stowey\, TA5 1LJ\, United Kingdom
ORGANIZER;CN="Mark Howells":MAILTO:nsshortmatbowls@gmail.com
END:VEVENT
BEGIN:VEVENT
DTSTART;TZID=Europe/London:20260924T170000
DTEND;TZID=Europe/London:20260924T183000
DTSTAMP:20260421T194335
CREATED:20231019T102344Z
LAST-MODIFIED:20231019T102425Z
UID:10000184-1790269200-1790274600@netherstowey-pc.gov.uk
SUMMARY:Chess Time at the Library
DESCRIPTION:Learn the basics\, discover new moves and have fun!
URL:https://netherstowey-pc.gov.uk/event/chess-time-at-the-library/2026-09-24
LOCATION:Thomas Poole Library\, Castle Street\, Nether Stowey\, TA5 1LN
CATEGORIES:Thomas Poole Library
ORGANIZER;CN="Thomas Poole Library":MAILTO:eventsandpr@thomaspoolelibrary.org.uk
END:VEVENT
BEGIN:VEVENT
DTSTART;TZID=Europe/London:20260928T110000
DTEND;TZID=Europe/London:20260928T113000
DTSTAMP:20260421T194335
CREATED:20231019T120029Z
LAST-MODIFIED:20231019T121833Z
UID:10000708-1790593200-1790595000@netherstowey-pc.gov.uk
SUMMARY:Story Time for babies\, toddlers and pre-schoolers
DESCRIPTION:Story Time is a lovely activity for babies and toddlers\, pre-school children\, and their grown-ups. \nHeld every Monday (apart from bank holidays) from 11 to 11.30. Listen to a story then pick an instrument from the music box and join in as we sing nursery rhymes.
URL:https://netherstowey-pc.gov.uk/event/story-time-for-babies-toddlers-and-pre-schoolers/2026-09-28
LOCATION:Thomas Poole Library\, Castle Street\, Nether Stowey\, TA5 1LN
CATEGORIES:Thomas Poole Library
ATTACH;FMTTYPE=image/jpeg:https://netherstowey-pc.gov.uk/wp-content/uploads/2023/10/unfocused-children-paying-attention-their-teacher-scaled.jpg
ORGANIZER;CN="Thomas Poole Library":MAILTO:eventsandpr@thomaspoolelibrary.org.uk
END:VEVENT
BEGIN:VEVENT
DTSTART;TZID=Europe/London:20260929T140000
DTEND;TZID=Europe/London:20260929T170000
DTSTAMP:20260421T194335
CREATED:20260404T081641Z
LAST-MODIFIED:20260406T075148Z
UID:10001705-1790690400-1790701200@netherstowey-pc.gov.uk
SUMMARY:NS Short Mat Bowls Club
DESCRIPTION:Short Mat Bowls Club at the Church Centre\, £5 per session\, contact: nsshortmatbowls@gmail.com or phone Terry Binding tel 01278 732710 \nAdvert NS Short Mat Bowls Club Poster April 2026 half page (1)
URL:https://netherstowey-pc.gov.uk/event/ns-short-mat-bowls-club-2/2026-09-29
LOCATION:St Mary’s Church Centre\, St Mary Street\, Nether Stowey\, TA5 1LJ\, United Kingdom
ORGANIZER;CN="Mark Howells":MAILTO:nsshortmatbowls@gmail.com
END:VEVENT
BEGIN:VEVENT
DTSTART;TZID=Europe/London:20261001T170000
DTEND;TZID=Europe/London:20261001T183000
DTSTAMP:20260421T194335
CREATED:20231019T102344Z
LAST-MODIFIED:20231019T102425Z
UID:10000185-1790874000-1790879400@netherstowey-pc.gov.uk
SUMMARY:Chess Time at the Library
DESCRIPTION:Learn the basics\, discover new moves and have fun!
URL:https://netherstowey-pc.gov.uk/event/chess-time-at-the-library/2026-10-01
LOCATION:Thomas Poole Library\, Castle Street\, Nether Stowey\, TA5 1LN
CATEGORIES:Thomas Poole Library
ORGANIZER;CN="Thomas Poole Library":MAILTO:eventsandpr@thomaspoolelibrary.org.uk
END:VEVENT
BEGIN:VEVENT
DTSTART;TZID=Europe/London:20261005T110000
DTEND;TZID=Europe/London:20261005T113000
DTSTAMP:20260421T194335
CREATED:20231019T120029Z
LAST-MODIFIED:20231019T121833Z
UID:10000709-1791198000-1791199800@netherstowey-pc.gov.uk
SUMMARY:Story Time for babies\, toddlers and pre-schoolers
DESCRIPTION:Story Time is a lovely activity for babies and toddlers\, pre-school children\, and their grown-ups. \nHeld every Monday (apart from bank holidays) from 11 to 11.30. Listen to a story then pick an instrument from the music box and join in as we sing nursery rhymes.
URL:https://netherstowey-pc.gov.uk/event/story-time-for-babies-toddlers-and-pre-schoolers/2026-10-05
LOCATION:Thomas Poole Library\, Castle Street\, Nether Stowey\, TA5 1LN
CATEGORIES:Thomas Poole Library
ATTACH;FMTTYPE=image/jpeg:https://netherstowey-pc.gov.uk/wp-content/uploads/2023/10/unfocused-children-paying-attention-their-teacher-scaled.jpg
ORGANIZER;CN="Thomas Poole Library":MAILTO:eventsandpr@thomaspoolelibrary.org.uk
END:VEVENT
BEGIN:VEVENT
DTSTART;TZID=Europe/London:20261006T140000
DTEND;TZID=Europe/London:20261006T170000
DTSTAMP:20260421T194335
CREATED:20260404T081641Z
LAST-MODIFIED:20260406T075148Z
UID:10001706-1791295200-1791306000@netherstowey-pc.gov.uk
SUMMARY:NS Short Mat Bowls Club
DESCRIPTION:Short Mat Bowls Club at the Church Centre\, £5 per session\, contact: nsshortmatbowls@gmail.com or phone Terry Binding tel 01278 732710 \nAdvert NS Short Mat Bowls Club Poster April 2026 half page (1)
URL:https://netherstowey-pc.gov.uk/event/ns-short-mat-bowls-club-2/2026-10-06
LOCATION:St Mary’s Church Centre\, St Mary Street\, Nether Stowey\, TA5 1LJ\, United Kingdom
ORGANIZER;CN="Mark Howells":MAILTO:nsshortmatbowls@gmail.com
END:VEVENT
BEGIN:VEVENT
DTSTART;TZID=Europe/London:20261008T170000
DTEND;TZID=Europe/London:20261008T183000
DTSTAMP:20260421T194335
CREATED:20231019T102344Z
LAST-MODIFIED:20231019T102425Z
UID:10000186-1791478800-1791484200@netherstowey-pc.gov.uk
SUMMARY:Chess Time at the Library
DESCRIPTION:Learn the basics\, discover new moves and have fun!
URL:https://netherstowey-pc.gov.uk/event/chess-time-at-the-library/2026-10-08
LOCATION:Thomas Poole Library\, Castle Street\, Nether Stowey\, TA5 1LN
CATEGORIES:Thomas Poole Library
ORGANIZER;CN="Thomas Poole Library":MAILTO:eventsandpr@thomaspoolelibrary.org.uk
END:VEVENT
BEGIN:VEVENT
DTSTART;TZID=Europe/London:20261012T110000
DTEND;TZID=Europe/London:20261012T113000
DTSTAMP:20260421T194335
CREATED:20231019T120029Z
LAST-MODIFIED:20231019T121833Z
UID:10000710-1791802800-1791804600@netherstowey-pc.gov.uk
SUMMARY:Story Time for babies\, toddlers and pre-schoolers
DESCRIPTION:Story Time is a lovely activity for babies and toddlers\, pre-school children\, and their grown-ups. \nHeld every Monday (apart from bank holidays) from 11 to 11.30. Listen to a story then pick an instrument from the music box and join in as we sing nursery rhymes.
URL:https://netherstowey-pc.gov.uk/event/story-time-for-babies-toddlers-and-pre-schoolers/2026-10-12
LOCATION:Thomas Poole Library\, Castle Street\, Nether Stowey\, TA5 1LN
CATEGORIES:Thomas Poole Library
ATTACH;FMTTYPE=image/jpeg:https://netherstowey-pc.gov.uk/wp-content/uploads/2023/10/unfocused-children-paying-attention-their-teacher-scaled.jpg
ORGANIZER;CN="Thomas Poole Library":MAILTO:eventsandpr@thomaspoolelibrary.org.uk
END:VEVENT
BEGIN:VEVENT
DTSTART;TZID=Europe/London:20261013T140000
DTEND;TZID=Europe/London:20261013T170000
DTSTAMP:20260421T194335
CREATED:20260404T081641Z
LAST-MODIFIED:20260406T075148Z
UID:10001707-1791900000-1791910800@netherstowey-pc.gov.uk
SUMMARY:NS Short Mat Bowls Club
DESCRIPTION:Short Mat Bowls Club at the Church Centre\, £5 per session\, contact: nsshortmatbowls@gmail.com or phone Terry Binding tel 01278 732710 \nAdvert NS Short Mat Bowls Club Poster April 2026 half page (1)
URL:https://netherstowey-pc.gov.uk/event/ns-short-mat-bowls-club-2/2026-10-13
LOCATION:St Mary’s Church Centre\, St Mary Street\, Nether Stowey\, TA5 1LJ\, United Kingdom
ORGANIZER;CN="Mark Howells":MAILTO:nsshortmatbowls@gmail.com
END:VEVENT
BEGIN:VEVENT
DTSTART;TZID=Europe/London:20261015T170000
DTEND;TZID=Europe/London:20261015T183000
DTSTAMP:20260421T194335
CREATED:20231019T102344Z
LAST-MODIFIED:20231019T102425Z
UID:10000187-1792083600-1792089000@netherstowey-pc.gov.uk
SUMMARY:Chess Time at the Library
DESCRIPTION:Learn the basics\, discover new moves and have fun!
URL:https://netherstowey-pc.gov.uk/event/chess-time-at-the-library/2026-10-15
LOCATION:Thomas Poole Library\, Castle Street\, Nether Stowey\, TA5 1LN
CATEGORIES:Thomas Poole Library
ORGANIZER;CN="Thomas Poole Library":MAILTO:eventsandpr@thomaspoolelibrary.org.uk
END:VEVENT
BEGIN:VEVENT
DTSTART;TZID=Europe/London:20261019T110000
DTEND;TZID=Europe/London:20261019T113000
DTSTAMP:20260421T194335
CREATED:20231019T120029Z
LAST-MODIFIED:20231019T121833Z
UID:10000711-1792407600-1792409400@netherstowey-pc.gov.uk
SUMMARY:Story Time for babies\, toddlers and pre-schoolers
DESCRIPTION:Story Time is a lovely activity for babies and toddlers\, pre-school children\, and their grown-ups. \nHeld every Monday (apart from bank holidays) from 11 to 11.30. Listen to a story then pick an instrument from the music box and join in as we sing nursery rhymes.
URL:https://netherstowey-pc.gov.uk/event/story-time-for-babies-toddlers-and-pre-schoolers/2026-10-19
LOCATION:Thomas Poole Library\, Castle Street\, Nether Stowey\, TA5 1LN
CATEGORIES:Thomas Poole Library
ATTACH;FMTTYPE=image/jpeg:https://netherstowey-pc.gov.uk/wp-content/uploads/2023/10/unfocused-children-paying-attention-their-teacher-scaled.jpg
ORGANIZER;CN="Thomas Poole Library":MAILTO:eventsandpr@thomaspoolelibrary.org.uk
END:VEVENT
BEGIN:VEVENT
DTSTART;TZID=Europe/London:20261020T140000
DTEND;TZID=Europe/London:20261020T170000
DTSTAMP:20260421T194335
CREATED:20260404T081641Z
LAST-MODIFIED:20260406T075148Z
UID:10001708-1792504800-1792515600@netherstowey-pc.gov.uk
SUMMARY:NS Short Mat Bowls Club
DESCRIPTION:Short Mat Bowls Club at the Church Centre\, £5 per session\, contact: nsshortmatbowls@gmail.com or phone Terry Binding tel 01278 732710 \nAdvert NS Short Mat Bowls Club Poster April 2026 half page (1)
URL:https://netherstowey-pc.gov.uk/event/ns-short-mat-bowls-club-2/2026-10-20
LOCATION:St Mary’s Church Centre\, St Mary Street\, Nether Stowey\, TA5 1LJ\, United Kingdom
ORGANIZER;CN="Mark Howells":MAILTO:nsshortmatbowls@gmail.com
END:VEVENT
BEGIN:VEVENT
DTSTART;TZID=Europe/London:20261022T170000
DTEND;TZID=Europe/London:20261022T183000
DTSTAMP:20260421T194335
CREATED:20231019T102344Z
LAST-MODIFIED:20231019T102425Z
UID:10000188-1792688400-1792693800@netherstowey-pc.gov.uk
SUMMARY:Chess Time at the Library
DESCRIPTION:Learn the basics\, discover new moves and have fun!
URL:https://netherstowey-pc.gov.uk/event/chess-time-at-the-library/2026-10-22
LOCATION:Thomas Poole Library\, Castle Street\, Nether Stowey\, TA5 1LN
CATEGORIES:Thomas Poole Library
ORGANIZER;CN="Thomas Poole Library":MAILTO:eventsandpr@thomaspoolelibrary.org.uk
END:VEVENT
BEGIN:VEVENT
DTSTART;TZID=Europe/London:20261026T110000
DTEND;TZID=Europe/London:20261026T113000
DTSTAMP:20260421T194335
CREATED:20231019T120029Z
LAST-MODIFIED:20231019T121833Z
UID:10000712-1793012400-1793014200@netherstowey-pc.gov.uk
SUMMARY:Story Time for babies\, toddlers and pre-schoolers
DESCRIPTION:Story Time is a lovely activity for babies and toddlers\, pre-school children\, and their grown-ups. \nHeld every Monday (apart from bank holidays) from 11 to 11.30. Listen to a story then pick an instrument from the music box and join in as we sing nursery rhymes.
URL:https://netherstowey-pc.gov.uk/event/story-time-for-babies-toddlers-and-pre-schoolers/2026-10-26
LOCATION:Thomas Poole Library\, Castle Street\, Nether Stowey\, TA5 1LN
CATEGORIES:Thomas Poole Library
ATTACH;FMTTYPE=image/jpeg:https://netherstowey-pc.gov.uk/wp-content/uploads/2023/10/unfocused-children-paying-attention-their-teacher-scaled.jpg
ORGANIZER;CN="Thomas Poole Library":MAILTO:eventsandpr@thomaspoolelibrary.org.uk
END:VEVENT
BEGIN:VEVENT
DTSTART;TZID=Europe/London:20261027T140000
DTEND;TZID=Europe/London:20261027T170000
DTSTAMP:20260421T194335
CREATED:20260404T081641Z
LAST-MODIFIED:20260406T075148Z
UID:10001709-1793109600-1793120400@netherstowey-pc.gov.uk
SUMMARY:NS Short Mat Bowls Club
DESCRIPTION:Short Mat Bowls Club at the Church Centre\, £5 per session\, contact: nsshortmatbowls@gmail.com or phone Terry Binding tel 01278 732710 \nAdvert NS Short Mat Bowls Club Poster April 2026 half page (1)
URL:https://netherstowey-pc.gov.uk/event/ns-short-mat-bowls-club-2/2026-10-27
LOCATION:St Mary’s Church Centre\, St Mary Street\, Nether Stowey\, TA5 1LJ\, United Kingdom
ORGANIZER;CN="Mark Howells":MAILTO:nsshortmatbowls@gmail.com
END:VEVENT
BEGIN:VEVENT
DTSTART;TZID=Europe/London:20261029T170000
DTEND;TZID=Europe/London:20261029T183000
DTSTAMP:20260421T194335
CREATED:20231019T102344Z
LAST-MODIFIED:20231019T102425Z
UID:10000189-1793293200-1793298600@netherstowey-pc.gov.uk
SUMMARY:Chess Time at the Library
DESCRIPTION:Learn the basics\, discover new moves and have fun!
URL:https://netherstowey-pc.gov.uk/event/chess-time-at-the-library/2026-10-29
LOCATION:Thomas Poole Library\, Castle Street\, Nether Stowey\, TA5 1LN
CATEGORIES:Thomas Poole Library
ORGANIZER;CN="Thomas Poole Library":MAILTO:eventsandpr@thomaspoolelibrary.org.uk
END:VEVENT
BEGIN:VEVENT
DTSTART;TZID=Europe/London:20261102T110000
DTEND;TZID=Europe/London:20261102T113000
DTSTAMP:20260421T194335
CREATED:20231019T120029Z
LAST-MODIFIED:20231019T121833Z
UID:10000713-1793617200-1793619000@netherstowey-pc.gov.uk
SUMMARY:Story Time for babies\, toddlers and pre-schoolers
DESCRIPTION:Story Time is a lovely activity for babies and toddlers\, pre-school children\, and their grown-ups. \nHeld every Monday (apart from bank holidays) from 11 to 11.30. Listen to a story then pick an instrument from the music box and join in as we sing nursery rhymes.
URL:https://netherstowey-pc.gov.uk/event/story-time-for-babies-toddlers-and-pre-schoolers/2026-11-02
LOCATION:Thomas Poole Library\, Castle Street\, Nether Stowey\, TA5 1LN
CATEGORIES:Thomas Poole Library
ATTACH;FMTTYPE=image/jpeg:https://netherstowey-pc.gov.uk/wp-content/uploads/2023/10/unfocused-children-paying-attention-their-teacher-scaled.jpg
ORGANIZER;CN="Thomas Poole Library":MAILTO:eventsandpr@thomaspoolelibrary.org.uk
END:VEVENT
BEGIN:VEVENT
DTSTART;TZID=Europe/London:20261103T140000
DTEND;TZID=Europe/London:20261103T170000
DTSTAMP:20260421T194335
CREATED:20260404T081641Z
LAST-MODIFIED:20260406T075148Z
UID:10001710-1793714400-1793725200@netherstowey-pc.gov.uk
SUMMARY:NS Short Mat Bowls Club
DESCRIPTION:Short Mat Bowls Club at the Church Centre\, £5 per session\, contact: nsshortmatbowls@gmail.com or phone Terry Binding tel 01278 732710 \nAdvert NS Short Mat Bowls Club Poster April 2026 half page (1)
URL:https://netherstowey-pc.gov.uk/event/ns-short-mat-bowls-club-2/2026-11-03
LOCATION:St Mary’s Church Centre\, St Mary Street\, Nether Stowey\, TA5 1LJ\, United Kingdom
ORGANIZER;CN="Mark Howells":MAILTO:nsshortmatbowls@gmail.com
END:VEVENT
BEGIN:VEVENT
DTSTART;TZID=Europe/London:20261105T170000
DTEND;TZID=Europe/London:20261105T183000
DTSTAMP:20260421T194335
CREATED:20231019T102344Z
LAST-MODIFIED:20231019T102425Z
UID:10000190-1793898000-1793903400@netherstowey-pc.gov.uk
SUMMARY:Chess Time at the Library
DESCRIPTION:Learn the basics\, discover new moves and have fun!
URL:https://netherstowey-pc.gov.uk/event/chess-time-at-the-library/2026-11-05
LOCATION:Thomas Poole Library\, Castle Street\, Nether Stowey\, TA5 1LN
CATEGORIES:Thomas Poole Library
ORGANIZER;CN="Thomas Poole Library":MAILTO:eventsandpr@thomaspoolelibrary.org.uk
END:VEVENT
BEGIN:VEVENT
DTSTART;TZID=Europe/London:20261109T110000
DTEND;TZID=Europe/London:20261109T113000
DTSTAMP:20260421T194335
CREATED:20231019T120029Z
LAST-MODIFIED:20231019T121833Z
UID:10000714-1794222000-1794223800@netherstowey-pc.gov.uk
SUMMARY:Story Time for babies\, toddlers and pre-schoolers
DESCRIPTION:Story Time is a lovely activity for babies and toddlers\, pre-school children\, and their grown-ups. \nHeld every Monday (apart from bank holidays) from 11 to 11.30. Listen to a story then pick an instrument from the music box and join in as we sing nursery rhymes.
URL:https://netherstowey-pc.gov.uk/event/story-time-for-babies-toddlers-and-pre-schoolers/2026-11-09
LOCATION:Thomas Poole Library\, Castle Street\, Nether Stowey\, TA5 1LN
CATEGORIES:Thomas Poole Library
ATTACH;FMTTYPE=image/jpeg:https://netherstowey-pc.gov.uk/wp-content/uploads/2023/10/unfocused-children-paying-attention-their-teacher-scaled.jpg
ORGANIZER;CN="Thomas Poole Library":MAILTO:eventsandpr@thomaspoolelibrary.org.uk
END:VEVENT
BEGIN:VEVENT
DTSTART;TZID=Europe/London:20261110T140000
DTEND;TZID=Europe/London:20261110T170000
DTSTAMP:20260421T194335
CREATED:20260404T081641Z
LAST-MODIFIED:20260406T075148Z
UID:10001711-1794319200-1794330000@netherstowey-pc.gov.uk
SUMMARY:NS Short Mat Bowls Club
DESCRIPTION:Short Mat Bowls Club at the Church Centre\, £5 per session\, contact: nsshortmatbowls@gmail.com or phone Terry Binding tel 01278 732710 \nAdvert NS Short Mat Bowls Club Poster April 2026 half page (1)
URL:https://netherstowey-pc.gov.uk/event/ns-short-mat-bowls-club-2/2026-11-10
LOCATION:St Mary’s Church Centre\, St Mary Street\, Nether Stowey\, TA5 1LJ\, United Kingdom
ORGANIZER;CN="Mark Howells":MAILTO:nsshortmatbowls@gmail.com
END:VEVENT
BEGIN:VEVENT
DTSTART;TZID=Europe/London:20261112T170000
DTEND;TZID=Europe/London:20261112T183000
DTSTAMP:20260421T194335
CREATED:20231019T102344Z
LAST-MODIFIED:20231019T102425Z
UID:10000191-1794502800-1794508200@netherstowey-pc.gov.uk
SUMMARY:Chess Time at the Library
DESCRIPTION:Learn the basics\, discover new moves and have fun!
URL:https://netherstowey-pc.gov.uk/event/chess-time-at-the-library/2026-11-12
LOCATION:Thomas Poole Library\, Castle Street\, Nether Stowey\, TA5 1LN
CATEGORIES:Thomas Poole Library
ORGANIZER;CN="Thomas Poole Library":MAILTO:eventsandpr@thomaspoolelibrary.org.uk
END:VEVENT
BEGIN:VEVENT
DTSTART;TZID=Europe/London:20261116T110000
DTEND;TZID=Europe/London:20261116T113000
DTSTAMP:20260421T194335
CREATED:20231019T120029Z
LAST-MODIFIED:20231019T121833Z
UID:10000715-1794826800-1794828600@netherstowey-pc.gov.uk
SUMMARY:Story Time for babies\, toddlers and pre-schoolers
DESCRIPTION:Story Time is a lovely activity for babies and toddlers\, pre-school children\, and their grown-ups. \nHeld every Monday (apart from bank holidays) from 11 to 11.30. Listen to a story then pick an instrument from the music box and join in as we sing nursery rhymes.
URL:https://netherstowey-pc.gov.uk/event/story-time-for-babies-toddlers-and-pre-schoolers/2026-11-16
LOCATION:Thomas Poole Library\, Castle Street\, Nether Stowey\, TA5 1LN
CATEGORIES:Thomas Poole Library
ATTACH;FMTTYPE=image/jpeg:https://netherstowey-pc.gov.uk/wp-content/uploads/2023/10/unfocused-children-paying-attention-their-teacher-scaled.jpg
ORGANIZER;CN="Thomas Poole Library":MAILTO:eventsandpr@thomaspoolelibrary.org.uk
END:VEVENT
END:VCALENDAR