BEGIN:VCALENDAR
VERSION:2.0
PRODID:-//Nether Stowey Parish Council - ECPv6.15.18//NONSGML v1.0//EN
CALSCALE:GREGORIAN
METHOD:PUBLISH
X-WR-CALNAME:Nether Stowey Parish Council
X-ORIGINAL-URL:https://netherstowey-pc.gov.uk
X-WR-CALDESC:Events for Nether Stowey Parish Council
REFRESH-INTERVAL;VALUE=DURATION:PT1H
X-Robots-Tag:noindex
X-PUBLISHED-TTL:PT1H
BEGIN:VTIMEZONE
TZID:Europe/London
BEGIN:DAYLIGHT
TZOFFSETFROM:+0000
TZOFFSETTO:+0100
TZNAME:BST
DTSTART:20250330T010000
END:DAYLIGHT
BEGIN:STANDARD
TZOFFSETFROM:+0100
TZOFFSETTO:+0000
TZNAME:GMT
DTSTART:20251026T010000
END:STANDARD
BEGIN:DAYLIGHT
TZOFFSETFROM:+0000
TZOFFSETTO:+0100
TZNAME:BST
DTSTART:20260329T010000
END:DAYLIGHT
BEGIN:STANDARD
TZOFFSETFROM:+0100
TZOFFSETTO:+0000
TZNAME:GMT
DTSTART:20261025T010000
END:STANDARD
BEGIN:DAYLIGHT
TZOFFSETFROM:+0000
TZOFFSETTO:+0100
TZNAME:BST
DTSTART:20270328T010000
END:DAYLIGHT
BEGIN:STANDARD
TZOFFSETFROM:+0100
TZOFFSETTO:+0000
TZNAME:GMT
DTSTART:20271031T010000
END:STANDARD
END:VTIMEZONE
BEGIN:VEVENT
DTSTART;TZID=Europe/London:20260428T140000
DTEND;TZID=Europe/London:20260428T170000
DTSTAMP:20260423T221243
CREATED:20260404T081641Z
LAST-MODIFIED:20260406T075148Z
UID:10001683-1777384800-1777395600@netherstowey-pc.gov.uk
SUMMARY:NS Short Mat Bowls Club
DESCRIPTION:Short Mat Bowls Club at the Church Centre\, £5 per session\, contact: nsshortmatbowls@gmail.com or phone Terry Binding tel 01278 732710 \nAdvert NS Short Mat Bowls Club Poster April 2026 half page (1)
URL:https://netherstowey-pc.gov.uk/event/ns-short-mat-bowls-club-2/2026-04-28
LOCATION:St Mary’s Church Centre\, St Mary Street\, Nether Stowey\, TA5 1LJ\, United Kingdom
ORGANIZER;CN="Mark Howells":MAILTO:nsshortmatbowls@gmail.com
END:VEVENT
BEGIN:VEVENT
DTSTART;TZID=Europe/London:20260505T140000
DTEND;TZID=Europe/London:20260505T170000
DTSTAMP:20260423T221243
CREATED:20260404T081641Z
LAST-MODIFIED:20260406T075148Z
UID:10001684-1777989600-1778000400@netherstowey-pc.gov.uk
SUMMARY:NS Short Mat Bowls Club
DESCRIPTION:Short Mat Bowls Club at the Church Centre\, £5 per session\, contact: nsshortmatbowls@gmail.com or phone Terry Binding tel 01278 732710 \nAdvert NS Short Mat Bowls Club Poster April 2026 half page (1)
URL:https://netherstowey-pc.gov.uk/event/ns-short-mat-bowls-club-2/2026-05-05
LOCATION:St Mary’s Church Centre\, St Mary Street\, Nether Stowey\, TA5 1LJ\, United Kingdom
ORGANIZER;CN="Mark Howells":MAILTO:nsshortmatbowls@gmail.com
END:VEVENT
BEGIN:VEVENT
DTSTART;TZID=Europe/London:20260512T140000
DTEND;TZID=Europe/London:20260512T170000
DTSTAMP:20260423T221243
CREATED:20260404T081641Z
LAST-MODIFIED:20260406T075148Z
UID:10001685-1778594400-1778605200@netherstowey-pc.gov.uk
SUMMARY:NS Short Mat Bowls Club
DESCRIPTION:Short Mat Bowls Club at the Church Centre\, £5 per session\, contact: nsshortmatbowls@gmail.com or phone Terry Binding tel 01278 732710 \nAdvert NS Short Mat Bowls Club Poster April 2026 half page (1)
URL:https://netherstowey-pc.gov.uk/event/ns-short-mat-bowls-club-2/2026-05-12
LOCATION:St Mary’s Church Centre\, St Mary Street\, Nether Stowey\, TA5 1LJ\, United Kingdom
ORGANIZER;CN="Mark Howells":MAILTO:nsshortmatbowls@gmail.com
END:VEVENT
BEGIN:VEVENT
DTSTART;TZID=Europe/London:20260519T140000
DTEND;TZID=Europe/London:20260519T170000
DTSTAMP:20260423T221243
CREATED:20260404T081641Z
LAST-MODIFIED:20260406T075148Z
UID:10001686-1779199200-1779210000@netherstowey-pc.gov.uk
SUMMARY:NS Short Mat Bowls Club
DESCRIPTION:Short Mat Bowls Club at the Church Centre\, £5 per session\, contact: nsshortmatbowls@gmail.com or phone Terry Binding tel 01278 732710 \nAdvert NS Short Mat Bowls Club Poster April 2026 half page (1)
URL:https://netherstowey-pc.gov.uk/event/ns-short-mat-bowls-club-2/2026-05-19
LOCATION:St Mary’s Church Centre\, St Mary Street\, Nether Stowey\, TA5 1LJ\, United Kingdom
ORGANIZER;CN="Mark Howells":MAILTO:nsshortmatbowls@gmail.com
END:VEVENT
BEGIN:VEVENT
DTSTART;TZID=Europe/London:20260526T140000
DTEND;TZID=Europe/London:20260526T170000
DTSTAMP:20260423T221243
CREATED:20260404T081641Z
LAST-MODIFIED:20260406T075148Z
UID:10001687-1779804000-1779814800@netherstowey-pc.gov.uk
SUMMARY:NS Short Mat Bowls Club
DESCRIPTION:Short Mat Bowls Club at the Church Centre\, £5 per session\, contact: nsshortmatbowls@gmail.com or phone Terry Binding tel 01278 732710 \nAdvert NS Short Mat Bowls Club Poster April 2026 half page (1)
URL:https://netherstowey-pc.gov.uk/event/ns-short-mat-bowls-club-2/2026-05-26
LOCATION:St Mary’s Church Centre\, St Mary Street\, Nether Stowey\, TA5 1LJ\, United Kingdom
ORGANIZER;CN="Mark Howells":MAILTO:nsshortmatbowls@gmail.com
END:VEVENT
BEGIN:VEVENT
DTSTART;TZID=Europe/London:20260602T140000
DTEND;TZID=Europe/London:20260602T170000
DTSTAMP:20260423T221243
CREATED:20260404T081641Z
LAST-MODIFIED:20260406T075148Z
UID:10001688-1780408800-1780419600@netherstowey-pc.gov.uk
SUMMARY:NS Short Mat Bowls Club
DESCRIPTION:Short Mat Bowls Club at the Church Centre\, £5 per session\, contact: nsshortmatbowls@gmail.com or phone Terry Binding tel 01278 732710 \nAdvert NS Short Mat Bowls Club Poster April 2026 half page (1)
URL:https://netherstowey-pc.gov.uk/event/ns-short-mat-bowls-club-2/2026-06-02
LOCATION:St Mary’s Church Centre\, St Mary Street\, Nether Stowey\, TA5 1LJ\, United Kingdom
ORGANIZER;CN="Mark Howells":MAILTO:nsshortmatbowls@gmail.com
END:VEVENT
BEGIN:VEVENT
DTSTART;TZID=Europe/London:20260609T140000
DTEND;TZID=Europe/London:20260609T170000
DTSTAMP:20260423T221243
CREATED:20260404T081641Z
LAST-MODIFIED:20260406T075148Z
UID:10001689-1781013600-1781024400@netherstowey-pc.gov.uk
SUMMARY:NS Short Mat Bowls Club
DESCRIPTION:Short Mat Bowls Club at the Church Centre\, £5 per session\, contact: nsshortmatbowls@gmail.com or phone Terry Binding tel 01278 732710 \nAdvert NS Short Mat Bowls Club Poster April 2026 half page (1)
URL:https://netherstowey-pc.gov.uk/event/ns-short-mat-bowls-club-2/2026-06-09
LOCATION:St Mary’s Church Centre\, St Mary Street\, Nether Stowey\, TA5 1LJ\, United Kingdom
ORGANIZER;CN="Mark Howells":MAILTO:nsshortmatbowls@gmail.com
END:VEVENT
BEGIN:VEVENT
DTSTART;TZID=Europe/London:20260616T140000
DTEND;TZID=Europe/London:20260616T170000
DTSTAMP:20260423T221243
CREATED:20260404T081641Z
LAST-MODIFIED:20260406T075148Z
UID:10001690-1781618400-1781629200@netherstowey-pc.gov.uk
SUMMARY:NS Short Mat Bowls Club
DESCRIPTION:Short Mat Bowls Club at the Church Centre\, £5 per session\, contact: nsshortmatbowls@gmail.com or phone Terry Binding tel 01278 732710 \nAdvert NS Short Mat Bowls Club Poster April 2026 half page (1)
URL:https://netherstowey-pc.gov.uk/event/ns-short-mat-bowls-club-2/2026-06-16
LOCATION:St Mary’s Church Centre\, St Mary Street\, Nether Stowey\, TA5 1LJ\, United Kingdom
ORGANIZER;CN="Mark Howells":MAILTO:nsshortmatbowls@gmail.com
END:VEVENT
BEGIN:VEVENT
DTSTART;TZID=Europe/London:20260623T140000
DTEND;TZID=Europe/London:20260623T170000
DTSTAMP:20260423T221243
CREATED:20260404T081641Z
LAST-MODIFIED:20260406T075148Z
UID:10001691-1782223200-1782234000@netherstowey-pc.gov.uk
SUMMARY:NS Short Mat Bowls Club
DESCRIPTION:Short Mat Bowls Club at the Church Centre\, £5 per session\, contact: nsshortmatbowls@gmail.com or phone Terry Binding tel 01278 732710 \nAdvert NS Short Mat Bowls Club Poster April 2026 half page (1)
URL:https://netherstowey-pc.gov.uk/event/ns-short-mat-bowls-club-2/2026-06-23
LOCATION:St Mary’s Church Centre\, St Mary Street\, Nether Stowey\, TA5 1LJ\, United Kingdom
ORGANIZER;CN="Mark Howells":MAILTO:nsshortmatbowls@gmail.com
END:VEVENT
BEGIN:VEVENT
DTSTART;TZID=Europe/London:20260630T140000
DTEND;TZID=Europe/London:20260630T170000
DTSTAMP:20260423T221243
CREATED:20260404T081641Z
LAST-MODIFIED:20260406T075148Z
UID:10001692-1782828000-1782838800@netherstowey-pc.gov.uk
SUMMARY:NS Short Mat Bowls Club
DESCRIPTION:Short Mat Bowls Club at the Church Centre\, £5 per session\, contact: nsshortmatbowls@gmail.com or phone Terry Binding tel 01278 732710 \nAdvert NS Short Mat Bowls Club Poster April 2026 half page (1)
URL:https://netherstowey-pc.gov.uk/event/ns-short-mat-bowls-club-2/2026-06-30
LOCATION:St Mary’s Church Centre\, St Mary Street\, Nether Stowey\, TA5 1LJ\, United Kingdom
ORGANIZER;CN="Mark Howells":MAILTO:nsshortmatbowls@gmail.com
END:VEVENT
BEGIN:VEVENT
DTSTART;TZID=Europe/London:20260707T140000
DTEND;TZID=Europe/London:20260707T170000
DTSTAMP:20260423T221243
CREATED:20260404T081641Z
LAST-MODIFIED:20260406T075148Z
UID:10001693-1783432800-1783443600@netherstowey-pc.gov.uk
SUMMARY:NS Short Mat Bowls Club
DESCRIPTION:Short Mat Bowls Club at the Church Centre\, £5 per session\, contact: nsshortmatbowls@gmail.com or phone Terry Binding tel 01278 732710 \nAdvert NS Short Mat Bowls Club Poster April 2026 half page (1)
URL:https://netherstowey-pc.gov.uk/event/ns-short-mat-bowls-club-2/2026-07-07
LOCATION:St Mary’s Church Centre\, St Mary Street\, Nether Stowey\, TA5 1LJ\, United Kingdom
ORGANIZER;CN="Mark Howells":MAILTO:nsshortmatbowls@gmail.com
END:VEVENT
BEGIN:VEVENT
DTSTART;TZID=Europe/London:20260714T140000
DTEND;TZID=Europe/London:20260714T170000
DTSTAMP:20260423T221243
CREATED:20260404T081641Z
LAST-MODIFIED:20260406T075148Z
UID:10001694-1784037600-1784048400@netherstowey-pc.gov.uk
SUMMARY:NS Short Mat Bowls Club
DESCRIPTION:Short Mat Bowls Club at the Church Centre\, £5 per session\, contact: nsshortmatbowls@gmail.com or phone Terry Binding tel 01278 732710 \nAdvert NS Short Mat Bowls Club Poster April 2026 half page (1)
URL:https://netherstowey-pc.gov.uk/event/ns-short-mat-bowls-club-2/2026-07-14
LOCATION:St Mary’s Church Centre\, St Mary Street\, Nether Stowey\, TA5 1LJ\, United Kingdom
ORGANIZER;CN="Mark Howells":MAILTO:nsshortmatbowls@gmail.com
END:VEVENT
BEGIN:VEVENT
DTSTART;TZID=Europe/London:20260721T140000
DTEND;TZID=Europe/London:20260721T170000
DTSTAMP:20260423T221243
CREATED:20260404T081641Z
LAST-MODIFIED:20260406T075148Z
UID:10001695-1784642400-1784653200@netherstowey-pc.gov.uk
SUMMARY:NS Short Mat Bowls Club
DESCRIPTION:Short Mat Bowls Club at the Church Centre\, £5 per session\, contact: nsshortmatbowls@gmail.com or phone Terry Binding tel 01278 732710 \nAdvert NS Short Mat Bowls Club Poster April 2026 half page (1)
URL:https://netherstowey-pc.gov.uk/event/ns-short-mat-bowls-club-2/2026-07-21
LOCATION:St Mary’s Church Centre\, St Mary Street\, Nether Stowey\, TA5 1LJ\, United Kingdom
ORGANIZER;CN="Mark Howells":MAILTO:nsshortmatbowls@gmail.com
END:VEVENT
BEGIN:VEVENT
DTSTART;TZID=Europe/London:20260728T140000
DTEND;TZID=Europe/London:20260728T170000
DTSTAMP:20260423T221243
CREATED:20260404T081641Z
LAST-MODIFIED:20260406T075148Z
UID:10001696-1785247200-1785258000@netherstowey-pc.gov.uk
SUMMARY:NS Short Mat Bowls Club
DESCRIPTION:Short Mat Bowls Club at the Church Centre\, £5 per session\, contact: nsshortmatbowls@gmail.com or phone Terry Binding tel 01278 732710 \nAdvert NS Short Mat Bowls Club Poster April 2026 half page (1)
URL:https://netherstowey-pc.gov.uk/event/ns-short-mat-bowls-club-2/2026-07-28
LOCATION:St Mary’s Church Centre\, St Mary Street\, Nether Stowey\, TA5 1LJ\, United Kingdom
ORGANIZER;CN="Mark Howells":MAILTO:nsshortmatbowls@gmail.com
END:VEVENT
BEGIN:VEVENT
DTSTART;TZID=Europe/London:20260804T140000
DTEND;TZID=Europe/London:20260804T170000
DTSTAMP:20260423T221243
CREATED:20260404T081641Z
LAST-MODIFIED:20260406T075148Z
UID:10001697-1785852000-1785862800@netherstowey-pc.gov.uk
SUMMARY:NS Short Mat Bowls Club
DESCRIPTION:Short Mat Bowls Club at the Church Centre\, £5 per session\, contact: nsshortmatbowls@gmail.com or phone Terry Binding tel 01278 732710 \nAdvert NS Short Mat Bowls Club Poster April 2026 half page (1)
URL:https://netherstowey-pc.gov.uk/event/ns-short-mat-bowls-club-2/2026-08-04
LOCATION:St Mary’s Church Centre\, St Mary Street\, Nether Stowey\, TA5 1LJ\, United Kingdom
ORGANIZER;CN="Mark Howells":MAILTO:nsshortmatbowls@gmail.com
END:VEVENT
BEGIN:VEVENT
DTSTART;TZID=Europe/London:20260811T140000
DTEND;TZID=Europe/London:20260811T170000
DTSTAMP:20260423T221243
CREATED:20260404T081641Z
LAST-MODIFIED:20260406T075148Z
UID:10001698-1786456800-1786467600@netherstowey-pc.gov.uk
SUMMARY:NS Short Mat Bowls Club
DESCRIPTION:Short Mat Bowls Club at the Church Centre\, £5 per session\, contact: nsshortmatbowls@gmail.com or phone Terry Binding tel 01278 732710 \nAdvert NS Short Mat Bowls Club Poster April 2026 half page (1)
URL:https://netherstowey-pc.gov.uk/event/ns-short-mat-bowls-club-2/2026-08-11
LOCATION:St Mary’s Church Centre\, St Mary Street\, Nether Stowey\, TA5 1LJ\, United Kingdom
ORGANIZER;CN="Mark Howells":MAILTO:nsshortmatbowls@gmail.com
END:VEVENT
BEGIN:VEVENT
DTSTART;TZID=Europe/London:20260818T140000
DTEND;TZID=Europe/London:20260818T170000
DTSTAMP:20260423T221243
CREATED:20260404T081641Z
LAST-MODIFIED:20260406T075148Z
UID:10001699-1787061600-1787072400@netherstowey-pc.gov.uk
SUMMARY:NS Short Mat Bowls Club
DESCRIPTION:Short Mat Bowls Club at the Church Centre\, £5 per session\, contact: nsshortmatbowls@gmail.com or phone Terry Binding tel 01278 732710 \nAdvert NS Short Mat Bowls Club Poster April 2026 half page (1)
URL:https://netherstowey-pc.gov.uk/event/ns-short-mat-bowls-club-2/2026-08-18
LOCATION:St Mary’s Church Centre\, St Mary Street\, Nether Stowey\, TA5 1LJ\, United Kingdom
ORGANIZER;CN="Mark Howells":MAILTO:nsshortmatbowls@gmail.com
END:VEVENT
BEGIN:VEVENT
DTSTART;TZID=Europe/London:20260825T140000
DTEND;TZID=Europe/London:20260825T170000
DTSTAMP:20260423T221243
CREATED:20260404T081641Z
LAST-MODIFIED:20260406T075148Z
UID:10001700-1787666400-1787677200@netherstowey-pc.gov.uk
SUMMARY:NS Short Mat Bowls Club
DESCRIPTION:Short Mat Bowls Club at the Church Centre\, £5 per session\, contact: nsshortmatbowls@gmail.com or phone Terry Binding tel 01278 732710 \nAdvert NS Short Mat Bowls Club Poster April 2026 half page (1)
URL:https://netherstowey-pc.gov.uk/event/ns-short-mat-bowls-club-2/2026-08-25
LOCATION:St Mary’s Church Centre\, St Mary Street\, Nether Stowey\, TA5 1LJ\, United Kingdom
ORGANIZER;CN="Mark Howells":MAILTO:nsshortmatbowls@gmail.com
END:VEVENT
BEGIN:VEVENT
DTSTART;TZID=Europe/London:20260901T140000
DTEND;TZID=Europe/London:20260901T170000
DTSTAMP:20260423T221243
CREATED:20260404T081641Z
LAST-MODIFIED:20260406T075148Z
UID:10001701-1788271200-1788282000@netherstowey-pc.gov.uk
SUMMARY:NS Short Mat Bowls Club
DESCRIPTION:Short Mat Bowls Club at the Church Centre\, £5 per session\, contact: nsshortmatbowls@gmail.com or phone Terry Binding tel 01278 732710 \nAdvert NS Short Mat Bowls Club Poster April 2026 half page (1)
URL:https://netherstowey-pc.gov.uk/event/ns-short-mat-bowls-club-2/2026-09-01
LOCATION:St Mary’s Church Centre\, St Mary Street\, Nether Stowey\, TA5 1LJ\, United Kingdom
ORGANIZER;CN="Mark Howells":MAILTO:nsshortmatbowls@gmail.com
END:VEVENT
BEGIN:VEVENT
DTSTART;TZID=Europe/London:20260908T140000
DTEND;TZID=Europe/London:20260908T170000
DTSTAMP:20260423T221243
CREATED:20260404T081641Z
LAST-MODIFIED:20260406T075148Z
UID:10001702-1788876000-1788886800@netherstowey-pc.gov.uk
SUMMARY:NS Short Mat Bowls Club
DESCRIPTION:Short Mat Bowls Club at the Church Centre\, £5 per session\, contact: nsshortmatbowls@gmail.com or phone Terry Binding tel 01278 732710 \nAdvert NS Short Mat Bowls Club Poster April 2026 half page (1)
URL:https://netherstowey-pc.gov.uk/event/ns-short-mat-bowls-club-2/2026-09-08
LOCATION:St Mary’s Church Centre\, St Mary Street\, Nether Stowey\, TA5 1LJ\, United Kingdom
ORGANIZER;CN="Mark Howells":MAILTO:nsshortmatbowls@gmail.com
END:VEVENT
BEGIN:VEVENT
DTSTART;TZID=Europe/London:20260915T140000
DTEND;TZID=Europe/London:20260915T170000
DTSTAMP:20260423T221243
CREATED:20260404T081641Z
LAST-MODIFIED:20260406T075148Z
UID:10001703-1789480800-1789491600@netherstowey-pc.gov.uk
SUMMARY:NS Short Mat Bowls Club
DESCRIPTION:Short Mat Bowls Club at the Church Centre\, £5 per session\, contact: nsshortmatbowls@gmail.com or phone Terry Binding tel 01278 732710 \nAdvert NS Short Mat Bowls Club Poster April 2026 half page (1)
URL:https://netherstowey-pc.gov.uk/event/ns-short-mat-bowls-club-2/2026-09-15
LOCATION:St Mary’s Church Centre\, St Mary Street\, Nether Stowey\, TA5 1LJ\, United Kingdom
ORGANIZER;CN="Mark Howells":MAILTO:nsshortmatbowls@gmail.com
END:VEVENT
BEGIN:VEVENT
DTSTART;TZID=Europe/London:20260922T140000
DTEND;TZID=Europe/London:20260922T170000
DTSTAMP:20260423T221243
CREATED:20260404T081641Z
LAST-MODIFIED:20260406T075148Z
UID:10001704-1790085600-1790096400@netherstowey-pc.gov.uk
SUMMARY:NS Short Mat Bowls Club
DESCRIPTION:Short Mat Bowls Club at the Church Centre\, £5 per session\, contact: nsshortmatbowls@gmail.com or phone Terry Binding tel 01278 732710 \nAdvert NS Short Mat Bowls Club Poster April 2026 half page (1)
URL:https://netherstowey-pc.gov.uk/event/ns-short-mat-bowls-club-2/2026-09-22
LOCATION:St Mary’s Church Centre\, St Mary Street\, Nether Stowey\, TA5 1LJ\, United Kingdom
ORGANIZER;CN="Mark Howells":MAILTO:nsshortmatbowls@gmail.com
END:VEVENT
BEGIN:VEVENT
DTSTART;TZID=Europe/London:20260929T140000
DTEND;TZID=Europe/London:20260929T170000
DTSTAMP:20260423T221243
CREATED:20260404T081641Z
LAST-MODIFIED:20260406T075148Z
UID:10001705-1790690400-1790701200@netherstowey-pc.gov.uk
SUMMARY:NS Short Mat Bowls Club
DESCRIPTION:Short Mat Bowls Club at the Church Centre\, £5 per session\, contact: nsshortmatbowls@gmail.com or phone Terry Binding tel 01278 732710 \nAdvert NS Short Mat Bowls Club Poster April 2026 half page (1)
URL:https://netherstowey-pc.gov.uk/event/ns-short-mat-bowls-club-2/2026-09-29
LOCATION:St Mary’s Church Centre\, St Mary Street\, Nether Stowey\, TA5 1LJ\, United Kingdom
ORGANIZER;CN="Mark Howells":MAILTO:nsshortmatbowls@gmail.com
END:VEVENT
BEGIN:VEVENT
DTSTART;TZID=Europe/London:20261006T140000
DTEND;TZID=Europe/London:20261006T170000
DTSTAMP:20260423T221243
CREATED:20260404T081641Z
LAST-MODIFIED:20260406T075148Z
UID:10001706-1791295200-1791306000@netherstowey-pc.gov.uk
SUMMARY:NS Short Mat Bowls Club
DESCRIPTION:Short Mat Bowls Club at the Church Centre\, £5 per session\, contact: nsshortmatbowls@gmail.com or phone Terry Binding tel 01278 732710 \nAdvert NS Short Mat Bowls Club Poster April 2026 half page (1)
URL:https://netherstowey-pc.gov.uk/event/ns-short-mat-bowls-club-2/2026-10-06
LOCATION:St Mary’s Church Centre\, St Mary Street\, Nether Stowey\, TA5 1LJ\, United Kingdom
ORGANIZER;CN="Mark Howells":MAILTO:nsshortmatbowls@gmail.com
END:VEVENT
BEGIN:VEVENT
DTSTART;TZID=Europe/London:20261013T140000
DTEND;TZID=Europe/London:20261013T170000
DTSTAMP:20260423T221243
CREATED:20260404T081641Z
LAST-MODIFIED:20260406T075148Z
UID:10001707-1791900000-1791910800@netherstowey-pc.gov.uk
SUMMARY:NS Short Mat Bowls Club
DESCRIPTION:Short Mat Bowls Club at the Church Centre\, £5 per session\, contact: nsshortmatbowls@gmail.com or phone Terry Binding tel 01278 732710 \nAdvert NS Short Mat Bowls Club Poster April 2026 half page (1)
URL:https://netherstowey-pc.gov.uk/event/ns-short-mat-bowls-club-2/2026-10-13
LOCATION:St Mary’s Church Centre\, St Mary Street\, Nether Stowey\, TA5 1LJ\, United Kingdom
ORGANIZER;CN="Mark Howells":MAILTO:nsshortmatbowls@gmail.com
END:VEVENT
BEGIN:VEVENT
DTSTART;TZID=Europe/London:20261020T140000
DTEND;TZID=Europe/London:20261020T170000
DTSTAMP:20260423T221243
CREATED:20260404T081641Z
LAST-MODIFIED:20260406T075148Z
UID:10001708-1792504800-1792515600@netherstowey-pc.gov.uk
SUMMARY:NS Short Mat Bowls Club
DESCRIPTION:Short Mat Bowls Club at the Church Centre\, £5 per session\, contact: nsshortmatbowls@gmail.com or phone Terry Binding tel 01278 732710 \nAdvert NS Short Mat Bowls Club Poster April 2026 half page (1)
URL:https://netherstowey-pc.gov.uk/event/ns-short-mat-bowls-club-2/2026-10-20
LOCATION:St Mary’s Church Centre\, St Mary Street\, Nether Stowey\, TA5 1LJ\, United Kingdom
ORGANIZER;CN="Mark Howells":MAILTO:nsshortmatbowls@gmail.com
END:VEVENT
BEGIN:VEVENT
DTSTART;TZID=Europe/London:20261027T140000
DTEND;TZID=Europe/London:20261027T170000
DTSTAMP:20260423T221243
CREATED:20260404T081641Z
LAST-MODIFIED:20260406T075148Z
UID:10001709-1793109600-1793120400@netherstowey-pc.gov.uk
SUMMARY:NS Short Mat Bowls Club
DESCRIPTION:Short Mat Bowls Club at the Church Centre\, £5 per session\, contact: nsshortmatbowls@gmail.com or phone Terry Binding tel 01278 732710 \nAdvert NS Short Mat Bowls Club Poster April 2026 half page (1)
URL:https://netherstowey-pc.gov.uk/event/ns-short-mat-bowls-club-2/2026-10-27
LOCATION:St Mary’s Church Centre\, St Mary Street\, Nether Stowey\, TA5 1LJ\, United Kingdom
ORGANIZER;CN="Mark Howells":MAILTO:nsshortmatbowls@gmail.com
END:VEVENT
BEGIN:VEVENT
DTSTART;TZID=Europe/London:20261103T140000
DTEND;TZID=Europe/London:20261103T170000
DTSTAMP:20260423T221243
CREATED:20260404T081641Z
LAST-MODIFIED:20260406T075148Z
UID:10001710-1793714400-1793725200@netherstowey-pc.gov.uk
SUMMARY:NS Short Mat Bowls Club
DESCRIPTION:Short Mat Bowls Club at the Church Centre\, £5 per session\, contact: nsshortmatbowls@gmail.com or phone Terry Binding tel 01278 732710 \nAdvert NS Short Mat Bowls Club Poster April 2026 half page (1)
URL:https://netherstowey-pc.gov.uk/event/ns-short-mat-bowls-club-2/2026-11-03
LOCATION:St Mary’s Church Centre\, St Mary Street\, Nether Stowey\, TA5 1LJ\, United Kingdom
ORGANIZER;CN="Mark Howells":MAILTO:nsshortmatbowls@gmail.com
END:VEVENT
BEGIN:VEVENT
DTSTART;TZID=Europe/London:20261110T140000
DTEND;TZID=Europe/London:20261110T170000
DTSTAMP:20260423T221243
CREATED:20260404T081641Z
LAST-MODIFIED:20260406T075148Z
UID:10001711-1794319200-1794330000@netherstowey-pc.gov.uk
SUMMARY:NS Short Mat Bowls Club
DESCRIPTION:Short Mat Bowls Club at the Church Centre\, £5 per session\, contact: nsshortmatbowls@gmail.com or phone Terry Binding tel 01278 732710 \nAdvert NS Short Mat Bowls Club Poster April 2026 half page (1)
URL:https://netherstowey-pc.gov.uk/event/ns-short-mat-bowls-club-2/2026-11-10
LOCATION:St Mary’s Church Centre\, St Mary Street\, Nether Stowey\, TA5 1LJ\, United Kingdom
ORGANIZER;CN="Mark Howells":MAILTO:nsshortmatbowls@gmail.com
END:VEVENT
BEGIN:VEVENT
DTSTART;TZID=Europe/London:20261117T140000
DTEND;TZID=Europe/London:20261117T170000
DTSTAMP:20260423T221243
CREATED:20260404T081641Z
LAST-MODIFIED:20260406T075148Z
UID:10001712-1794924000-1794934800@netherstowey-pc.gov.uk
SUMMARY:NS Short Mat Bowls Club
DESCRIPTION:Short Mat Bowls Club at the Church Centre\, £5 per session\, contact: nsshortmatbowls@gmail.com or phone Terry Binding tel 01278 732710 \nAdvert NS Short Mat Bowls Club Poster April 2026 half page (1)
URL:https://netherstowey-pc.gov.uk/event/ns-short-mat-bowls-club-2/2026-11-17
LOCATION:St Mary’s Church Centre\, St Mary Street\, Nether Stowey\, TA5 1LJ\, United Kingdom
ORGANIZER;CN="Mark Howells":MAILTO:nsshortmatbowls@gmail.com
END:VEVENT
END:VCALENDAR