BEGIN:VCALENDAR
VERSION:2.0
PRODID:-//Nether Stowey Parish Council - ECPv6.15.18//NONSGML v1.0//EN
CALSCALE:GREGORIAN
METHOD:PUBLISH
X-ORIGINAL-URL:https://netherstowey-pc.gov.uk
X-WR-CALDESC:Events for Nether Stowey Parish Council
REFRESH-INTERVAL;VALUE=DURATION:PT1H
X-Robots-Tag:noindex
X-PUBLISHED-TTL:PT1H
BEGIN:VTIMEZONE
TZID:Europe/London
BEGIN:DAYLIGHT
TZOFFSETFROM:+0000
TZOFFSETTO:+0100
TZNAME:BST
DTSTART:20220327T010000
END:DAYLIGHT
BEGIN:STANDARD
TZOFFSETFROM:+0100
TZOFFSETTO:+0000
TZNAME:GMT
DTSTART:20221030T010000
END:STANDARD
BEGIN:DAYLIGHT
TZOFFSETFROM:+0000
TZOFFSETTO:+0100
TZNAME:BST
DTSTART:20230326T010000
END:DAYLIGHT
BEGIN:STANDARD
TZOFFSETFROM:+0100
TZOFFSETTO:+0000
TZNAME:GMT
DTSTART:20231029T010000
END:STANDARD
BEGIN:DAYLIGHT
TZOFFSETFROM:+0000
TZOFFSETTO:+0100
TZNAME:BST
DTSTART:20240331T010000
END:DAYLIGHT
BEGIN:STANDARD
TZOFFSETFROM:+0100
TZOFFSETTO:+0000
TZNAME:GMT
DTSTART:20241027T010000
END:STANDARD
END:VTIMEZONE
BEGIN:VEVENT
DTSTART;TZID=Europe/London:20231114T184500
DTEND;TZID=Europe/London:20231114T201500
DTSTAMP:20260421T234021
CREATED:20231108T171427Z
LAST-MODIFIED:20231108T173256Z
UID:10001348-1699987500-1699992900@netherstowey-pc.gov.uk
SUMMARY:Stowey Singers
DESCRIPTION:If you are looking to join a pop choir based in Nether Stowey then we’re a community choir who rehearse every Tuesday in St Mary’s\nChurch Centre\, and all are welcome. \nNo previous experience is necessary and there’s no audition. We rehearse from 6.45pm to 8.15pm each week and sessions are £5\, including tea and coffee. \nIf you’ve always wanted to sing and would like an opportunity to meet new neighbours then come along – any questions just email David Combes at stoweysingers@gmail.com or message him through Stowey News on Facebook.
URL:https://netherstowey-pc.gov.uk/event/stowey-singers
LOCATION:St Mary’s Church Centre\, St Mary Street\, Nether Stowey\, TA5 1LJ\, United Kingdom
CATEGORIES:Social
ATTACH;FMTTYPE=image/jpeg:https://netherstowey-pc.gov.uk/wp-content/uploads/2023/11/Stowey-Singers.jpg
ORGANIZER;CN="David":MAILTO:stoweysingers@gmail.com
END:VEVENT
END:VCALENDAR