BEGIN:VCALENDAR
VERSION:2.0
PRODID:-//Nether Stowey Parish Council - ECPv6.15.18//NONSGML v1.0//EN
CALSCALE:GREGORIAN
METHOD:PUBLISH
X-ORIGINAL-URL:https://netherstowey-pc.gov.uk
X-WR-CALDESC:Events for Nether Stowey Parish Council
REFRESH-INTERVAL;VALUE=DURATION:PT1H
X-Robots-Tag:noindex
X-PUBLISHED-TTL:PT1H
BEGIN:VTIMEZONE
TZID:Europe/London
BEGIN:DAYLIGHT
TZOFFSETFROM:+0000
TZOFFSETTO:+0100
TZNAME:BST
DTSTART:20220327T010000
END:DAYLIGHT
BEGIN:STANDARD
TZOFFSETFROM:+0100
TZOFFSETTO:+0000
TZNAME:GMT
DTSTART:20221030T010000
END:STANDARD
BEGIN:DAYLIGHT
TZOFFSETFROM:+0000
TZOFFSETTO:+0100
TZNAME:BST
DTSTART:20230326T010000
END:DAYLIGHT
BEGIN:STANDARD
TZOFFSETFROM:+0100
TZOFFSETTO:+0000
TZNAME:GMT
DTSTART:20231029T010000
END:STANDARD
BEGIN:DAYLIGHT
TZOFFSETFROM:+0000
TZOFFSETTO:+0100
TZNAME:BST
DTSTART:20240331T010000
END:DAYLIGHT
BEGIN:STANDARD
TZOFFSETFROM:+0100
TZOFFSETTO:+0000
TZNAME:GMT
DTSTART:20241027T010000
END:STANDARD
BEGIN:DAYLIGHT
TZOFFSETFROM:+0000
TZOFFSETTO:+0100
TZNAME:BST
DTSTART:20250330T010000
END:DAYLIGHT
BEGIN:STANDARD
TZOFFSETFROM:+0100
TZOFFSETTO:+0000
TZNAME:GMT
DTSTART:20251026T010000
END:STANDARD
END:VTIMEZONE
BEGIN:VEVENT
DTSTART;TZID=Europe/London:20240309T143000
DTEND;TZID=Europe/London:20240309T163000
DTSTAMP:20260423T231939
CREATED:20240307T142415Z
LAST-MODIFIED:20240307T144410Z
UID:10001388-1709994600-1710001800@netherstowey-pc.gov.uk
SUMMARY:NSFC Men's Fixtures 9 March
DESCRIPTION:For more information visit their page on this site at Nether Stowey FC or see them at Facebook/Nether Stowey Football Club
URL:https://netherstowey-pc.gov.uk/event/nspc-mens-fixtures-1-17-march
LOCATION:Away – check fixture list
CATEGORIES:NSFC
ATTACH;FMTTYPE=image/jpeg:https://netherstowey-pc.gov.uk/wp-content/uploads/2023/10/NSFC.jpg
ORGANIZER;CN="Steve Easden":MAILTO:easden85ste@mail.com
END:VEVENT
BEGIN:VEVENT
DTSTART;VALUE=DATE:20240114
DTEND;VALUE=DATE:20240115
DTSTAMP:20260423T231939
CREATED:20240101T141428Z
LAST-MODIFIED:20240101T141528Z
UID:10001364-1705190400-1705276799@netherstowey-pc.gov.uk
SUMMARY:NSFC Men’s Fixtures January
DESCRIPTION:For more information visit their page on this site at Nether Stowey FC or see them at Facebook/Nether Stowey Football Club \n23-24 Fixtures (Jan)
URL:https://netherstowey-pc.gov.uk/event/nsfc-mens-fixtures-january-5
CATEGORIES:NSFC
ATTACH;FMTTYPE=image/jpeg:https://netherstowey-pc.gov.uk/wp-content/uploads/2023/10/NSFC.jpg
ORGANIZER;CN="Steve Easden":MAILTO:easden85ste@mail.com
END:VEVENT
BEGIN:VEVENT
DTSTART;VALUE=DATE:20240113
DTEND;VALUE=DATE:20240114
DTSTAMP:20260423T231939
CREATED:20240101T141338Z
LAST-MODIFIED:20240101T141338Z
UID:10001363-1705104000-1705190399@netherstowey-pc.gov.uk
SUMMARY:NSFC Men’s Fixtures January
DESCRIPTION:For more information visit their page on this site at Nether Stowey FC or see them at Facebook/Nether Stowey Football Club \n23-24 Fixtures (Jan)
URL:https://netherstowey-pc.gov.uk/event/nsfc-mens-fixtures-january-4
CATEGORIES:NSFC
ATTACH;FMTTYPE=image/jpeg:https://netherstowey-pc.gov.uk/wp-content/uploads/2023/10/NSFC.jpg
ORGANIZER;CN="Steve Easden":MAILTO:easden85ste@mail.com
END:VEVENT
BEGIN:VEVENT
DTSTART;VALUE=DATE:20240106
DTEND;VALUE=DATE:20240107
DTSTAMP:20260423T231939
CREATED:20240101T141251Z
LAST-MODIFIED:20240101T141251Z
UID:10001362-1704499200-1704585599@netherstowey-pc.gov.uk
SUMMARY:NSFC Men’s Fixtures January
DESCRIPTION:For more information visit their page on this site at Nether Stowey FC or see them at Facebook/Nether Stowey Football Club \n23-24 Fixtures (Jan)
URL:https://netherstowey-pc.gov.uk/event/nsfc-mens-fixtures-january-3
CATEGORIES:NSFC
ATTACH;FMTTYPE=image/jpeg:https://netherstowey-pc.gov.uk/wp-content/uploads/2023/10/NSFC.jpg
ORGANIZER;CN="Steve Easden":MAILTO:easden85ste@mail.com
END:VEVENT
BEGIN:VEVENT
DTSTART;VALUE=DATE:20240105
DTEND;VALUE=DATE:20240106
DTSTAMP:20260423T231939
CREATED:20240101T141107Z
LAST-MODIFIED:20240101T141107Z
UID:10001361-1704412800-1704499199@netherstowey-pc.gov.uk
SUMMARY:NSFC Men’s Fixtures January
DESCRIPTION:For more information visit their page on this site at Nether Stowey FC or see them at Facebook/Nether Stowey Football Club \n23-24 Fixtures (Jan)
URL:https://netherstowey-pc.gov.uk/event/nsfc-mens-fixtures-january-2
CATEGORIES:NSFC
ATTACH;FMTTYPE=image/jpeg:https://netherstowey-pc.gov.uk/wp-content/uploads/2023/10/NSFC.jpg
ORGANIZER;CN="Steve Easden":MAILTO:easden85ste@mail.com
END:VEVENT
BEGIN:VEVENT
DTSTART;VALUE=DATE:20240103
DTEND;VALUE=DATE:20240104
DTSTAMP:20260423T231939
CREATED:20240101T140913Z
LAST-MODIFIED:20240101T141223Z
UID:10001360-1704240000-1704326399@netherstowey-pc.gov.uk
SUMMARY:NSFC Men’s Fixtures January
DESCRIPTION:For more information visit their page on this site at Nether Stowey FC or see them at Facebook/Nether Stowey Football Club \n23-24 Fixtures (Jan)
URL:https://netherstowey-pc.gov.uk/event/nsfc-mens-fixtures-january
CATEGORIES:NSFC
ATTACH;FMTTYPE=image/jpeg:https://netherstowey-pc.gov.uk/wp-content/uploads/2023/10/NSFC.jpg
ORGANIZER;CN="Steve Easden":MAILTO:easden85ste@mail.com
END:VEVENT
BEGIN:VEVENT
DTSTART;VALUE=DATE:20231217
DTEND;VALUE=DATE:20231218
DTSTAMP:20260423T231939
CREATED:20231129T154116Z
LAST-MODIFIED:20231129T154116Z
UID:10001356-1702771200-1702857599@netherstowey-pc.gov.uk
SUMMARY:NSFC Men’s Fixtures December
DESCRIPTION:For more information visit their page on this site at Nether Stowey FC or see them at Facebook/Nether Stowey Football Club \n23 Fixtures (Dec)
URL:https://netherstowey-pc.gov.uk/event/nsfc-mens-fixtures-december-6
ATTACH;FMTTYPE=image/jpeg:https://netherstowey-pc.gov.uk/wp-content/uploads/2023/10/NSFC.jpg
ORGANIZER;CN="Steve Easden":MAILTO:easden85ste@mail.com
END:VEVENT
BEGIN:VEVENT
DTSTART;VALUE=DATE:20231216
DTEND;VALUE=DATE:20231217
DTSTAMP:20260423T231939
CREATED:20231129T154048Z
LAST-MODIFIED:20231129T154048Z
UID:10001355-1702684800-1702771199@netherstowey-pc.gov.uk
SUMMARY:NSFC Men’s Fixtures December
DESCRIPTION:For more information visit their page on this site at Nether Stowey FC or see them at Facebook/Nether Stowey Football Club \n23 Fixtures (Dec)
URL:https://netherstowey-pc.gov.uk/event/nsfc-mens-fixtures-december-5
ATTACH;FMTTYPE=image/jpeg:https://netherstowey-pc.gov.uk/wp-content/uploads/2023/10/NSFC.jpg
ORGANIZER;CN="Steve Easden":MAILTO:easden85ste@mail.com
END:VEVENT
BEGIN:VEVENT
DTSTART;VALUE=DATE:20231210
DTEND;VALUE=DATE:20231211
DTSTAMP:20260423T231939
CREATED:20231129T154010Z
LAST-MODIFIED:20231129T154010Z
UID:10001354-1702166400-1702252799@netherstowey-pc.gov.uk
SUMMARY:NSFC Men’s Fixtures December
DESCRIPTION:For more information visit their page on this site at Nether Stowey FC or see them at Facebook/Nether Stowey Football Club \n23 Fixtures (Dec)
URL:https://netherstowey-pc.gov.uk/event/nsfc-mens-fixtures-december-4
ATTACH;FMTTYPE=image/jpeg:https://netherstowey-pc.gov.uk/wp-content/uploads/2023/10/NSFC.jpg
ORGANIZER;CN="Steve Easden":MAILTO:easden85ste@mail.com
END:VEVENT
BEGIN:VEVENT
DTSTART;VALUE=DATE:20231209
DTEND;VALUE=DATE:20231210
DTSTAMP:20260423T231939
CREATED:20231129T153923Z
LAST-MODIFIED:20231129T153923Z
UID:10001353-1702080000-1702166399@netherstowey-pc.gov.uk
SUMMARY:NSFC Men’s Fixtures December
DESCRIPTION:For more information visit their page on this site at Nether Stowey FC or see them at Facebook/Nether Stowey Football Club \n23 Fixtures (Dec)
URL:https://netherstowey-pc.gov.uk/event/nsfc-mens-fixtures-december-3
ATTACH;FMTTYPE=image/jpeg:https://netherstowey-pc.gov.uk/wp-content/uploads/2023/10/NSFC.jpg
ORGANIZER;CN="Steve Easden":MAILTO:easden85ste@mail.com
END:VEVENT
BEGIN:VEVENT
DTSTART;VALUE=DATE:20231206
DTEND;VALUE=DATE:20231207
DTSTAMP:20260423T231939
CREATED:20231129T153809Z
LAST-MODIFIED:20231129T153809Z
UID:10001351-1701820800-1701907199@netherstowey-pc.gov.uk
SUMMARY:NSFC Men’s Fixtures December
DESCRIPTION:For more information visit their page on this site at Nether Stowey FC or see them at Facebook/Nether Stowey Football Club \n23 Fixtures (Dec)
URL:https://netherstowey-pc.gov.uk/event/nsfc-mens-fixtures-december-2
ATTACH;FMTTYPE=image/jpeg:https://netherstowey-pc.gov.uk/wp-content/uploads/2023/10/NSFC.jpg
ORGANIZER;CN="Steve Easden":MAILTO:easden85ste@mail.com
END:VEVENT
BEGIN:VEVENT
DTSTART;VALUE=DATE:20231202
DTEND;VALUE=DATE:20231203
DTSTAMP:20260423T231939
CREATED:20231129T153351Z
LAST-MODIFIED:20231129T153647Z
UID:10001350-1701475200-1701561599@netherstowey-pc.gov.uk
SUMMARY:NSFC Men’s Fixtures December
DESCRIPTION:For more information visit their page on this site at Nether Stowey FC or see them at Facebook/Nether Stowey Football Club \n23 Fixtures (Dec)
URL:https://netherstowey-pc.gov.uk/event/nsfc-mens-fixtures-december
ATTACH;FMTTYPE=image/jpeg:https://netherstowey-pc.gov.uk/wp-content/uploads/2023/10/NSFC.jpg
ORGANIZER;CN="Steve Easden":MAILTO:easden85ste@mail.com
END:VEVENT
BEGIN:VEVENT
DTSTART;VALUE=DATE:20231029
DTEND;VALUE=DATE:20231030
DTSTAMP:20260423T231939
CREATED:20231019T135525Z
LAST-MODIFIED:20231019T140954Z
UID:10001147-1698537600-1698623999@netherstowey-pc.gov.uk
SUMMARY:NSFC Men's Fixtures October
DESCRIPTION:For more information visit their page on this site at Nether Stowey FC or see them at Facebook/Nether Stowey Football Club \n23 Fixtures (Oct)
URL:https://netherstowey-pc.gov.uk/event/nsfc-mens-fixtures-october-2
ATTACH;FMTTYPE=image/jpeg:https://netherstowey-pc.gov.uk/wp-content/uploads/2023/10/NSFC.jpg
ORGANIZER;CN="Steve Easden":MAILTO:easden85ste@mail.com
END:VEVENT
BEGIN:VEVENT
DTSTART;VALUE=DATE:20231028
DTEND;VALUE=DATE:20231029
DTSTAMP:20260423T231939
CREATED:20231019T135307Z
LAST-MODIFIED:20231019T140723Z
UID:10001146-1698451200-1698537599@netherstowey-pc.gov.uk
SUMMARY:NSFC Men's Fixtures October
DESCRIPTION:For more information visit their page on this site at Nether Stowey FC or see them at Facebook/Nether Stowey Football Club \n23 Fixtures (Oct)
URL:https://netherstowey-pc.gov.uk/event/nsfc-mens-fixtures-october
ATTACH;FMTTYPE=image/jpeg:https://netherstowey-pc.gov.uk/wp-content/uploads/2023/10/NSFC.jpg
ORGANIZER;CN="Steve Easden":MAILTO:easden85ste@mail.com
END:VEVENT
END:VCALENDAR