BEGIN:VCALENDAR
VERSION:2.0
PRODID:-//Nether Stowey Parish Council - ECPv6.15.18//NONSGML v1.0//EN
CALSCALE:GREGORIAN
METHOD:PUBLISH
X-WR-CALNAME:Nether Stowey Parish Council
X-ORIGINAL-URL:https://netherstowey-pc.gov.uk
X-WR-CALDESC:Events for Nether Stowey Parish Council
REFRESH-INTERVAL;VALUE=DURATION:PT1H
X-Robots-Tag:noindex
X-PUBLISHED-TTL:PT1H
BEGIN:VTIMEZONE
TZID:Europe/London
BEGIN:DAYLIGHT
TZOFFSETFROM:+0000
TZOFFSETTO:+0100
TZNAME:BST
DTSTART:20240331T010000
END:DAYLIGHT
BEGIN:STANDARD
TZOFFSETFROM:+0100
TZOFFSETTO:+0000
TZNAME:GMT
DTSTART:20241027T010000
END:STANDARD
BEGIN:DAYLIGHT
TZOFFSETFROM:+0000
TZOFFSETTO:+0100
TZNAME:BST
DTSTART:20250330T010000
END:DAYLIGHT
BEGIN:STANDARD
TZOFFSETFROM:+0100
TZOFFSETTO:+0000
TZNAME:GMT
DTSTART:20251026T010000
END:STANDARD
BEGIN:DAYLIGHT
TZOFFSETFROM:+0000
TZOFFSETTO:+0100
TZNAME:BST
DTSTART:20260329T010000
END:DAYLIGHT
BEGIN:STANDARD
TZOFFSETFROM:+0100
TZOFFSETTO:+0000
TZNAME:GMT
DTSTART:20261025T010000
END:STANDARD
BEGIN:DAYLIGHT
TZOFFSETFROM:+0000
TZOFFSETTO:+0100
TZNAME:BST
DTSTART:20270328T010000
END:DAYLIGHT
BEGIN:STANDARD
TZOFFSETFROM:+0100
TZOFFSETTO:+0000
TZNAME:GMT
DTSTART:20271031T010000
END:STANDARD
END:VTIMEZONE
BEGIN:VEVENT
DTSTART;TZID=Europe/London:20260421T140000
DTEND;TZID=Europe/London:20260421T170000
DTSTAMP:20260423T101523
CREATED:20260404T081641Z
LAST-MODIFIED:20260406T075148Z
UID:10001682-1776780000-1776790800@netherstowey-pc.gov.uk
SUMMARY:NS Short Mat Bowls Club
DESCRIPTION:Short Mat Bowls Club at the Church Centre\, £5 per session\, contact: nsshortmatbowls@gmail.com or phone Terry Binding tel 01278 732710 \nAdvert NS Short Mat Bowls Club Poster April 2026 half page (1)
URL:https://netherstowey-pc.gov.uk/event/ns-short-mat-bowls-club-2/2026-04-21
LOCATION:St Mary’s Church Centre\, St Mary Street\, Nether Stowey\, TA5 1LJ\, United Kingdom
ORGANIZER;CN="Mark Howells":MAILTO:nsshortmatbowls@gmail.com
END:VEVENT
BEGIN:VEVENT
DTSTART;TZID=Europe/London:20260414T140000
DTEND;TZID=Europe/London:20260414T170000
DTSTAMP:20260423T101523
CREATED:20260404T081641Z
LAST-MODIFIED:20260406T075148Z
UID:10001681-1776175200-1776186000@netherstowey-pc.gov.uk
SUMMARY:NS Short Mat Bowls Club
DESCRIPTION:Short Mat Bowls Club at the Church Centre\, £5 per session\, contact: nsshortmatbowls@gmail.com or phone Terry Binding tel 01278 732710 \nAdvert NS Short Mat Bowls Club Poster April 2026 half page (1)
URL:https://netherstowey-pc.gov.uk/event/ns-short-mat-bowls-club-2/2026-04-14
LOCATION:St Mary’s Church Centre\, St Mary Street\, Nether Stowey\, TA5 1LJ\, United Kingdom
ORGANIZER;CN="Mark Howells":MAILTO:nsshortmatbowls@gmail.com
END:VEVENT
BEGIN:VEVENT
DTSTART;TZID=Europe/London:20260413T190000
DTEND;TZID=Europe/London:20260413T190000
DTSTAMP:20260423T101523
CREATED:20260107T162438Z
LAST-MODIFIED:20260415T115241Z
UID:10001809-1776106800-1776106800@netherstowey-pc.gov.uk
SUMMARY:Parish Council Meeting
DESCRIPTION:This meeting will be held at St Mary’s Church Centre. Members of the public are welcome to attend. The agenda will be available here from the Wednesday afternoon before the meeting and also available in the Parish Office window and on notice boards at The Cross and at Harry Prowse Close and Church View. \nPlanning applications: Links to planning applications on the agenda are below (opens the application in the Somerset Planning website): \n\n36/26/00002 – Jacob Barn\, Nether Stowey\nProposal: Erection of a conservatory to the South West elevation\n36/26/00004- 14-16 St Mary Street\nProposal: Works to Trees in a conservation area\n\n  \n  \n 
URL:https://netherstowey-pc.gov.uk/event/parish-council-meeting-25
LOCATION:St Mary’s Church Centre\, St Mary Street\, Nether Stowey\, TA5 1LJ\, United Kingdom
CATEGORIES:Parish Council Meetings
ORGANIZER;CN="Nether Stowey Parish Council":MAILTO:clerk@netherstowey-pc.gov.uk
END:VEVENT
BEGIN:VEVENT
DTSTART;TZID=Europe/London:20260407T140000
DTEND;TZID=Europe/London:20260407T170000
DTSTAMP:20260423T101523
CREATED:20260404T081641Z
LAST-MODIFIED:20260406T075148Z
UID:10001680-1775570400-1775581200@netherstowey-pc.gov.uk
SUMMARY:NS Short Mat Bowls Club
DESCRIPTION:Short Mat Bowls Club at the Church Centre\, £5 per session\, contact: nsshortmatbowls@gmail.com or phone Terry Binding tel 01278 732710 \nAdvert NS Short Mat Bowls Club Poster April 2026 half page (1)
URL:https://netherstowey-pc.gov.uk/event/ns-short-mat-bowls-club-2/2026-04-07
LOCATION:St Mary’s Church Centre\, St Mary Street\, Nether Stowey\, TA5 1LJ\, United Kingdom
ORGANIZER;CN="Mark Howells":MAILTO:nsshortmatbowls@gmail.com
END:VEVENT
BEGIN:VEVENT
DTSTART;TZID=Europe/London:20260407T140000
DTEND;TZID=Europe/London:20260407T140000
DTSTAMP:20260423T101523
CREATED:20250707T093015Z
LAST-MODIFIED:20250707T093213Z
UID:10001784-1775570400-1775570400@netherstowey-pc.gov.uk
SUMMARY:Nether Stowey & Fiddington WI
DESCRIPTION:The Women’s Institute is somewhere for women of all ages to relax\, have fun and make new friends. \nThey meet at the Church Centre\, Nether Stowey on the second Thursday of the month at 2pm
URL:https://netherstowey-pc.gov.uk/event/nether-stowey-fiddington-wi-4/2026-04-07
LOCATION:St Mary’s Church Centre\, St Mary Street\, Nether Stowey\, TA5 1LJ\, United Kingdom
CATEGORIES:NSF WI
ATTACH;FMTTYPE=image/jpeg:https://netherstowey-pc.gov.uk/wp-content/uploads/2023/10/WI.jpg
END:VEVENT
BEGIN:VEVENT
DTSTART;TZID=Europe/London:20260331T140000
DTEND;TZID=Europe/London:20260331T170000
DTSTAMP:20260423T101523
CREATED:20250623T110512Z
LAST-MODIFIED:20250623T111323Z
UID:10001679-1774965600-1774976400@netherstowey-pc.gov.uk
SUMMARY:NS Short Mat Bowls Club
DESCRIPTION:Short Mat Bowls Club at the Church Centre\, £4 per session\, contact: nsshortmatbowls@gmail.com or phone Terry Binding tel 01278 732710 \nNS Short Mat Bowls Club Poster May 2025 one page
URL:https://netherstowey-pc.gov.uk/event/ns-short-mat-bowls-club/2026-03-31
LOCATION:St Mary’s Church Centre\, St Mary Street\, Nether Stowey\, TA5 1LJ\, United Kingdom
ORGANIZER;CN="Mark Howells":MAILTO:nsshortmatbowls@gmail.com
END:VEVENT
BEGIN:VEVENT
DTSTART;TZID=Europe/London:20260324T140000
DTEND;TZID=Europe/London:20260324T170000
DTSTAMP:20260423T101523
CREATED:20250623T110512Z
LAST-MODIFIED:20250623T111323Z
UID:10001678-1774360800-1774371600@netherstowey-pc.gov.uk
SUMMARY:NS Short Mat Bowls Club
DESCRIPTION:Short Mat Bowls Club at the Church Centre\, £4 per session\, contact: nsshortmatbowls@gmail.com or phone Terry Binding tel 01278 732710 \nNS Short Mat Bowls Club Poster May 2025 one page
URL:https://netherstowey-pc.gov.uk/event/ns-short-mat-bowls-club/2026-03-24
LOCATION:St Mary’s Church Centre\, St Mary Street\, Nether Stowey\, TA5 1LJ\, United Kingdom
ORGANIZER;CN="Mark Howells":MAILTO:nsshortmatbowls@gmail.com
END:VEVENT
BEGIN:VEVENT
DTSTART;TZID=Europe/London:20260317T140000
DTEND;TZID=Europe/London:20260317T170000
DTSTAMP:20260423T101523
CREATED:20250623T110512Z
LAST-MODIFIED:20250623T111323Z
UID:10001677-1773756000-1773766800@netherstowey-pc.gov.uk
SUMMARY:NS Short Mat Bowls Club
DESCRIPTION:Short Mat Bowls Club at the Church Centre\, £4 per session\, contact: nsshortmatbowls@gmail.com or phone Terry Binding tel 01278 732710 \nNS Short Mat Bowls Club Poster May 2025 one page
URL:https://netherstowey-pc.gov.uk/event/ns-short-mat-bowls-club/2026-03-17
LOCATION:St Mary’s Church Centre\, St Mary Street\, Nether Stowey\, TA5 1LJ\, United Kingdom
ORGANIZER;CN="Mark Howells":MAILTO:nsshortmatbowls@gmail.com
END:VEVENT
BEGIN:VEVENT
DTSTART;TZID=Europe/London:20260310T140000
DTEND;TZID=Europe/London:20260310T170000
DTSTAMP:20260423T101523
CREATED:20250623T110512Z
LAST-MODIFIED:20250623T111323Z
UID:10001676-1773151200-1773162000@netherstowey-pc.gov.uk
SUMMARY:NS Short Mat Bowls Club
DESCRIPTION:Short Mat Bowls Club at the Church Centre\, £4 per session\, contact: nsshortmatbowls@gmail.com or phone Terry Binding tel 01278 732710 \nNS Short Mat Bowls Club Poster May 2025 one page
URL:https://netherstowey-pc.gov.uk/event/ns-short-mat-bowls-club/2026-03-10
LOCATION:St Mary’s Church Centre\, St Mary Street\, Nether Stowey\, TA5 1LJ\, United Kingdom
ORGANIZER;CN="Mark Howells":MAILTO:nsshortmatbowls@gmail.com
END:VEVENT
BEGIN:VEVENT
DTSTART;TZID=Europe/London:20260309T190000
DTEND;TZID=Europe/London:20260309T190000
DTSTAMP:20260423T101523
CREATED:20260107T162417Z
LAST-MODIFIED:20260408T154023Z
UID:10001808-1773082800-1773082800@netherstowey-pc.gov.uk
SUMMARY:Parish Council Meeting
DESCRIPTION:This meeting will be held at St Mary’s Church Centre. Members of the public are welcome to attend. The agenda will be available here from the Wednesday afternoon before the meeting and also available in the Parish Office window and on notice boards at The Cross and at Harry Prowse Close and Church View.
URL:https://netherstowey-pc.gov.uk/event/parish-council-meeting-24
LOCATION:St Mary’s Church Centre\, St Mary Street\, Nether Stowey\, TA5 1LJ\, United Kingdom
CATEGORIES:Parish Council Meetings
ORGANIZER;CN="Nether Stowey Parish Council":MAILTO:clerk@netherstowey-pc.gov.uk
END:VEVENT
BEGIN:VEVENT
DTSTART;TZID=Europe/London:20260307T140000
DTEND;TZID=Europe/London:20260307T140000
DTSTAMP:20260423T101523
CREATED:20250707T093015Z
LAST-MODIFIED:20250707T093213Z
UID:10001783-1772892000-1772892000@netherstowey-pc.gov.uk
SUMMARY:Nether Stowey & Fiddington WI
DESCRIPTION:The Women’s Institute is somewhere for women of all ages to relax\, have fun and make new friends. \nThey meet at the Church Centre\, Nether Stowey on the second Thursday of the month at 2pm
URL:https://netherstowey-pc.gov.uk/event/nether-stowey-fiddington-wi-4/2026-03-07
LOCATION:St Mary’s Church Centre\, St Mary Street\, Nether Stowey\, TA5 1LJ\, United Kingdom
CATEGORIES:NSF WI
ATTACH;FMTTYPE=image/jpeg:https://netherstowey-pc.gov.uk/wp-content/uploads/2023/10/WI.jpg
END:VEVENT
BEGIN:VEVENT
DTSTART;TZID=Europe/London:20260303T140000
DTEND;TZID=Europe/London:20260303T170000
DTSTAMP:20260423T101523
CREATED:20250623T110512Z
LAST-MODIFIED:20250623T111323Z
UID:10001675-1772546400-1772557200@netherstowey-pc.gov.uk
SUMMARY:NS Short Mat Bowls Club
DESCRIPTION:Short Mat Bowls Club at the Church Centre\, £4 per session\, contact: nsshortmatbowls@gmail.com or phone Terry Binding tel 01278 732710 \nNS Short Mat Bowls Club Poster May 2025 one page
URL:https://netherstowey-pc.gov.uk/event/ns-short-mat-bowls-club/2026-03-03
LOCATION:St Mary’s Church Centre\, St Mary Street\, Nether Stowey\, TA5 1LJ\, United Kingdom
ORGANIZER;CN="Mark Howells":MAILTO:nsshortmatbowls@gmail.com
END:VEVENT
BEGIN:VEVENT
DTSTART;TZID=Europe/London:20260224T140000
DTEND;TZID=Europe/London:20260224T170000
DTSTAMP:20260423T101523
CREATED:20250623T110512Z
LAST-MODIFIED:20250623T111323Z
UID:10001674-1771941600-1771952400@netherstowey-pc.gov.uk
SUMMARY:NS Short Mat Bowls Club
DESCRIPTION:Short Mat Bowls Club at the Church Centre\, £4 per session\, contact: nsshortmatbowls@gmail.com or phone Terry Binding tel 01278 732710 \nNS Short Mat Bowls Club Poster May 2025 one page
URL:https://netherstowey-pc.gov.uk/event/ns-short-mat-bowls-club/2026-02-24
LOCATION:St Mary’s Church Centre\, St Mary Street\, Nether Stowey\, TA5 1LJ\, United Kingdom
ORGANIZER;CN="Mark Howells":MAILTO:nsshortmatbowls@gmail.com
END:VEVENT
BEGIN:VEVENT
DTSTART;TZID=Europe/London:20260217T140000
DTEND;TZID=Europe/London:20260217T170000
DTSTAMP:20260423T101523
CREATED:20250623T110512Z
LAST-MODIFIED:20250623T111323Z
UID:10001673-1771336800-1771347600@netherstowey-pc.gov.uk
SUMMARY:NS Short Mat Bowls Club
DESCRIPTION:Short Mat Bowls Club at the Church Centre\, £4 per session\, contact: nsshortmatbowls@gmail.com or phone Terry Binding tel 01278 732710 \nNS Short Mat Bowls Club Poster May 2025 one page
URL:https://netherstowey-pc.gov.uk/event/ns-short-mat-bowls-club/2026-02-17
LOCATION:St Mary’s Church Centre\, St Mary Street\, Nether Stowey\, TA5 1LJ\, United Kingdom
ORGANIZER;CN="Mark Howells":MAILTO:nsshortmatbowls@gmail.com
END:VEVENT
BEGIN:VEVENT
DTSTART;TZID=Europe/London:20260210T140000
DTEND;TZID=Europe/London:20260210T170000
DTSTAMP:20260423T101523
CREATED:20250623T110512Z
LAST-MODIFIED:20250623T111323Z
UID:10001672-1770732000-1770742800@netherstowey-pc.gov.uk
SUMMARY:NS Short Mat Bowls Club
DESCRIPTION:Short Mat Bowls Club at the Church Centre\, £4 per session\, contact: nsshortmatbowls@gmail.com or phone Terry Binding tel 01278 732710 \nNS Short Mat Bowls Club Poster May 2025 one page
URL:https://netherstowey-pc.gov.uk/event/ns-short-mat-bowls-club/2026-02-10
LOCATION:St Mary’s Church Centre\, St Mary Street\, Nether Stowey\, TA5 1LJ\, United Kingdom
ORGANIZER;CN="Mark Howells":MAILTO:nsshortmatbowls@gmail.com
END:VEVENT
BEGIN:VEVENT
DTSTART;TZID=Europe/London:20260209T190000
DTEND;TZID=Europe/London:20260209T190000
DTSTAMP:20260423T101523
CREATED:20260107T162401Z
LAST-MODIFIED:20260408T154105Z
UID:10001807-1770663600-1770663600@netherstowey-pc.gov.uk
SUMMARY:Parish Council Meeting
DESCRIPTION:This meeting will be held at St Mary’s Church Centre. Members of the public are welcome to attend. The agenda will be available here from the Wednesday afternoon before the meeting and also available in the Parish Office window and on notice boards at The Cross and at Harry Prowse Close and Church View.
URL:https://netherstowey-pc.gov.uk/event/parish-council-meeting-23
LOCATION:St Mary’s Church Centre\, St Mary Street\, Nether Stowey\, TA5 1LJ\, United Kingdom
CATEGORIES:Parish Council Meetings
ORGANIZER;CN="Nether Stowey Parish Council":MAILTO:clerk@netherstowey-pc.gov.uk
END:VEVENT
BEGIN:VEVENT
DTSTART;TZID=Europe/London:20260207T140000
DTEND;TZID=Europe/London:20260207T140000
DTSTAMP:20260423T101523
CREATED:20250707T093015Z
LAST-MODIFIED:20250707T093213Z
UID:10001782-1770472800-1770472800@netherstowey-pc.gov.uk
SUMMARY:Nether Stowey & Fiddington WI
DESCRIPTION:The Women’s Institute is somewhere for women of all ages to relax\, have fun and make new friends. \nThey meet at the Church Centre\, Nether Stowey on the second Thursday of the month at 2pm
URL:https://netherstowey-pc.gov.uk/event/nether-stowey-fiddington-wi-4/2026-02-07
LOCATION:St Mary’s Church Centre\, St Mary Street\, Nether Stowey\, TA5 1LJ\, United Kingdom
CATEGORIES:NSF WI
ATTACH;FMTTYPE=image/jpeg:https://netherstowey-pc.gov.uk/wp-content/uploads/2023/10/WI.jpg
END:VEVENT
BEGIN:VEVENT
DTSTART;TZID=Europe/London:20260203T140000
DTEND;TZID=Europe/London:20260203T170000
DTSTAMP:20260423T101523
CREATED:20250623T110512Z
LAST-MODIFIED:20250623T111323Z
UID:10001671-1770127200-1770138000@netherstowey-pc.gov.uk
SUMMARY:NS Short Mat Bowls Club
DESCRIPTION:Short Mat Bowls Club at the Church Centre\, £4 per session\, contact: nsshortmatbowls@gmail.com or phone Terry Binding tel 01278 732710 \nNS Short Mat Bowls Club Poster May 2025 one page
URL:https://netherstowey-pc.gov.uk/event/ns-short-mat-bowls-club/2026-02-03
LOCATION:St Mary’s Church Centre\, St Mary Street\, Nether Stowey\, TA5 1LJ\, United Kingdom
ORGANIZER;CN="Mark Howells":MAILTO:nsshortmatbowls@gmail.com
END:VEVENT
BEGIN:VEVENT
DTSTART;TZID=Europe/London:20260127T140000
DTEND;TZID=Europe/London:20260127T170000
DTSTAMP:20260423T101523
CREATED:20250623T110512Z
LAST-MODIFIED:20250623T111323Z
UID:10001670-1769522400-1769533200@netherstowey-pc.gov.uk
SUMMARY:NS Short Mat Bowls Club
DESCRIPTION:Short Mat Bowls Club at the Church Centre\, £4 per session\, contact: nsshortmatbowls@gmail.com or phone Terry Binding tel 01278 732710 \nNS Short Mat Bowls Club Poster May 2025 one page
URL:https://netherstowey-pc.gov.uk/event/ns-short-mat-bowls-club/2026-01-27
LOCATION:St Mary’s Church Centre\, St Mary Street\, Nether Stowey\, TA5 1LJ\, United Kingdom
ORGANIZER;CN="Mark Howells":MAILTO:nsshortmatbowls@gmail.com
END:VEVENT
BEGIN:VEVENT
DTSTART;TZID=Europe/London:20260120T140000
DTEND;TZID=Europe/London:20260120T170000
DTSTAMP:20260423T101523
CREATED:20250623T110512Z
LAST-MODIFIED:20250623T111323Z
UID:10001669-1768917600-1768928400@netherstowey-pc.gov.uk
SUMMARY:NS Short Mat Bowls Club
DESCRIPTION:Short Mat Bowls Club at the Church Centre\, £4 per session\, contact: nsshortmatbowls@gmail.com or phone Terry Binding tel 01278 732710 \nNS Short Mat Bowls Club Poster May 2025 one page
URL:https://netherstowey-pc.gov.uk/event/ns-short-mat-bowls-club/2026-01-20
LOCATION:St Mary’s Church Centre\, St Mary Street\, Nether Stowey\, TA5 1LJ\, United Kingdom
ORGANIZER;CN="Mark Howells":MAILTO:nsshortmatbowls@gmail.com
END:VEVENT
BEGIN:VEVENT
DTSTART;TZID=Europe/London:20260115T190000
DTEND;TZID=Europe/London:20260115T190000
DTSTAMP:20260423T101523
CREATED:20260108T122905Z
LAST-MODIFIED:20260108T123003Z
UID:10001810-1768503600-1768503600@netherstowey-pc.gov.uk
SUMMARY:Stowey Gardeners talk - Soft Fruit Growing
DESCRIPTION:SG Jan\nStowey Gardeners is a vibrant club based in Nether Stowey near Bridgwater in Somerset\, drawing members from all around the Quantock area. \nThey meet monthly in St Mary’s Church Centre\, Nether Stowey to enjoy a guest speaker\, raffle\, garden table\, tea\, coffee and homemade cake and exchange knowledge and information on a huge range of topics. \nThe aim of the club is to offer all gardeners\, whatever their particular enthusiasm\, a chance to get together with other gardeners in the locality\, to their joint advantage and mutual interest. \nThursday 15 January: a talk by David Johnston and his expertise on growing soft fruit. \nOn the door £5 or Annual membership £25.
URL:https://netherstowey-pc.gov.uk/event/stowey-gardeners-talk-soft-fruit-growing
LOCATION:St Mary’s Church Centre\, St Mary Street\, Nether Stowey\, TA5 1LJ\, United Kingdom
CATEGORIES:Stowey Gardeners
ATTACH;FMTTYPE=image/jpeg:https://netherstowey-pc.gov.uk/wp-content/uploads/2023/03/Stowey-Gardeners-logo.jpg
ORGANIZER;CN="Stowey Gardeners":MAILTO:stoweygardeners@yahoo.com
END:VEVENT
BEGIN:VEVENT
DTSTART;TZID=Europe/London:20260113T140000
DTEND;TZID=Europe/London:20260113T170000
DTSTAMP:20260423T101523
CREATED:20250623T110512Z
LAST-MODIFIED:20250623T111323Z
UID:10001668-1768312800-1768323600@netherstowey-pc.gov.uk
SUMMARY:NS Short Mat Bowls Club
DESCRIPTION:Short Mat Bowls Club at the Church Centre\, £4 per session\, contact: nsshortmatbowls@gmail.com or phone Terry Binding tel 01278 732710 \nNS Short Mat Bowls Club Poster May 2025 one page
URL:https://netherstowey-pc.gov.uk/event/ns-short-mat-bowls-club/2026-01-13
LOCATION:St Mary’s Church Centre\, St Mary Street\, Nether Stowey\, TA5 1LJ\, United Kingdom
ORGANIZER;CN="Mark Howells":MAILTO:nsshortmatbowls@gmail.com
END:VEVENT
BEGIN:VEVENT
DTSTART;TZID=Europe/London:20260112T190000
DTEND;TZID=Europe/London:20260112T190000
DTSTAMP:20260423T101523
CREATED:20260107T162303Z
LAST-MODIFIED:20260216T125520Z
UID:10001806-1768244400-1768244400@netherstowey-pc.gov.uk
SUMMARY:Parish Council Meeting
DESCRIPTION:This meeting will be held at St Mary’s Church Centre. Members of the public are welcome to attend. The agenda will be available here from the Wednesday afternoon before the meeting and also available in the Parish Office window and on notice boards at The Cross and at Harry Prowse Close and Church View. \nPlanning applications (links open in new tabs on the Somerset Council website): \n\n36/25/00009 – Quantock Lakes\, Inwood Farm – Retention of existing car park to be used as a 160no. park and ride for HPC construction workforce
URL:https://netherstowey-pc.gov.uk/event/parish-council-meeting-20
LOCATION:St Mary’s Church Centre\, St Mary Street\, Nether Stowey\, TA5 1LJ\, United Kingdom
CATEGORIES:Parish Council Meetings
ORGANIZER;CN="Nether Stowey Parish Council":MAILTO:clerk@netherstowey-pc.gov.uk
END:VEVENT
BEGIN:VEVENT
DTSTART;TZID=Europe/London:20260107T140000
DTEND;TZID=Europe/London:20260107T140000
DTSTAMP:20260423T101523
CREATED:20250707T093015Z
LAST-MODIFIED:20250707T093213Z
UID:10001781-1767794400-1767794400@netherstowey-pc.gov.uk
SUMMARY:Nether Stowey & Fiddington WI
DESCRIPTION:The Women’s Institute is somewhere for women of all ages to relax\, have fun and make new friends. \nThey meet at the Church Centre\, Nether Stowey on the second Thursday of the month at 2pm
URL:https://netherstowey-pc.gov.uk/event/nether-stowey-fiddington-wi-4/2026-01-07
LOCATION:St Mary’s Church Centre\, St Mary Street\, Nether Stowey\, TA5 1LJ\, United Kingdom
CATEGORIES:NSF WI
ATTACH;FMTTYPE=image/jpeg:https://netherstowey-pc.gov.uk/wp-content/uploads/2023/10/WI.jpg
END:VEVENT
BEGIN:VEVENT
DTSTART;TZID=Europe/London:20260106T140000
DTEND;TZID=Europe/London:20260106T170000
DTSTAMP:20260423T101523
CREATED:20250623T110512Z
LAST-MODIFIED:20250623T111323Z
UID:10001667-1767708000-1767718800@netherstowey-pc.gov.uk
SUMMARY:NS Short Mat Bowls Club
DESCRIPTION:Short Mat Bowls Club at the Church Centre\, £4 per session\, contact: nsshortmatbowls@gmail.com or phone Terry Binding tel 01278 732710 \nNS Short Mat Bowls Club Poster May 2025 one page
URL:https://netherstowey-pc.gov.uk/event/ns-short-mat-bowls-club/2026-01-06
LOCATION:St Mary’s Church Centre\, St Mary Street\, Nether Stowey\, TA5 1LJ\, United Kingdom
ORGANIZER;CN="Mark Howells":MAILTO:nsshortmatbowls@gmail.com
END:VEVENT
BEGIN:VEVENT
DTSTART;TZID=Europe/London:20251230T140000
DTEND;TZID=Europe/London:20251230T170000
DTSTAMP:20260423T101523
CREATED:20250623T110512Z
LAST-MODIFIED:20250623T111323Z
UID:10001666-1767103200-1767114000@netherstowey-pc.gov.uk
SUMMARY:NS Short Mat Bowls Club
DESCRIPTION:Short Mat Bowls Club at the Church Centre\, £4 per session\, contact: nsshortmatbowls@gmail.com or phone Terry Binding tel 01278 732710 \nNS Short Mat Bowls Club Poster May 2025 one page
URL:https://netherstowey-pc.gov.uk/event/ns-short-mat-bowls-club/2025-12-30
LOCATION:St Mary’s Church Centre\, St Mary Street\, Nether Stowey\, TA5 1LJ\, United Kingdom
ORGANIZER;CN="Mark Howells":MAILTO:nsshortmatbowls@gmail.com
END:VEVENT
BEGIN:VEVENT
DTSTART;TZID=Europe/London:20251223T140000
DTEND;TZID=Europe/London:20251223T170000
DTSTAMP:20260423T101523
CREATED:20250623T110512Z
LAST-MODIFIED:20250623T111323Z
UID:10001665-1766498400-1766509200@netherstowey-pc.gov.uk
SUMMARY:NS Short Mat Bowls Club
DESCRIPTION:Short Mat Bowls Club at the Church Centre\, £4 per session\, contact: nsshortmatbowls@gmail.com or phone Terry Binding tel 01278 732710 \nNS Short Mat Bowls Club Poster May 2025 one page
URL:https://netherstowey-pc.gov.uk/event/ns-short-mat-bowls-club/2025-12-23
LOCATION:St Mary’s Church Centre\, St Mary Street\, Nether Stowey\, TA5 1LJ\, United Kingdom
ORGANIZER;CN="Mark Howells":MAILTO:nsshortmatbowls@gmail.com
END:VEVENT
BEGIN:VEVENT
DTSTART;TZID=Europe/London:20251216T140000
DTEND;TZID=Europe/London:20251216T170000
DTSTAMP:20260423T101523
CREATED:20250623T110512Z
LAST-MODIFIED:20250623T111323Z
UID:10001664-1765893600-1765904400@netherstowey-pc.gov.uk
SUMMARY:NS Short Mat Bowls Club
DESCRIPTION:Short Mat Bowls Club at the Church Centre\, £4 per session\, contact: nsshortmatbowls@gmail.com or phone Terry Binding tel 01278 732710 \nNS Short Mat Bowls Club Poster May 2025 one page
URL:https://netherstowey-pc.gov.uk/event/ns-short-mat-bowls-club/2025-12-16
LOCATION:St Mary’s Church Centre\, St Mary Street\, Nether Stowey\, TA5 1LJ\, United Kingdom
ORGANIZER;CN="Mark Howells":MAILTO:nsshortmatbowls@gmail.com
END:VEVENT
BEGIN:VEVENT
DTSTART;TZID=Europe/London:20251209T140000
DTEND;TZID=Europe/London:20251209T170000
DTSTAMP:20260423T101523
CREATED:20250623T110512Z
LAST-MODIFIED:20250623T111323Z
UID:10001663-1765288800-1765299600@netherstowey-pc.gov.uk
SUMMARY:NS Short Mat Bowls Club
DESCRIPTION:Short Mat Bowls Club at the Church Centre\, £4 per session\, contact: nsshortmatbowls@gmail.com or phone Terry Binding tel 01278 732710 \nNS Short Mat Bowls Club Poster May 2025 one page
URL:https://netherstowey-pc.gov.uk/event/ns-short-mat-bowls-club/2025-12-09
LOCATION:St Mary’s Church Centre\, St Mary Street\, Nether Stowey\, TA5 1LJ\, United Kingdom
ORGANIZER;CN="Mark Howells":MAILTO:nsshortmatbowls@gmail.com
END:VEVENT
BEGIN:VEVENT
DTSTART;TZID=Europe/London:20251208T190000
DTEND;TZID=Europe/London:20251208T190000
DTSTAMP:20260423T101523
CREATED:20251104T095709Z
LAST-MODIFIED:20251218T090402Z
UID:10001801-1765220400-1765220400@netherstowey-pc.gov.uk
SUMMARY:Parish Council Meeting
DESCRIPTION:This meeting will be held at St Mary’s Church Centre. Members of the public are welcome to attend. The agenda will be available here from the Wednesday afternoon before the meeting and also available in the Parish Office window and on notice boards at The Cross and at Harry Prowse Close and Church View.
URL:https://netherstowey-pc.gov.uk/event/parish-council-meeting-22
LOCATION:St Mary’s Church Centre\, St Mary Street\, Nether Stowey\, TA5 1LJ\, United Kingdom
CATEGORIES:Parish Council Meetings
ORGANIZER;CN="Nether Stowey Parish Council":MAILTO:clerk@netherstowey-pc.gov.uk
END:VEVENT
END:VCALENDAR