BEGIN:VCALENDAR
VERSION:2.0
PRODID:-//Nether Stowey Parish Council - ECPv6.15.18//NONSGML v1.0//EN
CALSCALE:GREGORIAN
METHOD:PUBLISH
X-WR-CALNAME:Nether Stowey Parish Council
X-ORIGINAL-URL:https://netherstowey-pc.gov.uk
X-WR-CALDESC:Events for Nether Stowey Parish Council
REFRESH-INTERVAL;VALUE=DURATION:PT1H
X-Robots-Tag:noindex
X-PUBLISHED-TTL:PT1H
BEGIN:VTIMEZONE
TZID:Europe/London
BEGIN:DAYLIGHT
TZOFFSETFROM:+0000
TZOFFSETTO:+0100
TZNAME:BST
DTSTART:20250330T010000
END:DAYLIGHT
BEGIN:STANDARD
TZOFFSETFROM:+0100
TZOFFSETTO:+0000
TZNAME:GMT
DTSTART:20251026T010000
END:STANDARD
BEGIN:DAYLIGHT
TZOFFSETFROM:+0000
TZOFFSETTO:+0100
TZNAME:BST
DTSTART:20260329T010000
END:DAYLIGHT
BEGIN:STANDARD
TZOFFSETFROM:+0100
TZOFFSETTO:+0000
TZNAME:GMT
DTSTART:20261025T010000
END:STANDARD
BEGIN:DAYLIGHT
TZOFFSETFROM:+0000
TZOFFSETTO:+0100
TZNAME:BST
DTSTART:20270328T010000
END:DAYLIGHT
BEGIN:STANDARD
TZOFFSETFROM:+0100
TZOFFSETTO:+0000
TZNAME:GMT
DTSTART:20271031T010000
END:STANDARD
BEGIN:DAYLIGHT
TZOFFSETFROM:+0000
TZOFFSETTO:+0100
TZNAME:BST
DTSTART:20280326T010000
END:DAYLIGHT
BEGIN:STANDARD
TZOFFSETFROM:+0100
TZOFFSETTO:+0000
TZNAME:GMT
DTSTART:20281029T010000
END:STANDARD
END:VTIMEZONE
BEGIN:VEVENT
DTSTART;TZID=Europe/London:20261110T140000
DTEND;TZID=Europe/London:20261110T170000
DTSTAMP:20260423T124338
CREATED:20260404T081641Z
LAST-MODIFIED:20260406T075148Z
UID:10001711-1794319200-1794330000@netherstowey-pc.gov.uk
SUMMARY:NS Short Mat Bowls Club
DESCRIPTION:Short Mat Bowls Club at the Church Centre\, £5 per session\, contact: nsshortmatbowls@gmail.com or phone Terry Binding tel 01278 732710 \nAdvert NS Short Mat Bowls Club Poster April 2026 half page (1)
URL:https://netherstowey-pc.gov.uk/event/ns-short-mat-bowls-club-2/2026-11-10
LOCATION:St Mary’s Church Centre\, St Mary Street\, Nether Stowey\, TA5 1LJ\, United Kingdom
ORGANIZER;CN="Mark Howells":MAILTO:nsshortmatbowls@gmail.com
END:VEVENT
BEGIN:VEVENT
DTSTART;TZID=Europe/London:20261117T140000
DTEND;TZID=Europe/London:20261117T170000
DTSTAMP:20260423T124339
CREATED:20260404T081641Z
LAST-MODIFIED:20260406T075148Z
UID:10001712-1794924000-1794934800@netherstowey-pc.gov.uk
SUMMARY:NS Short Mat Bowls Club
DESCRIPTION:Short Mat Bowls Club at the Church Centre\, £5 per session\, contact: nsshortmatbowls@gmail.com or phone Terry Binding tel 01278 732710 \nAdvert NS Short Mat Bowls Club Poster April 2026 half page (1)
URL:https://netherstowey-pc.gov.uk/event/ns-short-mat-bowls-club-2/2026-11-17
LOCATION:St Mary’s Church Centre\, St Mary Street\, Nether Stowey\, TA5 1LJ\, United Kingdom
ORGANIZER;CN="Mark Howells":MAILTO:nsshortmatbowls@gmail.com
END:VEVENT
BEGIN:VEVENT
DTSTART;TZID=Europe/London:20261124T140000
DTEND;TZID=Europe/London:20261124T170000
DTSTAMP:20260423T124339
CREATED:20260404T081641Z
LAST-MODIFIED:20260406T075148Z
UID:10001713-1795528800-1795539600@netherstowey-pc.gov.uk
SUMMARY:NS Short Mat Bowls Club
DESCRIPTION:Short Mat Bowls Club at the Church Centre\, £5 per session\, contact: nsshortmatbowls@gmail.com or phone Terry Binding tel 01278 732710 \nAdvert NS Short Mat Bowls Club Poster April 2026 half page (1)
URL:https://netherstowey-pc.gov.uk/event/ns-short-mat-bowls-club-2/2026-11-24
LOCATION:St Mary’s Church Centre\, St Mary Street\, Nether Stowey\, TA5 1LJ\, United Kingdom
ORGANIZER;CN="Mark Howells":MAILTO:nsshortmatbowls@gmail.com
END:VEVENT
BEGIN:VEVENT
DTSTART;TZID=Europe/London:20261201T140000
DTEND;TZID=Europe/London:20261201T170000
DTSTAMP:20260423T124339
CREATED:20260404T081641Z
LAST-MODIFIED:20260406T075148Z
UID:10001714-1796133600-1796144400@netherstowey-pc.gov.uk
SUMMARY:NS Short Mat Bowls Club
DESCRIPTION:Short Mat Bowls Club at the Church Centre\, £5 per session\, contact: nsshortmatbowls@gmail.com or phone Terry Binding tel 01278 732710 \nAdvert NS Short Mat Bowls Club Poster April 2026 half page (1)
URL:https://netherstowey-pc.gov.uk/event/ns-short-mat-bowls-club-2/2026-12-01
LOCATION:St Mary’s Church Centre\, St Mary Street\, Nether Stowey\, TA5 1LJ\, United Kingdom
ORGANIZER;CN="Mark Howells":MAILTO:nsshortmatbowls@gmail.com
END:VEVENT
BEGIN:VEVENT
DTSTART;TZID=Europe/London:20261208T140000
DTEND;TZID=Europe/London:20261208T170000
DTSTAMP:20260423T124339
CREATED:20260404T081641Z
LAST-MODIFIED:20260406T075148Z
UID:10001715-1796738400-1796749200@netherstowey-pc.gov.uk
SUMMARY:NS Short Mat Bowls Club
DESCRIPTION:Short Mat Bowls Club at the Church Centre\, £5 per session\, contact: nsshortmatbowls@gmail.com or phone Terry Binding tel 01278 732710 \nAdvert NS Short Mat Bowls Club Poster April 2026 half page (1)
URL:https://netherstowey-pc.gov.uk/event/ns-short-mat-bowls-club-2/2026-12-08
LOCATION:St Mary’s Church Centre\, St Mary Street\, Nether Stowey\, TA5 1LJ\, United Kingdom
ORGANIZER;CN="Mark Howells":MAILTO:nsshortmatbowls@gmail.com
END:VEVENT
BEGIN:VEVENT
DTSTART;TZID=Europe/London:20261215T140000
DTEND;TZID=Europe/London:20261215T170000
DTSTAMP:20260423T124339
CREATED:20260404T081641Z
LAST-MODIFIED:20260406T075148Z
UID:10001716-1797343200-1797354000@netherstowey-pc.gov.uk
SUMMARY:NS Short Mat Bowls Club
DESCRIPTION:Short Mat Bowls Club at the Church Centre\, £5 per session\, contact: nsshortmatbowls@gmail.com or phone Terry Binding tel 01278 732710 \nAdvert NS Short Mat Bowls Club Poster April 2026 half page (1)
URL:https://netherstowey-pc.gov.uk/event/ns-short-mat-bowls-club-2/2026-12-15
LOCATION:St Mary’s Church Centre\, St Mary Street\, Nether Stowey\, TA5 1LJ\, United Kingdom
ORGANIZER;CN="Mark Howells":MAILTO:nsshortmatbowls@gmail.com
END:VEVENT
BEGIN:VEVENT
DTSTART;TZID=Europe/London:20261222T140000
DTEND;TZID=Europe/London:20261222T170000
DTSTAMP:20260423T124339
CREATED:20260404T081641Z
LAST-MODIFIED:20260406T075148Z
UID:10001717-1797948000-1797958800@netherstowey-pc.gov.uk
SUMMARY:NS Short Mat Bowls Club
DESCRIPTION:Short Mat Bowls Club at the Church Centre\, £5 per session\, contact: nsshortmatbowls@gmail.com or phone Terry Binding tel 01278 732710 \nAdvert NS Short Mat Bowls Club Poster April 2026 half page (1)
URL:https://netherstowey-pc.gov.uk/event/ns-short-mat-bowls-club-2/2026-12-22
LOCATION:St Mary’s Church Centre\, St Mary Street\, Nether Stowey\, TA5 1LJ\, United Kingdom
ORGANIZER;CN="Mark Howells":MAILTO:nsshortmatbowls@gmail.com
END:VEVENT
BEGIN:VEVENT
DTSTART;TZID=Europe/London:20261229T140000
DTEND;TZID=Europe/London:20261229T170000
DTSTAMP:20260423T124339
CREATED:20260404T081641Z
LAST-MODIFIED:20260406T075148Z
UID:10001718-1798552800-1798563600@netherstowey-pc.gov.uk
SUMMARY:NS Short Mat Bowls Club
DESCRIPTION:Short Mat Bowls Club at the Church Centre\, £5 per session\, contact: nsshortmatbowls@gmail.com or phone Terry Binding tel 01278 732710 \nAdvert NS Short Mat Bowls Club Poster April 2026 half page (1)
URL:https://netherstowey-pc.gov.uk/event/ns-short-mat-bowls-club-2/2026-12-29
LOCATION:St Mary’s Church Centre\, St Mary Street\, Nether Stowey\, TA5 1LJ\, United Kingdom
ORGANIZER;CN="Mark Howells":MAILTO:nsshortmatbowls@gmail.com
END:VEVENT
BEGIN:VEVENT
DTSTART;TZID=Europe/London:20270105T140000
DTEND;TZID=Europe/London:20270105T170000
DTSTAMP:20260423T124339
CREATED:20260404T081641Z
LAST-MODIFIED:20260406T075148Z
UID:10001719-1799157600-1799168400@netherstowey-pc.gov.uk
SUMMARY:NS Short Mat Bowls Club
DESCRIPTION:Short Mat Bowls Club at the Church Centre\, £5 per session\, contact: nsshortmatbowls@gmail.com or phone Terry Binding tel 01278 732710 \nAdvert NS Short Mat Bowls Club Poster April 2026 half page (1)
URL:https://netherstowey-pc.gov.uk/event/ns-short-mat-bowls-club-2/2027-01-05
LOCATION:St Mary’s Church Centre\, St Mary Street\, Nether Stowey\, TA5 1LJ\, United Kingdom
ORGANIZER;CN="Mark Howells":MAILTO:nsshortmatbowls@gmail.com
END:VEVENT
BEGIN:VEVENT
DTSTART;TZID=Europe/London:20270112T140000
DTEND;TZID=Europe/London:20270112T170000
DTSTAMP:20260423T124339
CREATED:20260404T081641Z
LAST-MODIFIED:20260406T075148Z
UID:10001720-1799762400-1799773200@netherstowey-pc.gov.uk
SUMMARY:NS Short Mat Bowls Club
DESCRIPTION:Short Mat Bowls Club at the Church Centre\, £5 per session\, contact: nsshortmatbowls@gmail.com or phone Terry Binding tel 01278 732710 \nAdvert NS Short Mat Bowls Club Poster April 2026 half page (1)
URL:https://netherstowey-pc.gov.uk/event/ns-short-mat-bowls-club-2/2027-01-12
LOCATION:St Mary’s Church Centre\, St Mary Street\, Nether Stowey\, TA5 1LJ\, United Kingdom
ORGANIZER;CN="Mark Howells":MAILTO:nsshortmatbowls@gmail.com
END:VEVENT
BEGIN:VEVENT
DTSTART;TZID=Europe/London:20270119T140000
DTEND;TZID=Europe/London:20270119T170000
DTSTAMP:20260423T124339
CREATED:20260404T081641Z
LAST-MODIFIED:20260406T075148Z
UID:10001721-1800367200-1800378000@netherstowey-pc.gov.uk
SUMMARY:NS Short Mat Bowls Club
DESCRIPTION:Short Mat Bowls Club at the Church Centre\, £5 per session\, contact: nsshortmatbowls@gmail.com or phone Terry Binding tel 01278 732710 \nAdvert NS Short Mat Bowls Club Poster April 2026 half page (1)
URL:https://netherstowey-pc.gov.uk/event/ns-short-mat-bowls-club-2/2027-01-19
LOCATION:St Mary’s Church Centre\, St Mary Street\, Nether Stowey\, TA5 1LJ\, United Kingdom
ORGANIZER;CN="Mark Howells":MAILTO:nsshortmatbowls@gmail.com
END:VEVENT
BEGIN:VEVENT
DTSTART;TZID=Europe/London:20270126T140000
DTEND;TZID=Europe/London:20270126T170000
DTSTAMP:20260423T124339
CREATED:20260404T081641Z
LAST-MODIFIED:20260406T075148Z
UID:10001722-1800972000-1800982800@netherstowey-pc.gov.uk
SUMMARY:NS Short Mat Bowls Club
DESCRIPTION:Short Mat Bowls Club at the Church Centre\, £5 per session\, contact: nsshortmatbowls@gmail.com or phone Terry Binding tel 01278 732710 \nAdvert NS Short Mat Bowls Club Poster April 2026 half page (1)
URL:https://netherstowey-pc.gov.uk/event/ns-short-mat-bowls-club-2/2027-01-26
LOCATION:St Mary’s Church Centre\, St Mary Street\, Nether Stowey\, TA5 1LJ\, United Kingdom
ORGANIZER;CN="Mark Howells":MAILTO:nsshortmatbowls@gmail.com
END:VEVENT
BEGIN:VEVENT
DTSTART;TZID=Europe/London:20270202T140000
DTEND;TZID=Europe/London:20270202T170000
DTSTAMP:20260423T124339
CREATED:20260404T081641Z
LAST-MODIFIED:20260406T075148Z
UID:10001723-1801576800-1801587600@netherstowey-pc.gov.uk
SUMMARY:NS Short Mat Bowls Club
DESCRIPTION:Short Mat Bowls Club at the Church Centre\, £5 per session\, contact: nsshortmatbowls@gmail.com or phone Terry Binding tel 01278 732710 \nAdvert NS Short Mat Bowls Club Poster April 2026 half page (1)
URL:https://netherstowey-pc.gov.uk/event/ns-short-mat-bowls-club-2/2027-02-02
LOCATION:St Mary’s Church Centre\, St Mary Street\, Nether Stowey\, TA5 1LJ\, United Kingdom
ORGANIZER;CN="Mark Howells":MAILTO:nsshortmatbowls@gmail.com
END:VEVENT
BEGIN:VEVENT
DTSTART;TZID=Europe/London:20270209T140000
DTEND;TZID=Europe/London:20270209T170000
DTSTAMP:20260423T124339
CREATED:20260404T081641Z
LAST-MODIFIED:20260406T075148Z
UID:10001724-1802181600-1802192400@netherstowey-pc.gov.uk
SUMMARY:NS Short Mat Bowls Club
DESCRIPTION:Short Mat Bowls Club at the Church Centre\, £5 per session\, contact: nsshortmatbowls@gmail.com or phone Terry Binding tel 01278 732710 \nAdvert NS Short Mat Bowls Club Poster April 2026 half page (1)
URL:https://netherstowey-pc.gov.uk/event/ns-short-mat-bowls-club-2/2027-02-09
LOCATION:St Mary’s Church Centre\, St Mary Street\, Nether Stowey\, TA5 1LJ\, United Kingdom
ORGANIZER;CN="Mark Howells":MAILTO:nsshortmatbowls@gmail.com
END:VEVENT
BEGIN:VEVENT
DTSTART;TZID=Europe/London:20270216T140000
DTEND;TZID=Europe/London:20270216T170000
DTSTAMP:20260423T124339
CREATED:20260404T081641Z
LAST-MODIFIED:20260406T075148Z
UID:10001725-1802786400-1802797200@netherstowey-pc.gov.uk
SUMMARY:NS Short Mat Bowls Club
DESCRIPTION:Short Mat Bowls Club at the Church Centre\, £5 per session\, contact: nsshortmatbowls@gmail.com or phone Terry Binding tel 01278 732710 \nAdvert NS Short Mat Bowls Club Poster April 2026 half page (1)
URL:https://netherstowey-pc.gov.uk/event/ns-short-mat-bowls-club-2/2027-02-16
LOCATION:St Mary’s Church Centre\, St Mary Street\, Nether Stowey\, TA5 1LJ\, United Kingdom
ORGANIZER;CN="Mark Howells":MAILTO:nsshortmatbowls@gmail.com
END:VEVENT
BEGIN:VEVENT
DTSTART;TZID=Europe/London:20270223T140000
DTEND;TZID=Europe/London:20270223T170000
DTSTAMP:20260423T124339
CREATED:20260404T081641Z
LAST-MODIFIED:20260406T075148Z
UID:10001726-1803391200-1803402000@netherstowey-pc.gov.uk
SUMMARY:NS Short Mat Bowls Club
DESCRIPTION:Short Mat Bowls Club at the Church Centre\, £5 per session\, contact: nsshortmatbowls@gmail.com or phone Terry Binding tel 01278 732710 \nAdvert NS Short Mat Bowls Club Poster April 2026 half page (1)
URL:https://netherstowey-pc.gov.uk/event/ns-short-mat-bowls-club-2/2027-02-23
LOCATION:St Mary’s Church Centre\, St Mary Street\, Nether Stowey\, TA5 1LJ\, United Kingdom
ORGANIZER;CN="Mark Howells":MAILTO:nsshortmatbowls@gmail.com
END:VEVENT
BEGIN:VEVENT
DTSTART;TZID=Europe/London:20270302T140000
DTEND;TZID=Europe/London:20270302T170000
DTSTAMP:20260423T124339
CREATED:20260404T081641Z
LAST-MODIFIED:20260406T075148Z
UID:10001727-1803996000-1804006800@netherstowey-pc.gov.uk
SUMMARY:NS Short Mat Bowls Club
DESCRIPTION:Short Mat Bowls Club at the Church Centre\, £5 per session\, contact: nsshortmatbowls@gmail.com or phone Terry Binding tel 01278 732710 \nAdvert NS Short Mat Bowls Club Poster April 2026 half page (1)
URL:https://netherstowey-pc.gov.uk/event/ns-short-mat-bowls-club-2/2027-03-02
LOCATION:St Mary’s Church Centre\, St Mary Street\, Nether Stowey\, TA5 1LJ\, United Kingdom
ORGANIZER;CN="Mark Howells":MAILTO:nsshortmatbowls@gmail.com
END:VEVENT
BEGIN:VEVENT
DTSTART;TZID=Europe/London:20270309T140000
DTEND;TZID=Europe/London:20270309T170000
DTSTAMP:20260423T124339
CREATED:20260404T081641Z
LAST-MODIFIED:20260406T075148Z
UID:10001728-1804600800-1804611600@netherstowey-pc.gov.uk
SUMMARY:NS Short Mat Bowls Club
DESCRIPTION:Short Mat Bowls Club at the Church Centre\, £5 per session\, contact: nsshortmatbowls@gmail.com or phone Terry Binding tel 01278 732710 \nAdvert NS Short Mat Bowls Club Poster April 2026 half page (1)
URL:https://netherstowey-pc.gov.uk/event/ns-short-mat-bowls-club-2/2027-03-09
LOCATION:St Mary’s Church Centre\, St Mary Street\, Nether Stowey\, TA5 1LJ\, United Kingdom
ORGANIZER;CN="Mark Howells":MAILTO:nsshortmatbowls@gmail.com
END:VEVENT
BEGIN:VEVENT
DTSTART;TZID=Europe/London:20270316T140000
DTEND;TZID=Europe/London:20270316T170000
DTSTAMP:20260423T124339
CREATED:20260404T081641Z
LAST-MODIFIED:20260406T075148Z
UID:10001729-1805205600-1805216400@netherstowey-pc.gov.uk
SUMMARY:NS Short Mat Bowls Club
DESCRIPTION:Short Mat Bowls Club at the Church Centre\, £5 per session\, contact: nsshortmatbowls@gmail.com or phone Terry Binding tel 01278 732710 \nAdvert NS Short Mat Bowls Club Poster April 2026 half page (1)
URL:https://netherstowey-pc.gov.uk/event/ns-short-mat-bowls-club-2/2027-03-16
LOCATION:St Mary’s Church Centre\, St Mary Street\, Nether Stowey\, TA5 1LJ\, United Kingdom
ORGANIZER;CN="Mark Howells":MAILTO:nsshortmatbowls@gmail.com
END:VEVENT
BEGIN:VEVENT
DTSTART;TZID=Europe/London:20270323T140000
DTEND;TZID=Europe/London:20270323T170000
DTSTAMP:20260423T124339
CREATED:20260404T081641Z
LAST-MODIFIED:20260406T075148Z
UID:10001730-1805810400-1805821200@netherstowey-pc.gov.uk
SUMMARY:NS Short Mat Bowls Club
DESCRIPTION:Short Mat Bowls Club at the Church Centre\, £5 per session\, contact: nsshortmatbowls@gmail.com or phone Terry Binding tel 01278 732710 \nAdvert NS Short Mat Bowls Club Poster April 2026 half page (1)
URL:https://netherstowey-pc.gov.uk/event/ns-short-mat-bowls-club-2/2027-03-23
LOCATION:St Mary’s Church Centre\, St Mary Street\, Nether Stowey\, TA5 1LJ\, United Kingdom
ORGANIZER;CN="Mark Howells":MAILTO:nsshortmatbowls@gmail.com
END:VEVENT
BEGIN:VEVENT
DTSTART;TZID=Europe/London:20270330T140000
DTEND;TZID=Europe/London:20270330T170000
DTSTAMP:20260423T124339
CREATED:20260404T081641Z
LAST-MODIFIED:20260406T075148Z
UID:10001731-1806415200-1806426000@netherstowey-pc.gov.uk
SUMMARY:NS Short Mat Bowls Club
DESCRIPTION:Short Mat Bowls Club at the Church Centre\, £5 per session\, contact: nsshortmatbowls@gmail.com or phone Terry Binding tel 01278 732710 \nAdvert NS Short Mat Bowls Club Poster April 2026 half page (1)
URL:https://netherstowey-pc.gov.uk/event/ns-short-mat-bowls-club-2/2027-03-30
LOCATION:St Mary’s Church Centre\, St Mary Street\, Nether Stowey\, TA5 1LJ\, United Kingdom
ORGANIZER;CN="Mark Howells":MAILTO:nsshortmatbowls@gmail.com
END:VEVENT
BEGIN:VEVENT
DTSTART;TZID=Europe/London:20270406T140000
DTEND;TZID=Europe/London:20270406T170000
DTSTAMP:20260423T124339
CREATED:20260404T081641Z
LAST-MODIFIED:20260406T075148Z
UID:10001732-1807020000-1807030800@netherstowey-pc.gov.uk
SUMMARY:NS Short Mat Bowls Club
DESCRIPTION:Short Mat Bowls Club at the Church Centre\, £5 per session\, contact: nsshortmatbowls@gmail.com or phone Terry Binding tel 01278 732710 \nAdvert NS Short Mat Bowls Club Poster April 2026 half page (1)
URL:https://netherstowey-pc.gov.uk/event/ns-short-mat-bowls-club-2/2027-04-06
LOCATION:St Mary’s Church Centre\, St Mary Street\, Nether Stowey\, TA5 1LJ\, United Kingdom
ORGANIZER;CN="Mark Howells":MAILTO:nsshortmatbowls@gmail.com
END:VEVENT
BEGIN:VEVENT
DTSTART;TZID=Europe/London:20270413T140000
DTEND;TZID=Europe/London:20270413T170000
DTSTAMP:20260423T124339
CREATED:20260404T081641Z
LAST-MODIFIED:20260406T075148Z
UID:10001733-1807624800-1807635600@netherstowey-pc.gov.uk
SUMMARY:NS Short Mat Bowls Club
DESCRIPTION:Short Mat Bowls Club at the Church Centre\, £5 per session\, contact: nsshortmatbowls@gmail.com or phone Terry Binding tel 01278 732710 \nAdvert NS Short Mat Bowls Club Poster April 2026 half page (1)
URL:https://netherstowey-pc.gov.uk/event/ns-short-mat-bowls-club-2/2027-04-13
LOCATION:St Mary’s Church Centre\, St Mary Street\, Nether Stowey\, TA5 1LJ\, United Kingdom
ORGANIZER;CN="Mark Howells":MAILTO:nsshortmatbowls@gmail.com
END:VEVENT
BEGIN:VEVENT
DTSTART;TZID=Europe/London:20270420T140000
DTEND;TZID=Europe/London:20270420T170000
DTSTAMP:20260423T124339
CREATED:20260404T081641Z
LAST-MODIFIED:20260406T075148Z
UID:10001734-1808229600-1808240400@netherstowey-pc.gov.uk
SUMMARY:NS Short Mat Bowls Club
DESCRIPTION:Short Mat Bowls Club at the Church Centre\, £5 per session\, contact: nsshortmatbowls@gmail.com or phone Terry Binding tel 01278 732710 \nAdvert NS Short Mat Bowls Club Poster April 2026 half page (1)
URL:https://netherstowey-pc.gov.uk/event/ns-short-mat-bowls-club-2/2027-04-20
LOCATION:St Mary’s Church Centre\, St Mary Street\, Nether Stowey\, TA5 1LJ\, United Kingdom
ORGANIZER;CN="Mark Howells":MAILTO:nsshortmatbowls@gmail.com
END:VEVENT
BEGIN:VEVENT
DTSTART;TZID=Europe/London:20270427T140000
DTEND;TZID=Europe/London:20270427T170000
DTSTAMP:20260423T124339
CREATED:20260404T081641Z
LAST-MODIFIED:20260406T075148Z
UID:10001735-1808834400-1808845200@netherstowey-pc.gov.uk
SUMMARY:NS Short Mat Bowls Club
DESCRIPTION:Short Mat Bowls Club at the Church Centre\, £5 per session\, contact: nsshortmatbowls@gmail.com or phone Terry Binding tel 01278 732710 \nAdvert NS Short Mat Bowls Club Poster April 2026 half page (1)
URL:https://netherstowey-pc.gov.uk/event/ns-short-mat-bowls-club-2/2027-04-27
LOCATION:St Mary’s Church Centre\, St Mary Street\, Nether Stowey\, TA5 1LJ\, United Kingdom
ORGANIZER;CN="Mark Howells":MAILTO:nsshortmatbowls@gmail.com
END:VEVENT
BEGIN:VEVENT
DTSTART;TZID=Europe/London:20270504T140000
DTEND;TZID=Europe/London:20270504T170000
DTSTAMP:20260423T124339
CREATED:20260404T081641Z
LAST-MODIFIED:20260406T075148Z
UID:10001736-1809439200-1809450000@netherstowey-pc.gov.uk
SUMMARY:NS Short Mat Bowls Club
DESCRIPTION:Short Mat Bowls Club at the Church Centre\, £5 per session\, contact: nsshortmatbowls@gmail.com or phone Terry Binding tel 01278 732710 \nAdvert NS Short Mat Bowls Club Poster April 2026 half page (1)
URL:https://netherstowey-pc.gov.uk/event/ns-short-mat-bowls-club-2/2027-05-04
LOCATION:St Mary’s Church Centre\, St Mary Street\, Nether Stowey\, TA5 1LJ\, United Kingdom
ORGANIZER;CN="Mark Howells":MAILTO:nsshortmatbowls@gmail.com
END:VEVENT
BEGIN:VEVENT
DTSTART;TZID=Europe/London:20270511T140000
DTEND;TZID=Europe/London:20270511T170000
DTSTAMP:20260423T124339
CREATED:20260404T081641Z
LAST-MODIFIED:20260406T075148Z
UID:10001737-1810044000-1810054800@netherstowey-pc.gov.uk
SUMMARY:NS Short Mat Bowls Club
DESCRIPTION:Short Mat Bowls Club at the Church Centre\, £5 per session\, contact: nsshortmatbowls@gmail.com or phone Terry Binding tel 01278 732710 \nAdvert NS Short Mat Bowls Club Poster April 2026 half page (1)
URL:https://netherstowey-pc.gov.uk/event/ns-short-mat-bowls-club-2/2027-05-11
LOCATION:St Mary’s Church Centre\, St Mary Street\, Nether Stowey\, TA5 1LJ\, United Kingdom
ORGANIZER;CN="Mark Howells":MAILTO:nsshortmatbowls@gmail.com
END:VEVENT
BEGIN:VEVENT
DTSTART;TZID=Europe/London:20270518T140000
DTEND;TZID=Europe/London:20270518T170000
DTSTAMP:20260423T124339
CREATED:20260404T081641Z
LAST-MODIFIED:20260406T075148Z
UID:10001738-1810648800-1810659600@netherstowey-pc.gov.uk
SUMMARY:NS Short Mat Bowls Club
DESCRIPTION:Short Mat Bowls Club at the Church Centre\, £5 per session\, contact: nsshortmatbowls@gmail.com or phone Terry Binding tel 01278 732710 \nAdvert NS Short Mat Bowls Club Poster April 2026 half page (1)
URL:https://netherstowey-pc.gov.uk/event/ns-short-mat-bowls-club-2/2027-05-18
LOCATION:St Mary’s Church Centre\, St Mary Street\, Nether Stowey\, TA5 1LJ\, United Kingdom
ORGANIZER;CN="Mark Howells":MAILTO:nsshortmatbowls@gmail.com
END:VEVENT
BEGIN:VEVENT
DTSTART;TZID=Europe/London:20270525T140000
DTEND;TZID=Europe/London:20270525T170000
DTSTAMP:20260423T124339
CREATED:20260404T081641Z
LAST-MODIFIED:20260406T075148Z
UID:10001739-1811253600-1811264400@netherstowey-pc.gov.uk
SUMMARY:NS Short Mat Bowls Club
DESCRIPTION:Short Mat Bowls Club at the Church Centre\, £5 per session\, contact: nsshortmatbowls@gmail.com or phone Terry Binding tel 01278 732710 \nAdvert NS Short Mat Bowls Club Poster April 2026 half page (1)
URL:https://netherstowey-pc.gov.uk/event/ns-short-mat-bowls-club-2/2027-05-25
LOCATION:St Mary’s Church Centre\, St Mary Street\, Nether Stowey\, TA5 1LJ\, United Kingdom
ORGANIZER;CN="Mark Howells":MAILTO:nsshortmatbowls@gmail.com
END:VEVENT
END:VCALENDAR