BEGIN:VCALENDAR
VERSION:2.0
PRODID:-//Nether Stowey Parish Council - ECPv6.15.18//NONSGML v1.0//EN
CALSCALE:GREGORIAN
METHOD:PUBLISH
X-ORIGINAL-URL:https://netherstowey-pc.gov.uk
X-WR-CALDESC:Events for Nether Stowey Parish Council
REFRESH-INTERVAL;VALUE=DURATION:PT1H
X-Robots-Tag:noindex
X-PUBLISHED-TTL:PT1H
BEGIN:VTIMEZONE
TZID:Europe/London
BEGIN:DAYLIGHT
TZOFFSETFROM:+0000
TZOFFSETTO:+0100
TZNAME:BST
DTSTART:20220327T010000
END:DAYLIGHT
BEGIN:STANDARD
TZOFFSETFROM:+0100
TZOFFSETTO:+0000
TZNAME:GMT
DTSTART:20221030T010000
END:STANDARD
BEGIN:DAYLIGHT
TZOFFSETFROM:+0000
TZOFFSETTO:+0100
TZNAME:BST
DTSTART:20230326T010000
END:DAYLIGHT
BEGIN:STANDARD
TZOFFSETFROM:+0100
TZOFFSETTO:+0000
TZNAME:GMT
DTSTART:20231029T010000
END:STANDARD
BEGIN:DAYLIGHT
TZOFFSETFROM:+0000
TZOFFSETTO:+0100
TZNAME:BST
DTSTART:20240331T010000
END:DAYLIGHT
BEGIN:STANDARD
TZOFFSETFROM:+0100
TZOFFSETTO:+0000
TZNAME:GMT
DTSTART:20241027T010000
END:STANDARD
BEGIN:DAYLIGHT
TZOFFSETFROM:+0000
TZOFFSETTO:+0100
TZNAME:BST
DTSTART:20250330T010000
END:DAYLIGHT
BEGIN:STANDARD
TZOFFSETFROM:+0100
TZOFFSETTO:+0000
TZNAME:GMT
DTSTART:20251026T010000
END:STANDARD
END:VTIMEZONE
BEGIN:VEVENT
DTSTART;TZID=Europe/London:20240304T110000
DTEND;TZID=Europe/London:20240304T113000
DTSTAMP:20260423T040027
CREATED:20231019T120029Z
LAST-MODIFIED:20231019T121833Z
UID:10000574-1709550000-1709551800@netherstowey-pc.gov.uk
SUMMARY:Story Time for babies\, toddlers and pre-schoolers
DESCRIPTION:Story Time is a lovely activity for babies and toddlers\, pre-school children\, and their grown-ups. \nHeld every Monday (apart from bank holidays) from 11 to 11.30. Listen to a story then pick an instrument from the music box and join in as we sing nursery rhymes.
URL:https://netherstowey-pc.gov.uk/event/story-time-for-babies-toddlers-and-pre-schoolers/2024-03-04
LOCATION:Thomas Poole Library\, Castle Street\, Nether Stowey\, TA5 1LN
CATEGORIES:Thomas Poole Library
ATTACH;FMTTYPE=image/jpeg:https://netherstowey-pc.gov.uk/wp-content/uploads/2023/10/unfocused-children-paying-attention-their-teacher-scaled.jpg
ORGANIZER;CN="Thomas Poole Library":MAILTO:eventsandpr@thomaspoolelibrary.org.uk
END:VEVENT
BEGIN:VEVENT
DTSTART;TZID=Europe/London:20240302T100000
DTEND;TZID=Europe/London:20240302T123000
DTSTAMP:20260423T040027
CREATED:20240130T114254Z
LAST-MODIFIED:20240130T121218Z
UID:10001366-1709373600-1709382600@netherstowey-pc.gov.uk
SUMMARY:Dungeons and Dragons
DESCRIPTION:Want to play Dungeons and Dragons?\nIntroductory session at the Thomas Poole Library \nNo experience necessary\, new players welcome!\nAll equipment and instructions provided. \nAges 8 and over.
URL:https://netherstowey-pc.gov.uk/event/13641
LOCATION:Thomas Poole Library\, Castle Street\, Nether Stowey\, TA5 1LN
CATEGORIES:Thomas Poole Library
ORGANIZER;CN="Thomas Poole Library":MAILTO:eventsandpr@thomaspoolelibrary.org.uk
END:VEVENT
BEGIN:VEVENT
DTSTART;TZID=Europe/London:20240229T170000
DTEND;TZID=Europe/London:20240229T183000
DTSTAMP:20260423T040027
CREATED:20231019T102344Z
LAST-MODIFIED:20231019T102425Z
UID:10000050-1709226000-1709231400@netherstowey-pc.gov.uk
SUMMARY:Chess Time at the Library
DESCRIPTION:Learn the basics\, discover new moves and have fun!
URL:https://netherstowey-pc.gov.uk/event/chess-time-at-the-library/2024-02-29
LOCATION:Thomas Poole Library\, Castle Street\, Nether Stowey\, TA5 1LN
CATEGORIES:Thomas Poole Library
ORGANIZER;CN="Thomas Poole Library":MAILTO:eventsandpr@thomaspoolelibrary.org.uk
END:VEVENT
BEGIN:VEVENT
DTSTART;TZID=Europe/London:20240226T110000
DTEND;TZID=Europe/London:20240226T113000
DTSTAMP:20260423T040027
CREATED:20231019T120029Z
LAST-MODIFIED:20231019T121833Z
UID:10000573-1708945200-1708947000@netherstowey-pc.gov.uk
SUMMARY:Story Time for babies\, toddlers and pre-schoolers
DESCRIPTION:Story Time is a lovely activity for babies and toddlers\, pre-school children\, and their grown-ups. \nHeld every Monday (apart from bank holidays) from 11 to 11.30. Listen to a story then pick an instrument from the music box and join in as we sing nursery rhymes.
URL:https://netherstowey-pc.gov.uk/event/story-time-for-babies-toddlers-and-pre-schoolers/2024-02-26
LOCATION:Thomas Poole Library\, Castle Street\, Nether Stowey\, TA5 1LN
CATEGORIES:Thomas Poole Library
ATTACH;FMTTYPE=image/jpeg:https://netherstowey-pc.gov.uk/wp-content/uploads/2023/10/unfocused-children-paying-attention-their-teacher-scaled.jpg
ORGANIZER;CN="Thomas Poole Library":MAILTO:eventsandpr@thomaspoolelibrary.org.uk
END:VEVENT
BEGIN:VEVENT
DTSTART;TZID=Europe/London:20240222T170000
DTEND;TZID=Europe/London:20240222T183000
DTSTAMP:20260423T040027
CREATED:20231019T102344Z
LAST-MODIFIED:20231019T102425Z
UID:10000049-1708621200-1708626600@netherstowey-pc.gov.uk
SUMMARY:Chess Time at the Library
DESCRIPTION:Learn the basics\, discover new moves and have fun!
URL:https://netherstowey-pc.gov.uk/event/chess-time-at-the-library/2024-02-22
LOCATION:Thomas Poole Library\, Castle Street\, Nether Stowey\, TA5 1LN
CATEGORIES:Thomas Poole Library
ORGANIZER;CN="Thomas Poole Library":MAILTO:eventsandpr@thomaspoolelibrary.org.uk
END:VEVENT
BEGIN:VEVENT
DTSTART;TZID=Europe/London:20240219T110000
DTEND;TZID=Europe/London:20240219T113000
DTSTAMP:20260423T040027
CREATED:20231019T120029Z
LAST-MODIFIED:20231019T121833Z
UID:10000572-1708340400-1708342200@netherstowey-pc.gov.uk
SUMMARY:Story Time for babies\, toddlers and pre-schoolers
DESCRIPTION:Story Time is a lovely activity for babies and toddlers\, pre-school children\, and their grown-ups. \nHeld every Monday (apart from bank holidays) from 11 to 11.30. Listen to a story then pick an instrument from the music box and join in as we sing nursery rhymes.
URL:https://netherstowey-pc.gov.uk/event/story-time-for-babies-toddlers-and-pre-schoolers/2024-02-19
LOCATION:Thomas Poole Library\, Castle Street\, Nether Stowey\, TA5 1LN
CATEGORIES:Thomas Poole Library
ATTACH;FMTTYPE=image/jpeg:https://netherstowey-pc.gov.uk/wp-content/uploads/2023/10/unfocused-children-paying-attention-their-teacher-scaled.jpg
ORGANIZER;CN="Thomas Poole Library":MAILTO:eventsandpr@thomaspoolelibrary.org.uk
END:VEVENT
BEGIN:VEVENT
DTSTART;TZID=Europe/London:20240217T100000
DTEND;TZID=Europe/London:20240217T123000
DTSTAMP:20260423T040027
CREATED:20240130T113557Z
LAST-MODIFIED:20240130T114033Z
UID:10001365-1708164000-1708173000@netherstowey-pc.gov.uk
SUMMARY:Dungeons and Dragons
DESCRIPTION:Want to play Dungeons and Dragons?\nIntroductory session at the Thomas Poole Library \nNo experience necessary\, new players welcome!\nAll equipment and instructions provided. \nAges 8 and over.
URL:https://netherstowey-pc.gov.uk/event/dungeons-and-dragons
LOCATION:Thomas Poole Library\, Castle Street\, Nether Stowey\, TA5 1LN
CATEGORIES:Thomas Poole Library
ORGANIZER;CN="Thomas Poole Library":MAILTO:eventsandpr@thomaspoolelibrary.org.uk
END:VEVENT
BEGIN:VEVENT
DTSTART;TZID=Europe/London:20240215T170000
DTEND;TZID=Europe/London:20240215T183000
DTSTAMP:20260423T040027
CREATED:20231019T102344Z
LAST-MODIFIED:20231019T102425Z
UID:10000048-1708016400-1708021800@netherstowey-pc.gov.uk
SUMMARY:Chess Time at the Library
DESCRIPTION:Learn the basics\, discover new moves and have fun!
URL:https://netherstowey-pc.gov.uk/event/chess-time-at-the-library/2024-02-15
LOCATION:Thomas Poole Library\, Castle Street\, Nether Stowey\, TA5 1LN
CATEGORIES:Thomas Poole Library
ORGANIZER;CN="Thomas Poole Library":MAILTO:eventsandpr@thomaspoolelibrary.org.uk
END:VEVENT
BEGIN:VEVENT
DTSTART;TZID=Europe/London:20240214T193000
DTEND;TZID=Europe/London:20240214T193000
DTSTAMP:20260423T040027
CREATED:20240202T160406Z
LAST-MODIFIED:20240202T160602Z
UID:10001369-1707939000-1707939000@netherstowey-pc.gov.uk
SUMMARY:Changing faces through paintings - A talk by Terence Sackett
DESCRIPTION:Changing faces of landscape and country life through paintings\nA talk by Terence Sackett
URL:https://netherstowey-pc.gov.uk/event/changing-faces-through-paintings-a-talk-by-terence-sackett
LOCATION:Thomas Poole Library\, Castle Street\, Nether Stowey\, TA5 1LN
CATEGORIES:Thomas Poole Library
ORGANIZER;CN="Thomas Poole Library":MAILTO:eventsandpr@thomaspoolelibrary.org.uk
END:VEVENT
BEGIN:VEVENT
DTSTART;TZID=Europe/London:20240212T110000
DTEND;TZID=Europe/London:20240212T113000
DTSTAMP:20260423T040027
CREATED:20231019T120029Z
LAST-MODIFIED:20231019T121833Z
UID:10000571-1707735600-1707737400@netherstowey-pc.gov.uk
SUMMARY:Story Time for babies\, toddlers and pre-schoolers
DESCRIPTION:Story Time is a lovely activity for babies and toddlers\, pre-school children\, and their grown-ups. \nHeld every Monday (apart from bank holidays) from 11 to 11.30. Listen to a story then pick an instrument from the music box and join in as we sing nursery rhymes.
URL:https://netherstowey-pc.gov.uk/event/story-time-for-babies-toddlers-and-pre-schoolers/2024-02-12
LOCATION:Thomas Poole Library\, Castle Street\, Nether Stowey\, TA5 1LN
CATEGORIES:Thomas Poole Library
ATTACH;FMTTYPE=image/jpeg:https://netherstowey-pc.gov.uk/wp-content/uploads/2023/10/unfocused-children-paying-attention-their-teacher-scaled.jpg
ORGANIZER;CN="Thomas Poole Library":MAILTO:eventsandpr@thomaspoolelibrary.org.uk
END:VEVENT
BEGIN:VEVENT
DTSTART;TZID=Europe/London:20240208T170000
DTEND;TZID=Europe/London:20240208T183000
DTSTAMP:20260423T040027
CREATED:20231019T102344Z
LAST-MODIFIED:20231019T102425Z
UID:10000047-1707411600-1707417000@netherstowey-pc.gov.uk
SUMMARY:Chess Time at the Library
DESCRIPTION:Learn the basics\, discover new moves and have fun!
URL:https://netherstowey-pc.gov.uk/event/chess-time-at-the-library/2024-02-08
LOCATION:Thomas Poole Library\, Castle Street\, Nether Stowey\, TA5 1LN
CATEGORIES:Thomas Poole Library
ORGANIZER;CN="Thomas Poole Library":MAILTO:eventsandpr@thomaspoolelibrary.org.uk
END:VEVENT
BEGIN:VEVENT
DTSTART;TZID=Europe/London:20240208T140000
DTEND;TZID=Europe/London:20240208T140000
DTSTAMP:20260423T040027
CREATED:20231019T155923Z
LAST-MODIFIED:20231019T160110Z
UID:10001225-1707400800-1707400800@netherstowey-pc.gov.uk
SUMMARY:Nether Stowey & Fiddington Women’s Institute
DESCRIPTION:The Women’s Institute is somewhere for women of all ages to relax\, have fun and make new friends. \nContact Terry Binding\, tel 733051.
URL:https://netherstowey-pc.gov.uk/event/nether-stowey-fiddington-womens-institute/2024-02-08
LOCATION:Thomas Poole Library\, Castle Street\, Nether Stowey\, TA5 1LN
CATEGORIES:Social
ATTACH;FMTTYPE=image/jpeg:https://netherstowey-pc.gov.uk/wp-content/uploads/2023/10/WI.jpg
END:VEVENT
BEGIN:VEVENT
DTSTART;TZID=Europe/London:20240205T110000
DTEND;TZID=Europe/London:20240205T113000
DTSTAMP:20260423T040027
CREATED:20231019T120029Z
LAST-MODIFIED:20231019T121833Z
UID:10000570-1707130800-1707132600@netherstowey-pc.gov.uk
SUMMARY:Story Time for babies\, toddlers and pre-schoolers
DESCRIPTION:Story Time is a lovely activity for babies and toddlers\, pre-school children\, and their grown-ups. \nHeld every Monday (apart from bank holidays) from 11 to 11.30. Listen to a story then pick an instrument from the music box and join in as we sing nursery rhymes.
URL:https://netherstowey-pc.gov.uk/event/story-time-for-babies-toddlers-and-pre-schoolers/2024-02-05
LOCATION:Thomas Poole Library\, Castle Street\, Nether Stowey\, TA5 1LN
CATEGORIES:Thomas Poole Library
ATTACH;FMTTYPE=image/jpeg:https://netherstowey-pc.gov.uk/wp-content/uploads/2023/10/unfocused-children-paying-attention-their-teacher-scaled.jpg
ORGANIZER;CN="Thomas Poole Library":MAILTO:eventsandpr@thomaspoolelibrary.org.uk
END:VEVENT
BEGIN:VEVENT
DTSTART;TZID=Europe/London:20240201T170000
DTEND;TZID=Europe/London:20240201T183000
DTSTAMP:20260423T040027
CREATED:20231019T102344Z
LAST-MODIFIED:20231019T102425Z
UID:10000046-1706806800-1706812200@netherstowey-pc.gov.uk
SUMMARY:Chess Time at the Library
DESCRIPTION:Learn the basics\, discover new moves and have fun!
URL:https://netherstowey-pc.gov.uk/event/chess-time-at-the-library/2024-02-01
LOCATION:Thomas Poole Library\, Castle Street\, Nether Stowey\, TA5 1LN
CATEGORIES:Thomas Poole Library
ORGANIZER;CN="Thomas Poole Library":MAILTO:eventsandpr@thomaspoolelibrary.org.uk
END:VEVENT
BEGIN:VEVENT
DTSTART;TZID=Europe/London:20240129T110000
DTEND;TZID=Europe/London:20240129T113000
DTSTAMP:20260423T040027
CREATED:20231019T120029Z
LAST-MODIFIED:20231019T121833Z
UID:10000569-1706526000-1706527800@netherstowey-pc.gov.uk
SUMMARY:Story Time for babies\, toddlers and pre-schoolers
DESCRIPTION:Story Time is a lovely activity for babies and toddlers\, pre-school children\, and their grown-ups. \nHeld every Monday (apart from bank holidays) from 11 to 11.30. Listen to a story then pick an instrument from the music box and join in as we sing nursery rhymes.
URL:https://netherstowey-pc.gov.uk/event/story-time-for-babies-toddlers-and-pre-schoolers/2024-01-29
LOCATION:Thomas Poole Library\, Castle Street\, Nether Stowey\, TA5 1LN
CATEGORIES:Thomas Poole Library
ATTACH;FMTTYPE=image/jpeg:https://netherstowey-pc.gov.uk/wp-content/uploads/2023/10/unfocused-children-paying-attention-their-teacher-scaled.jpg
ORGANIZER;CN="Thomas Poole Library":MAILTO:eventsandpr@thomaspoolelibrary.org.uk
END:VEVENT
BEGIN:VEVENT
DTSTART;TZID=Europe/London:20240125T170000
DTEND;TZID=Europe/London:20240125T183000
DTSTAMP:20260423T040027
CREATED:20231019T102344Z
LAST-MODIFIED:20231019T102425Z
UID:10000045-1706202000-1706207400@netherstowey-pc.gov.uk
SUMMARY:Chess Time at the Library
DESCRIPTION:Learn the basics\, discover new moves and have fun!
URL:https://netherstowey-pc.gov.uk/event/chess-time-at-the-library/2024-01-25
LOCATION:Thomas Poole Library\, Castle Street\, Nether Stowey\, TA5 1LN
CATEGORIES:Thomas Poole Library
ORGANIZER;CN="Thomas Poole Library":MAILTO:eventsandpr@thomaspoolelibrary.org.uk
END:VEVENT
BEGIN:VEVENT
DTSTART;TZID=Europe/London:20240122T110000
DTEND;TZID=Europe/London:20240122T113000
DTSTAMP:20260423T040027
CREATED:20231019T120029Z
LAST-MODIFIED:20231019T121833Z
UID:10000568-1705921200-1705923000@netherstowey-pc.gov.uk
SUMMARY:Story Time for babies\, toddlers and pre-schoolers
DESCRIPTION:Story Time is a lovely activity for babies and toddlers\, pre-school children\, and their grown-ups. \nHeld every Monday (apart from bank holidays) from 11 to 11.30. Listen to a story then pick an instrument from the music box and join in as we sing nursery rhymes.
URL:https://netherstowey-pc.gov.uk/event/story-time-for-babies-toddlers-and-pre-schoolers/2024-01-22
LOCATION:Thomas Poole Library\, Castle Street\, Nether Stowey\, TA5 1LN
CATEGORIES:Thomas Poole Library
ATTACH;FMTTYPE=image/jpeg:https://netherstowey-pc.gov.uk/wp-content/uploads/2023/10/unfocused-children-paying-attention-their-teacher-scaled.jpg
ORGANIZER;CN="Thomas Poole Library":MAILTO:eventsandpr@thomaspoolelibrary.org.uk
END:VEVENT
BEGIN:VEVENT
DTSTART;TZID=Europe/London:20240118T170000
DTEND;TZID=Europe/London:20240118T183000
DTSTAMP:20260423T040027
CREATED:20231019T102344Z
LAST-MODIFIED:20231019T102425Z
UID:10000044-1705597200-1705602600@netherstowey-pc.gov.uk
SUMMARY:Chess Time at the Library
DESCRIPTION:Learn the basics\, discover new moves and have fun!
URL:https://netherstowey-pc.gov.uk/event/chess-time-at-the-library/2024-01-18
LOCATION:Thomas Poole Library\, Castle Street\, Nether Stowey\, TA5 1LN
CATEGORIES:Thomas Poole Library
ORGANIZER;CN="Thomas Poole Library":MAILTO:eventsandpr@thomaspoolelibrary.org.uk
END:VEVENT
BEGIN:VEVENT
DTSTART;TZID=Europe/London:20240115T110000
DTEND;TZID=Europe/London:20240115T113000
DTSTAMP:20260423T040027
CREATED:20231019T120029Z
LAST-MODIFIED:20231019T121833Z
UID:10000567-1705316400-1705318200@netherstowey-pc.gov.uk
SUMMARY:Story Time for babies\, toddlers and pre-schoolers
DESCRIPTION:Story Time is a lovely activity for babies and toddlers\, pre-school children\, and their grown-ups. \nHeld every Monday (apart from bank holidays) from 11 to 11.30. Listen to a story then pick an instrument from the music box and join in as we sing nursery rhymes.
URL:https://netherstowey-pc.gov.uk/event/story-time-for-babies-toddlers-and-pre-schoolers/2024-01-15
LOCATION:Thomas Poole Library\, Castle Street\, Nether Stowey\, TA5 1LN
CATEGORIES:Thomas Poole Library
ATTACH;FMTTYPE=image/jpeg:https://netherstowey-pc.gov.uk/wp-content/uploads/2023/10/unfocused-children-paying-attention-their-teacher-scaled.jpg
ORGANIZER;CN="Thomas Poole Library":MAILTO:eventsandpr@thomaspoolelibrary.org.uk
END:VEVENT
BEGIN:VEVENT
DTSTART;TZID=Europe/London:20240111T170000
DTEND;TZID=Europe/London:20240111T183000
DTSTAMP:20260423T040027
CREATED:20231019T102344Z
LAST-MODIFIED:20231019T102425Z
UID:10000043-1704992400-1704997800@netherstowey-pc.gov.uk
SUMMARY:Chess Time at the Library
DESCRIPTION:Learn the basics\, discover new moves and have fun!
URL:https://netherstowey-pc.gov.uk/event/chess-time-at-the-library/2024-01-11
LOCATION:Thomas Poole Library\, Castle Street\, Nether Stowey\, TA5 1LN
CATEGORIES:Thomas Poole Library
ORGANIZER;CN="Thomas Poole Library":MAILTO:eventsandpr@thomaspoolelibrary.org.uk
END:VEVENT
BEGIN:VEVENT
DTSTART;TZID=Europe/London:20240111T140000
DTEND;TZID=Europe/London:20240111T140000
DTSTAMP:20260423T040027
CREATED:20231019T155923Z
LAST-MODIFIED:20231019T160110Z
UID:10001224-1704981600-1704981600@netherstowey-pc.gov.uk
SUMMARY:Nether Stowey & Fiddington Women’s Institute
DESCRIPTION:The Women’s Institute is somewhere for women of all ages to relax\, have fun and make new friends. \nContact Terry Binding\, tel 733051.
URL:https://netherstowey-pc.gov.uk/event/nether-stowey-fiddington-womens-institute/2024-01-11
LOCATION:Thomas Poole Library\, Castle Street\, Nether Stowey\, TA5 1LN
CATEGORIES:Social
ATTACH;FMTTYPE=image/jpeg:https://netherstowey-pc.gov.uk/wp-content/uploads/2023/10/WI.jpg
END:VEVENT
BEGIN:VEVENT
DTSTART;TZID=Europe/London:20240108T110000
DTEND;TZID=Europe/London:20240108T113000
DTSTAMP:20260423T040027
CREATED:20231019T120029Z
LAST-MODIFIED:20231019T121833Z
UID:10000566-1704711600-1704713400@netherstowey-pc.gov.uk
SUMMARY:Story Time for babies\, toddlers and pre-schoolers
DESCRIPTION:Story Time is a lovely activity for babies and toddlers\, pre-school children\, and their grown-ups. \nHeld every Monday (apart from bank holidays) from 11 to 11.30. Listen to a story then pick an instrument from the music box and join in as we sing nursery rhymes.
URL:https://netherstowey-pc.gov.uk/event/story-time-for-babies-toddlers-and-pre-schoolers/2024-01-08
LOCATION:Thomas Poole Library\, Castle Street\, Nether Stowey\, TA5 1LN
CATEGORIES:Thomas Poole Library
ATTACH;FMTTYPE=image/jpeg:https://netherstowey-pc.gov.uk/wp-content/uploads/2023/10/unfocused-children-paying-attention-their-teacher-scaled.jpg
ORGANIZER;CN="Thomas Poole Library":MAILTO:eventsandpr@thomaspoolelibrary.org.uk
END:VEVENT
BEGIN:VEVENT
DTSTART;TZID=Europe/London:20240104T170000
DTEND;TZID=Europe/London:20240104T183000
DTSTAMP:20260423T040027
CREATED:20231019T102344Z
LAST-MODIFIED:20231019T102425Z
UID:10000042-1704387600-1704393000@netherstowey-pc.gov.uk
SUMMARY:Chess Time at the Library
DESCRIPTION:Learn the basics\, discover new moves and have fun!
URL:https://netherstowey-pc.gov.uk/event/chess-time-at-the-library/2024-01-04
LOCATION:Thomas Poole Library\, Castle Street\, Nether Stowey\, TA5 1LN
CATEGORIES:Thomas Poole Library
ORGANIZER;CN="Thomas Poole Library":MAILTO:eventsandpr@thomaspoolelibrary.org.uk
END:VEVENT
BEGIN:VEVENT
DTSTART;TZID=Europe/London:20231229T103000
DTEND;TZID=Europe/London:20231229T120000
DTSTAMP:20260423T040027
CREATED:20231019T115311Z
LAST-MODIFIED:20231020T103054Z
UID:10000303-1703845800-1703851200@netherstowey-pc.gov.uk
SUMMARY:Knit and Natter
DESCRIPTION:A friendly and social group meets every Friday morning from 10.30 to midday. \nAll ages and abilities are welcome. \nBring your own project\, which could be knitting\, sewing\, crocheting\, embroidery etc. or just come for a natter and see what others are working on. \nIt’s a great way to get inspired\, learn new tips and make new friends! \nThere is no charge for the group\, just a donation for tea or coffee.
URL:https://netherstowey-pc.gov.uk/event/knit-and-natter/2023-12-29
LOCATION:Thomas Poole Library\, Castle Street\, Nether Stowey\, TA5 1LN
CATEGORIES:Thomas Poole Library
ORGANIZER;CN="Thomas Poole Library":MAILTO:eventsandpr@thomaspoolelibrary.org.uk
END:VEVENT
BEGIN:VEVENT
DTSTART;TZID=Europe/London:20231228T170000
DTEND;TZID=Europe/London:20231228T183000
DTSTAMP:20260423T040027
CREATED:20231019T102344Z
LAST-MODIFIED:20231019T102425Z
UID:10000041-1703782800-1703788200@netherstowey-pc.gov.uk
SUMMARY:Chess Time at the Library
DESCRIPTION:Learn the basics\, discover new moves and have fun!
URL:https://netherstowey-pc.gov.uk/event/chess-time-at-the-library/2023-12-28
LOCATION:Thomas Poole Library\, Castle Street\, Nether Stowey\, TA5 1LN
CATEGORIES:Thomas Poole Library
ORGANIZER;CN="Thomas Poole Library":MAILTO:eventsandpr@thomaspoolelibrary.org.uk
END:VEVENT
BEGIN:VEVENT
DTSTART;TZID=Europe/London:20231222T103000
DTEND;TZID=Europe/London:20231222T120000
DTSTAMP:20260423T040027
CREATED:20231019T115311Z
LAST-MODIFIED:20231020T103054Z
UID:10000302-1703241000-1703246400@netherstowey-pc.gov.uk
SUMMARY:Knit and Natter
DESCRIPTION:A friendly and social group meets every Friday morning from 10.30 to midday. \nAll ages and abilities are welcome. \nBring your own project\, which could be knitting\, sewing\, crocheting\, embroidery etc. or just come for a natter and see what others are working on. \nIt’s a great way to get inspired\, learn new tips and make new friends! \nThere is no charge for the group\, just a donation for tea or coffee.
URL:https://netherstowey-pc.gov.uk/event/knit-and-natter/2023-12-22
LOCATION:Thomas Poole Library\, Castle Street\, Nether Stowey\, TA5 1LN
CATEGORIES:Thomas Poole Library
ORGANIZER;CN="Thomas Poole Library":MAILTO:eventsandpr@thomaspoolelibrary.org.uk
END:VEVENT
BEGIN:VEVENT
DTSTART;TZID=Europe/London:20231221T170000
DTEND;TZID=Europe/London:20231221T183000
DTSTAMP:20260423T040027
CREATED:20231019T102344Z
LAST-MODIFIED:20231019T102425Z
UID:10000040-1703178000-1703183400@netherstowey-pc.gov.uk
SUMMARY:Chess Time at the Library
DESCRIPTION:Learn the basics\, discover new moves and have fun!
URL:https://netherstowey-pc.gov.uk/event/chess-time-at-the-library/2023-12-21
LOCATION:Thomas Poole Library\, Castle Street\, Nether Stowey\, TA5 1LN
CATEGORIES:Thomas Poole Library
ORGANIZER;CN="Thomas Poole Library":MAILTO:eventsandpr@thomaspoolelibrary.org.uk
END:VEVENT
BEGIN:VEVENT
DTSTART;TZID=Europe/London:20231218T110000
DTEND;TZID=Europe/London:20231218T113000
DTSTAMP:20260423T040027
CREATED:20231019T120029Z
LAST-MODIFIED:20231019T121833Z
UID:10000563-1702897200-1702899000@netherstowey-pc.gov.uk
SUMMARY:Story Time for babies\, toddlers and pre-schoolers
DESCRIPTION:Story Time is a lovely activity for babies and toddlers\, pre-school children\, and their grown-ups. \nHeld every Monday (apart from bank holidays) from 11 to 11.30. Listen to a story then pick an instrument from the music box and join in as we sing nursery rhymes.
URL:https://netherstowey-pc.gov.uk/event/story-time-for-babies-toddlers-and-pre-schoolers/2023-12-18
LOCATION:Thomas Poole Library\, Castle Street\, Nether Stowey\, TA5 1LN
CATEGORIES:Thomas Poole Library
ATTACH;FMTTYPE=image/jpeg:https://netherstowey-pc.gov.uk/wp-content/uploads/2023/10/unfocused-children-paying-attention-their-teacher-scaled.jpg
ORGANIZER;CN="Thomas Poole Library":MAILTO:eventsandpr@thomaspoolelibrary.org.uk
END:VEVENT
BEGIN:VEVENT
DTSTART;TZID=Europe/London:20231215T103000
DTEND;TZID=Europe/London:20231215T120000
DTSTAMP:20260423T040027
CREATED:20231019T115311Z
LAST-MODIFIED:20231020T103054Z
UID:10000301-1702636200-1702641600@netherstowey-pc.gov.uk
SUMMARY:Knit and Natter
DESCRIPTION:A friendly and social group meets every Friday morning from 10.30 to midday. \nAll ages and abilities are welcome. \nBring your own project\, which could be knitting\, sewing\, crocheting\, embroidery etc. or just come for a natter and see what others are working on. \nIt’s a great way to get inspired\, learn new tips and make new friends! \nThere is no charge for the group\, just a donation for tea or coffee.
URL:https://netherstowey-pc.gov.uk/event/knit-and-natter/2023-12-15
LOCATION:Thomas Poole Library\, Castle Street\, Nether Stowey\, TA5 1LN
CATEGORIES:Thomas Poole Library
ORGANIZER;CN="Thomas Poole Library":MAILTO:eventsandpr@thomaspoolelibrary.org.uk
END:VEVENT
BEGIN:VEVENT
DTSTART;TZID=Europe/London:20231214T170000
DTEND;TZID=Europe/London:20231214T183000
DTSTAMP:20260423T040027
CREATED:20231019T102344Z
LAST-MODIFIED:20231019T102425Z
UID:10000039-1702573200-1702578600@netherstowey-pc.gov.uk
SUMMARY:Chess Time at the Library
DESCRIPTION:Learn the basics\, discover new moves and have fun!
URL:https://netherstowey-pc.gov.uk/event/chess-time-at-the-library/2023-12-14
LOCATION:Thomas Poole Library\, Castle Street\, Nether Stowey\, TA5 1LN
CATEGORIES:Thomas Poole Library
ORGANIZER;CN="Thomas Poole Library":MAILTO:eventsandpr@thomaspoolelibrary.org.uk
END:VEVENT
END:VCALENDAR