BEGIN:VCALENDAR
VERSION:2.0
PRODID:-//Nether Stowey Parish Council - ECPv6.15.18//NONSGML v1.0//EN
CALSCALE:GREGORIAN
METHOD:PUBLISH
X-ORIGINAL-URL:https://netherstowey-pc.gov.uk
X-WR-CALDESC:Events for Nether Stowey Parish Council
REFRESH-INTERVAL;VALUE=DURATION:PT1H
X-Robots-Tag:noindex
X-PUBLISHED-TTL:PT1H
BEGIN:VTIMEZONE
TZID:Europe/London
BEGIN:DAYLIGHT
TZOFFSETFROM:+0000
TZOFFSETTO:+0100
TZNAME:BST
DTSTART:20220327T010000
END:DAYLIGHT
BEGIN:STANDARD
TZOFFSETFROM:+0100
TZOFFSETTO:+0000
TZNAME:GMT
DTSTART:20221030T010000
END:STANDARD
BEGIN:DAYLIGHT
TZOFFSETFROM:+0000
TZOFFSETTO:+0100
TZNAME:BST
DTSTART:20230326T010000
END:DAYLIGHT
BEGIN:STANDARD
TZOFFSETFROM:+0100
TZOFFSETTO:+0000
TZNAME:GMT
DTSTART:20231029T010000
END:STANDARD
BEGIN:DAYLIGHT
TZOFFSETFROM:+0000
TZOFFSETTO:+0100
TZNAME:BST
DTSTART:20240331T010000
END:DAYLIGHT
BEGIN:STANDARD
TZOFFSETFROM:+0100
TZOFFSETTO:+0000
TZNAME:GMT
DTSTART:20241027T010000
END:STANDARD
END:VTIMEZONE
BEGIN:VEVENT
DTSTART;TZID=Europe/London:20231228T170000
DTEND;TZID=Europe/London:20231228T183000
DTSTAMP:20260423T063503
CREATED:20231019T102344Z
LAST-MODIFIED:20231019T102425Z
UID:10000041-1703782800-1703788200@netherstowey-pc.gov.uk
SUMMARY:Chess Time at the Library
DESCRIPTION:Learn the basics\, discover new moves and have fun!
URL:https://netherstowey-pc.gov.uk/event/chess-time-at-the-library/2023-12-28
LOCATION:Thomas Poole Library\, Castle Street\, Nether Stowey\, TA5 1LN
CATEGORIES:Thomas Poole Library
ORGANIZER;CN="Thomas Poole Library":MAILTO:eventsandpr@thomaspoolelibrary.org.uk
END:VEVENT
BEGIN:VEVENT
DTSTART;TZID=Europe/London:20231222T103000
DTEND;TZID=Europe/London:20231222T120000
DTSTAMP:20260423T063503
CREATED:20231019T115311Z
LAST-MODIFIED:20231020T103054Z
UID:10000302-1703241000-1703246400@netherstowey-pc.gov.uk
SUMMARY:Knit and Natter
DESCRIPTION:A friendly and social group meets every Friday morning from 10.30 to midday. \nAll ages and abilities are welcome. \nBring your own project\, which could be knitting\, sewing\, crocheting\, embroidery etc. or just come for a natter and see what others are working on. \nIt’s a great way to get inspired\, learn new tips and make new friends! \nThere is no charge for the group\, just a donation for tea or coffee.
URL:https://netherstowey-pc.gov.uk/event/knit-and-natter/2023-12-22
LOCATION:Thomas Poole Library\, Castle Street\, Nether Stowey\, TA5 1LN
CATEGORIES:Thomas Poole Library
ORGANIZER;CN="Thomas Poole Library":MAILTO:eventsandpr@thomaspoolelibrary.org.uk
END:VEVENT
BEGIN:VEVENT
DTSTART;TZID=Europe/London:20231221T170000
DTEND;TZID=Europe/London:20231221T183000
DTSTAMP:20260423T063503
CREATED:20231019T102344Z
LAST-MODIFIED:20231019T102425Z
UID:10000040-1703178000-1703183400@netherstowey-pc.gov.uk
SUMMARY:Chess Time at the Library
DESCRIPTION:Learn the basics\, discover new moves and have fun!
URL:https://netherstowey-pc.gov.uk/event/chess-time-at-the-library/2023-12-21
LOCATION:Thomas Poole Library\, Castle Street\, Nether Stowey\, TA5 1LN
CATEGORIES:Thomas Poole Library
ORGANIZER;CN="Thomas Poole Library":MAILTO:eventsandpr@thomaspoolelibrary.org.uk
END:VEVENT
BEGIN:VEVENT
DTSTART;TZID=Europe/London:20231218T110000
DTEND;TZID=Europe/London:20231218T113000
DTSTAMP:20260423T063503
CREATED:20231019T120029Z
LAST-MODIFIED:20231019T121833Z
UID:10000563-1702897200-1702899000@netherstowey-pc.gov.uk
SUMMARY:Story Time for babies\, toddlers and pre-schoolers
DESCRIPTION:Story Time is a lovely activity for babies and toddlers\, pre-school children\, and their grown-ups. \nHeld every Monday (apart from bank holidays) from 11 to 11.30. Listen to a story then pick an instrument from the music box and join in as we sing nursery rhymes.
URL:https://netherstowey-pc.gov.uk/event/story-time-for-babies-toddlers-and-pre-schoolers/2023-12-18
LOCATION:Thomas Poole Library\, Castle Street\, Nether Stowey\, TA5 1LN
CATEGORIES:Thomas Poole Library
ATTACH;FMTTYPE=image/jpeg:https://netherstowey-pc.gov.uk/wp-content/uploads/2023/10/unfocused-children-paying-attention-their-teacher-scaled.jpg
ORGANIZER;CN="Thomas Poole Library":MAILTO:eventsandpr@thomaspoolelibrary.org.uk
END:VEVENT
BEGIN:VEVENT
DTSTART;TZID=Europe/London:20231215T103000
DTEND;TZID=Europe/London:20231215T120000
DTSTAMP:20260423T063503
CREATED:20231019T115311Z
LAST-MODIFIED:20231020T103054Z
UID:10000301-1702636200-1702641600@netherstowey-pc.gov.uk
SUMMARY:Knit and Natter
DESCRIPTION:A friendly and social group meets every Friday morning from 10.30 to midday. \nAll ages and abilities are welcome. \nBring your own project\, which could be knitting\, sewing\, crocheting\, embroidery etc. or just come for a natter and see what others are working on. \nIt’s a great way to get inspired\, learn new tips and make new friends! \nThere is no charge for the group\, just a donation for tea or coffee.
URL:https://netherstowey-pc.gov.uk/event/knit-and-natter/2023-12-15
LOCATION:Thomas Poole Library\, Castle Street\, Nether Stowey\, TA5 1LN
CATEGORIES:Thomas Poole Library
ORGANIZER;CN="Thomas Poole Library":MAILTO:eventsandpr@thomaspoolelibrary.org.uk
END:VEVENT
BEGIN:VEVENT
DTSTART;TZID=Europe/London:20231214T170000
DTEND;TZID=Europe/London:20231214T183000
DTSTAMP:20260423T063503
CREATED:20231019T102344Z
LAST-MODIFIED:20231019T102425Z
UID:10000039-1702573200-1702578600@netherstowey-pc.gov.uk
SUMMARY:Chess Time at the Library
DESCRIPTION:Learn the basics\, discover new moves and have fun!
URL:https://netherstowey-pc.gov.uk/event/chess-time-at-the-library/2023-12-14
LOCATION:Thomas Poole Library\, Castle Street\, Nether Stowey\, TA5 1LN
CATEGORIES:Thomas Poole Library
ORGANIZER;CN="Thomas Poole Library":MAILTO:eventsandpr@thomaspoolelibrary.org.uk
END:VEVENT
BEGIN:VEVENT
DTSTART;TZID=Europe/London:20231214T140000
DTEND;TZID=Europe/London:20231214T140000
DTSTAMP:20260423T063503
CREATED:20231019T155923Z
LAST-MODIFIED:20231019T160110Z
UID:10001223-1702562400-1702562400@netherstowey-pc.gov.uk
SUMMARY:Nether Stowey & Fiddington Women’s Institute
DESCRIPTION:The Women’s Institute is somewhere for women of all ages to relax\, have fun and make new friends. \nContact Terry Binding\, tel 733051.
URL:https://netherstowey-pc.gov.uk/event/nether-stowey-fiddington-womens-institute/2023-12-14
LOCATION:Thomas Poole Library\, Castle Street\, Nether Stowey\, TA5 1LN
CATEGORIES:Social
ATTACH;FMTTYPE=image/jpeg:https://netherstowey-pc.gov.uk/wp-content/uploads/2023/10/WI.jpg
END:VEVENT
BEGIN:VEVENT
DTSTART;TZID=Europe/London:20231213T193000
DTEND;TZID=Europe/London:20231213T193000
DTSTAMP:20260423T063503
CREATED:20231013T145828Z
LAST-MODIFIED:20231019T100104Z
UID:10000029-1702495800-1702495800@netherstowey-pc.gov.uk
SUMMARY:Library Christmas Quiz and your favourite poetry and prose
DESCRIPTION:Christmas Quiz and your favourite poetry and prose \n£3.50 members / £4.50 non-members
URL:https://netherstowey-pc.gov.uk/event/library-christmas-quiz-and-your-favourite-poetry-and-prose
LOCATION:Thomas Poole Library\, Castle Street\, Nether Stowey\, TA5 1LN
CATEGORIES:Thomas Poole Library
ORGANIZER;CN="Thomas Poole Library":MAILTO:eventsandpr@thomaspoolelibrary.org.uk
END:VEVENT
BEGIN:VEVENT
DTSTART;TZID=Europe/London:20231211T110000
DTEND;TZID=Europe/London:20231211T113000
DTSTAMP:20260423T063503
CREATED:20231019T120029Z
LAST-MODIFIED:20231019T121833Z
UID:10000562-1702292400-1702294200@netherstowey-pc.gov.uk
SUMMARY:Story Time for babies\, toddlers and pre-schoolers
DESCRIPTION:Story Time is a lovely activity for babies and toddlers\, pre-school children\, and their grown-ups. \nHeld every Monday (apart from bank holidays) from 11 to 11.30. Listen to a story then pick an instrument from the music box and join in as we sing nursery rhymes.
URL:https://netherstowey-pc.gov.uk/event/story-time-for-babies-toddlers-and-pre-schoolers/2023-12-11
LOCATION:Thomas Poole Library\, Castle Street\, Nether Stowey\, TA5 1LN
CATEGORIES:Thomas Poole Library
ATTACH;FMTTYPE=image/jpeg:https://netherstowey-pc.gov.uk/wp-content/uploads/2023/10/unfocused-children-paying-attention-their-teacher-scaled.jpg
ORGANIZER;CN="Thomas Poole Library":MAILTO:eventsandpr@thomaspoolelibrary.org.uk
END:VEVENT
BEGIN:VEVENT
DTSTART;TZID=Europe/London:20231208T103000
DTEND;TZID=Europe/London:20231208T120000
DTSTAMP:20260423T063503
CREATED:20231019T115311Z
LAST-MODIFIED:20231020T103054Z
UID:10000300-1702031400-1702036800@netherstowey-pc.gov.uk
SUMMARY:Knit and Natter
DESCRIPTION:A friendly and social group meets every Friday morning from 10.30 to midday. \nAll ages and abilities are welcome. \nBring your own project\, which could be knitting\, sewing\, crocheting\, embroidery etc. or just come for a natter and see what others are working on. \nIt’s a great way to get inspired\, learn new tips and make new friends! \nThere is no charge for the group\, just a donation for tea or coffee.
URL:https://netherstowey-pc.gov.uk/event/knit-and-natter/2023-12-08
LOCATION:Thomas Poole Library\, Castle Street\, Nether Stowey\, TA5 1LN
CATEGORIES:Thomas Poole Library
ORGANIZER;CN="Thomas Poole Library":MAILTO:eventsandpr@thomaspoolelibrary.org.uk
END:VEVENT
BEGIN:VEVENT
DTSTART;TZID=Europe/London:20231207T170000
DTEND;TZID=Europe/London:20231207T183000
DTSTAMP:20260423T063503
CREATED:20231019T102344Z
LAST-MODIFIED:20231019T102425Z
UID:10000038-1701968400-1701973800@netherstowey-pc.gov.uk
SUMMARY:Chess Time at the Library
DESCRIPTION:Learn the basics\, discover new moves and have fun!
URL:https://netherstowey-pc.gov.uk/event/chess-time-at-the-library/2023-12-07
LOCATION:Thomas Poole Library\, Castle Street\, Nether Stowey\, TA5 1LN
CATEGORIES:Thomas Poole Library
ORGANIZER;CN="Thomas Poole Library":MAILTO:eventsandpr@thomaspoolelibrary.org.uk
END:VEVENT
BEGIN:VEVENT
DTSTART;TZID=Europe/London:20231204T110000
DTEND;TZID=Europe/London:20231204T113000
DTSTAMP:20260423T063503
CREATED:20231019T120029Z
LAST-MODIFIED:20231019T121833Z
UID:10000561-1701687600-1701689400@netherstowey-pc.gov.uk
SUMMARY:Story Time for babies\, toddlers and pre-schoolers
DESCRIPTION:Story Time is a lovely activity for babies and toddlers\, pre-school children\, and their grown-ups. \nHeld every Monday (apart from bank holidays) from 11 to 11.30. Listen to a story then pick an instrument from the music box and join in as we sing nursery rhymes.
URL:https://netherstowey-pc.gov.uk/event/story-time-for-babies-toddlers-and-pre-schoolers/2023-12-04
LOCATION:Thomas Poole Library\, Castle Street\, Nether Stowey\, TA5 1LN
CATEGORIES:Thomas Poole Library
ATTACH;FMTTYPE=image/jpeg:https://netherstowey-pc.gov.uk/wp-content/uploads/2023/10/unfocused-children-paying-attention-their-teacher-scaled.jpg
ORGANIZER;CN="Thomas Poole Library":MAILTO:eventsandpr@thomaspoolelibrary.org.uk
END:VEVENT
BEGIN:VEVENT
DTSTART;TZID=Europe/London:20231201T103000
DTEND;TZID=Europe/London:20231201T120000
DTSTAMP:20260423T063503
CREATED:20231019T115311Z
LAST-MODIFIED:20231020T103054Z
UID:10000299-1701426600-1701432000@netherstowey-pc.gov.uk
SUMMARY:Knit and Natter
DESCRIPTION:A friendly and social group meets every Friday morning from 10.30 to midday. \nAll ages and abilities are welcome. \nBring your own project\, which could be knitting\, sewing\, crocheting\, embroidery etc. or just come for a natter and see what others are working on. \nIt’s a great way to get inspired\, learn new tips and make new friends! \nThere is no charge for the group\, just a donation for tea or coffee.
URL:https://netherstowey-pc.gov.uk/event/knit-and-natter/2023-12-01
LOCATION:Thomas Poole Library\, Castle Street\, Nether Stowey\, TA5 1LN
CATEGORIES:Thomas Poole Library
ORGANIZER;CN="Thomas Poole Library":MAILTO:eventsandpr@thomaspoolelibrary.org.uk
END:VEVENT
BEGIN:VEVENT
DTSTART;TZID=Europe/London:20231130T170000
DTEND;TZID=Europe/London:20231130T183000
DTSTAMP:20260423T063503
CREATED:20231019T102344Z
LAST-MODIFIED:20231019T102425Z
UID:10000037-1701363600-1701369000@netherstowey-pc.gov.uk
SUMMARY:Chess Time at the Library
DESCRIPTION:Learn the basics\, discover new moves and have fun!
URL:https://netherstowey-pc.gov.uk/event/chess-time-at-the-library/2023-11-30
LOCATION:Thomas Poole Library\, Castle Street\, Nether Stowey\, TA5 1LN
CATEGORIES:Thomas Poole Library
ORGANIZER;CN="Thomas Poole Library":MAILTO:eventsandpr@thomaspoolelibrary.org.uk
END:VEVENT
BEGIN:VEVENT
DTSTART;TZID=Europe/London:20231127T110000
DTEND;TZID=Europe/London:20231127T113000
DTSTAMP:20260423T063503
CREATED:20231019T120029Z
LAST-MODIFIED:20231019T121833Z
UID:10000560-1701082800-1701084600@netherstowey-pc.gov.uk
SUMMARY:Story Time for babies\, toddlers and pre-schoolers
DESCRIPTION:Story Time is a lovely activity for babies and toddlers\, pre-school children\, and their grown-ups. \nHeld every Monday (apart from bank holidays) from 11 to 11.30. Listen to a story then pick an instrument from the music box and join in as we sing nursery rhymes.
URL:https://netherstowey-pc.gov.uk/event/story-time-for-babies-toddlers-and-pre-schoolers/2023-11-27
LOCATION:Thomas Poole Library\, Castle Street\, Nether Stowey\, TA5 1LN
CATEGORIES:Thomas Poole Library
ATTACH;FMTTYPE=image/jpeg:https://netherstowey-pc.gov.uk/wp-content/uploads/2023/10/unfocused-children-paying-attention-their-teacher-scaled.jpg
ORGANIZER;CN="Thomas Poole Library":MAILTO:eventsandpr@thomaspoolelibrary.org.uk
END:VEVENT
BEGIN:VEVENT
DTSTART;TZID=Europe/London:20231124T103000
DTEND;TZID=Europe/London:20231124T120000
DTSTAMP:20260423T063503
CREATED:20231019T115311Z
LAST-MODIFIED:20231020T103054Z
UID:10000298-1700821800-1700827200@netherstowey-pc.gov.uk
SUMMARY:Knit and Natter
DESCRIPTION:A friendly and social group meets every Friday morning from 10.30 to midday. \nAll ages and abilities are welcome. \nBring your own project\, which could be knitting\, sewing\, crocheting\, embroidery etc. or just come for a natter and see what others are working on. \nIt’s a great way to get inspired\, learn new tips and make new friends! \nThere is no charge for the group\, just a donation for tea or coffee.
URL:https://netherstowey-pc.gov.uk/event/knit-and-natter/2023-11-24
LOCATION:Thomas Poole Library\, Castle Street\, Nether Stowey\, TA5 1LN
CATEGORIES:Thomas Poole Library
ORGANIZER;CN="Thomas Poole Library":MAILTO:eventsandpr@thomaspoolelibrary.org.uk
END:VEVENT
BEGIN:VEVENT
DTSTART;TZID=Europe/London:20231123T170000
DTEND;TZID=Europe/London:20231123T183000
DTSTAMP:20260423T063503
CREATED:20231019T102344Z
LAST-MODIFIED:20231019T102425Z
UID:10000036-1700758800-1700764200@netherstowey-pc.gov.uk
SUMMARY:Chess Time at the Library
DESCRIPTION:Learn the basics\, discover new moves and have fun!
URL:https://netherstowey-pc.gov.uk/event/chess-time-at-the-library/2023-11-23
LOCATION:Thomas Poole Library\, Castle Street\, Nether Stowey\, TA5 1LN
CATEGORIES:Thomas Poole Library
ORGANIZER;CN="Thomas Poole Library":MAILTO:eventsandpr@thomaspoolelibrary.org.uk
END:VEVENT
BEGIN:VEVENT
DTSTART;TZID=Europe/London:20231120T110000
DTEND;TZID=Europe/London:20231120T113000
DTSTAMP:20260423T063503
CREATED:20231019T120029Z
LAST-MODIFIED:20231019T121833Z
UID:10000559-1700478000-1700479800@netherstowey-pc.gov.uk
SUMMARY:Story Time for babies\, toddlers and pre-schoolers
DESCRIPTION:Story Time is a lovely activity for babies and toddlers\, pre-school children\, and their grown-ups. \nHeld every Monday (apart from bank holidays) from 11 to 11.30. Listen to a story then pick an instrument from the music box and join in as we sing nursery rhymes.
URL:https://netherstowey-pc.gov.uk/event/story-time-for-babies-toddlers-and-pre-schoolers/2023-11-20
LOCATION:Thomas Poole Library\, Castle Street\, Nether Stowey\, TA5 1LN
CATEGORIES:Thomas Poole Library
ATTACH;FMTTYPE=image/jpeg:https://netherstowey-pc.gov.uk/wp-content/uploads/2023/10/unfocused-children-paying-attention-their-teacher-scaled.jpg
ORGANIZER;CN="Thomas Poole Library":MAILTO:eventsandpr@thomaspoolelibrary.org.uk
END:VEVENT
BEGIN:VEVENT
DTSTART;TZID=Europe/London:20231117T103000
DTEND;TZID=Europe/London:20231117T120000
DTSTAMP:20260423T063503
CREATED:20231019T115311Z
LAST-MODIFIED:20231020T103054Z
UID:10000297-1700217000-1700222400@netherstowey-pc.gov.uk
SUMMARY:Knit and Natter
DESCRIPTION:A friendly and social group meets every Friday morning from 10.30 to midday. \nAll ages and abilities are welcome. \nBring your own project\, which could be knitting\, sewing\, crocheting\, embroidery etc. or just come for a natter and see what others are working on. \nIt’s a great way to get inspired\, learn new tips and make new friends! \nThere is no charge for the group\, just a donation for tea or coffee.
URL:https://netherstowey-pc.gov.uk/event/knit-and-natter/2023-11-17
LOCATION:Thomas Poole Library\, Castle Street\, Nether Stowey\, TA5 1LN
CATEGORIES:Thomas Poole Library
ORGANIZER;CN="Thomas Poole Library":MAILTO:eventsandpr@thomaspoolelibrary.org.uk
END:VEVENT
BEGIN:VEVENT
DTSTART;TZID=Europe/London:20231116T170000
DTEND;TZID=Europe/London:20231116T183000
DTSTAMP:20260423T063503
CREATED:20231019T102344Z
LAST-MODIFIED:20231019T102425Z
UID:10000035-1700154000-1700159400@netherstowey-pc.gov.uk
SUMMARY:Chess Time at the Library
DESCRIPTION:Learn the basics\, discover new moves and have fun!
URL:https://netherstowey-pc.gov.uk/event/chess-time-at-the-library/2023-11-16
LOCATION:Thomas Poole Library\, Castle Street\, Nether Stowey\, TA5 1LN
CATEGORIES:Thomas Poole Library
ORGANIZER;CN="Thomas Poole Library":MAILTO:eventsandpr@thomaspoolelibrary.org.uk
END:VEVENT
BEGIN:VEVENT
DTSTART;TZID=Europe/London:20231116T103000
DTEND;TZID=Europe/London:20231116T103000
DTSTAMP:20260423T063503
CREATED:20231103T115055Z
LAST-MODIFIED:20231103T124332Z
UID:10001347-1700130600-1700130600@netherstowey-pc.gov.uk
SUMMARY:Stowey Walking AGM
DESCRIPTION:Stowey Walking AGM \n10.30am on Thursday 16 November \nat the Thomas Poole Library\, Nether Stowey \n\nDo you love walking?\nWould you like to help encourage others to enjoy walking locally?\nWould you like to help improve access to our beautiful Somerset countryside?\n\nPlease let us know if you are interested in attending: enquiries@stoweywalking.co.uk or Tel: 01278 732228 \nFor accessible information click here
URL:https://netherstowey-pc.gov.uk/event/stowey-walking-agm
LOCATION:Thomas Poole Library\, Castle Street\, Nether Stowey\, TA5 1LN
CATEGORIES:Social
ATTACH;FMTTYPE=image/jpeg:https://netherstowey-pc.gov.uk/wp-content/uploads/2023/11/SW-AGM.jpg
ORGANIZER;CN="Stowey Walking":MAILTO:enquiries@stoweywalking.co.uk
END:VEVENT
BEGIN:VEVENT
DTSTART;TZID=Europe/London:20231113T110000
DTEND;TZID=Europe/London:20231113T113000
DTSTAMP:20260423T063503
CREATED:20231019T120029Z
LAST-MODIFIED:20231019T121833Z
UID:10000558-1699873200-1699875000@netherstowey-pc.gov.uk
SUMMARY:Story Time for babies\, toddlers and pre-schoolers
DESCRIPTION:Story Time is a lovely activity for babies and toddlers\, pre-school children\, and their grown-ups. \nHeld every Monday (apart from bank holidays) from 11 to 11.30. Listen to a story then pick an instrument from the music box and join in as we sing nursery rhymes.
URL:https://netherstowey-pc.gov.uk/event/story-time-for-babies-toddlers-and-pre-schoolers/2023-11-13
LOCATION:Thomas Poole Library\, Castle Street\, Nether Stowey\, TA5 1LN
CATEGORIES:Thomas Poole Library
ATTACH;FMTTYPE=image/jpeg:https://netherstowey-pc.gov.uk/wp-content/uploads/2023/10/unfocused-children-paying-attention-their-teacher-scaled.jpg
ORGANIZER;CN="Thomas Poole Library":MAILTO:eventsandpr@thomaspoolelibrary.org.uk
END:VEVENT
BEGIN:VEVENT
DTSTART;TZID=Europe/London:20231110T103000
DTEND;TZID=Europe/London:20231110T120000
DTSTAMP:20260423T063503
CREATED:20231019T115311Z
LAST-MODIFIED:20231020T103054Z
UID:10000296-1699612200-1699617600@netherstowey-pc.gov.uk
SUMMARY:Knit and Natter
DESCRIPTION:A friendly and social group meets every Friday morning from 10.30 to midday. \nAll ages and abilities are welcome. \nBring your own project\, which could be knitting\, sewing\, crocheting\, embroidery etc. or just come for a natter and see what others are working on. \nIt’s a great way to get inspired\, learn new tips and make new friends! \nThere is no charge for the group\, just a donation for tea or coffee.
URL:https://netherstowey-pc.gov.uk/event/knit-and-natter/2023-11-10
LOCATION:Thomas Poole Library\, Castle Street\, Nether Stowey\, TA5 1LN
CATEGORIES:Thomas Poole Library
ORGANIZER;CN="Thomas Poole Library":MAILTO:eventsandpr@thomaspoolelibrary.org.uk
END:VEVENT
BEGIN:VEVENT
DTSTART;TZID=Europe/London:20231109T170000
DTEND;TZID=Europe/London:20231109T183000
DTSTAMP:20260423T063503
CREATED:20231019T102344Z
LAST-MODIFIED:20231019T102425Z
UID:10000034-1699549200-1699554600@netherstowey-pc.gov.uk
SUMMARY:Chess Time at the Library
DESCRIPTION:Learn the basics\, discover new moves and have fun!
URL:https://netherstowey-pc.gov.uk/event/chess-time-at-the-library/2023-11-09
LOCATION:Thomas Poole Library\, Castle Street\, Nether Stowey\, TA5 1LN
CATEGORIES:Thomas Poole Library
ORGANIZER;CN="Thomas Poole Library":MAILTO:eventsandpr@thomaspoolelibrary.org.uk
END:VEVENT
BEGIN:VEVENT
DTSTART;TZID=Europe/London:20231109T140000
DTEND;TZID=Europe/London:20231109T140000
DTSTAMP:20260423T063503
CREATED:20231019T155923Z
LAST-MODIFIED:20231019T160110Z
UID:10001222-1699538400-1699538400@netherstowey-pc.gov.uk
SUMMARY:Nether Stowey & Fiddington Women’s Institute
DESCRIPTION:The Women’s Institute is somewhere for women of all ages to relax\, have fun and make new friends. \nContact Terry Binding\, tel 733051.
URL:https://netherstowey-pc.gov.uk/event/nether-stowey-fiddington-womens-institute/2023-11-09
LOCATION:Thomas Poole Library\, Castle Street\, Nether Stowey\, TA5 1LN
CATEGORIES:Social
ATTACH;FMTTYPE=image/jpeg:https://netherstowey-pc.gov.uk/wp-content/uploads/2023/10/WI.jpg
END:VEVENT
BEGIN:VEVENT
DTSTART;TZID=Europe/London:20231108T193000
DTEND;TZID=Europe/London:20231108T193000
DTSTAMP:20260423T063503
CREATED:20231013T145040Z
LAST-MODIFIED:20231019T100340Z
UID:10000028-1699471800-1699471800@netherstowey-pc.gov.uk
SUMMARY:Library Talk: Brain Peaks - a talk by Angela Patmore
DESCRIPTION:Brain Peaks: How each one of us has a genius inside. \n£3.50 members / £4.50 non-members
URL:https://netherstowey-pc.gov.uk/event/library-talk-brain-peaks-a-talk-by-angela-patmore
LOCATION:Thomas Poole Library\, Castle Street\, Nether Stowey\, TA5 1LN
CATEGORIES:Thomas Poole Library
ORGANIZER;CN="Thomas Poole Library":MAILTO:eventsandpr@thomaspoolelibrary.org.uk
END:VEVENT
BEGIN:VEVENT
DTSTART;TZID=Europe/London:20231106T110000
DTEND;TZID=Europe/London:20231106T113000
DTSTAMP:20260423T063503
CREATED:20231019T120029Z
LAST-MODIFIED:20231019T121833Z
UID:10000557-1699268400-1699270200@netherstowey-pc.gov.uk
SUMMARY:Story Time for babies\, toddlers and pre-schoolers
DESCRIPTION:Story Time is a lovely activity for babies and toddlers\, pre-school children\, and their grown-ups. \nHeld every Monday (apart from bank holidays) from 11 to 11.30. Listen to a story then pick an instrument from the music box and join in as we sing nursery rhymes.
URL:https://netherstowey-pc.gov.uk/event/story-time-for-babies-toddlers-and-pre-schoolers/2023-11-06
LOCATION:Thomas Poole Library\, Castle Street\, Nether Stowey\, TA5 1LN
CATEGORIES:Thomas Poole Library
ATTACH;FMTTYPE=image/jpeg:https://netherstowey-pc.gov.uk/wp-content/uploads/2023/10/unfocused-children-paying-attention-their-teacher-scaled.jpg
ORGANIZER;CN="Thomas Poole Library":MAILTO:eventsandpr@thomaspoolelibrary.org.uk
END:VEVENT
BEGIN:VEVENT
DTSTART;TZID=Europe/London:20231103T103000
DTEND;TZID=Europe/London:20231103T120000
DTSTAMP:20260423T063503
CREATED:20231019T115311Z
LAST-MODIFIED:20231020T103054Z
UID:10000295-1699007400-1699012800@netherstowey-pc.gov.uk
SUMMARY:Knit and Natter
DESCRIPTION:A friendly and social group meets every Friday morning from 10.30 to midday. \nAll ages and abilities are welcome. \nBring your own project\, which could be knitting\, sewing\, crocheting\, embroidery etc. or just come for a natter and see what others are working on. \nIt’s a great way to get inspired\, learn new tips and make new friends! \nThere is no charge for the group\, just a donation for tea or coffee.
URL:https://netherstowey-pc.gov.uk/event/knit-and-natter/2023-11-03
LOCATION:Thomas Poole Library\, Castle Street\, Nether Stowey\, TA5 1LN
CATEGORIES:Thomas Poole Library
ORGANIZER;CN="Thomas Poole Library":MAILTO:eventsandpr@thomaspoolelibrary.org.uk
END:VEVENT
BEGIN:VEVENT
DTSTART;TZID=Europe/London:20231102T170000
DTEND;TZID=Europe/London:20231102T183000
DTSTAMP:20260423T063503
CREATED:20231019T102344Z
LAST-MODIFIED:20231019T102425Z
UID:10000033-1698944400-1698949800@netherstowey-pc.gov.uk
SUMMARY:Chess Time at the Library
DESCRIPTION:Learn the basics\, discover new moves and have fun!
URL:https://netherstowey-pc.gov.uk/event/chess-time-at-the-library/2023-11-02
LOCATION:Thomas Poole Library\, Castle Street\, Nether Stowey\, TA5 1LN
CATEGORIES:Thomas Poole Library
ORGANIZER;CN="Thomas Poole Library":MAILTO:eventsandpr@thomaspoolelibrary.org.uk
END:VEVENT
BEGIN:VEVENT
DTSTART;TZID=Europe/London:20231030T110000
DTEND;TZID=Europe/London:20231030T113000
DTSTAMP:20260423T063503
CREATED:20231019T120029Z
LAST-MODIFIED:20231019T121833Z
UID:10000556-1698663600-1698665400@netherstowey-pc.gov.uk
SUMMARY:Story Time for babies\, toddlers and pre-schoolers
DESCRIPTION:Story Time is a lovely activity for babies and toddlers\, pre-school children\, and their grown-ups. \nHeld every Monday (apart from bank holidays) from 11 to 11.30. Listen to a story then pick an instrument from the music box and join in as we sing nursery rhymes.
URL:https://netherstowey-pc.gov.uk/event/story-time-for-babies-toddlers-and-pre-schoolers/2023-10-30
LOCATION:Thomas Poole Library\, Castle Street\, Nether Stowey\, TA5 1LN
CATEGORIES:Thomas Poole Library
ATTACH;FMTTYPE=image/jpeg:https://netherstowey-pc.gov.uk/wp-content/uploads/2023/10/unfocused-children-paying-attention-their-teacher-scaled.jpg
ORGANIZER;CN="Thomas Poole Library":MAILTO:eventsandpr@thomaspoolelibrary.org.uk
END:VEVENT
END:VCALENDAR