BEGIN:VCALENDAR
VERSION:2.0
PRODID:-//Nether Stowey Parish Council - ECPv6.15.18//NONSGML v1.0//EN
CALSCALE:GREGORIAN
METHOD:PUBLISH
X-WR-CALNAME:Nether Stowey Parish Council
X-ORIGINAL-URL:https://netherstowey-pc.gov.uk
X-WR-CALDESC:Events for Nether Stowey Parish Council
REFRESH-INTERVAL;VALUE=DURATION:PT1H
X-Robots-Tag:noindex
X-PUBLISHED-TTL:PT1H
BEGIN:VTIMEZONE
TZID:Europe/London
BEGIN:DAYLIGHT
TZOFFSETFROM:+0000
TZOFFSETTO:+0100
TZNAME:BST
DTSTART:20220327T010000
END:DAYLIGHT
BEGIN:STANDARD
TZOFFSETFROM:+0100
TZOFFSETTO:+0000
TZNAME:GMT
DTSTART:20221030T010000
END:STANDARD
BEGIN:DAYLIGHT
TZOFFSETFROM:+0000
TZOFFSETTO:+0100
TZNAME:BST
DTSTART:20230326T010000
END:DAYLIGHT
BEGIN:STANDARD
TZOFFSETFROM:+0100
TZOFFSETTO:+0000
TZNAME:GMT
DTSTART:20231029T010000
END:STANDARD
BEGIN:DAYLIGHT
TZOFFSETFROM:+0000
TZOFFSETTO:+0100
TZNAME:BST
DTSTART:20240331T010000
END:DAYLIGHT
BEGIN:STANDARD
TZOFFSETFROM:+0100
TZOFFSETTO:+0000
TZNAME:GMT
DTSTART:20241027T010000
END:STANDARD
END:VTIMEZONE
BEGIN:VEVENT
DTSTART;TZID=Europe/London:20231109T140000
DTEND;TZID=Europe/London:20231109T140000
DTSTAMP:20260423T090009
CREATED:20231019T155923Z
LAST-MODIFIED:20231019T160110Z
UID:10001222-1699538400-1699538400@netherstowey-pc.gov.uk
SUMMARY:Nether Stowey & Fiddington Women’s Institute
DESCRIPTION:The Women’s Institute is somewhere for women of all ages to relax\, have fun and make new friends. \nContact Terry Binding\, tel 733051.
URL:https://netherstowey-pc.gov.uk/event/nether-stowey-fiddington-womens-institute/2023-11-09
LOCATION:Thomas Poole Library\, Castle Street\, Nether Stowey\, TA5 1LN
CATEGORIES:Social
ATTACH;FMTTYPE=image/jpeg:https://netherstowey-pc.gov.uk/wp-content/uploads/2023/10/WI.jpg
END:VEVENT
BEGIN:VEVENT
DTSTART;TZID=Europe/London:20231108T193000
DTEND;TZID=Europe/London:20231108T193000
DTSTAMP:20260423T090009
CREATED:20231013T145040Z
LAST-MODIFIED:20231019T100340Z
UID:10000028-1699471800-1699471800@netherstowey-pc.gov.uk
SUMMARY:Library Talk: Brain Peaks - a talk by Angela Patmore
DESCRIPTION:Brain Peaks: How each one of us has a genius inside. \n£3.50 members / £4.50 non-members
URL:https://netherstowey-pc.gov.uk/event/library-talk-brain-peaks-a-talk-by-angela-patmore
LOCATION:Thomas Poole Library\, Castle Street\, Nether Stowey\, TA5 1LN
CATEGORIES:Thomas Poole Library
ORGANIZER;CN="Thomas Poole Library":MAILTO:eventsandpr@thomaspoolelibrary.org.uk
END:VEVENT
BEGIN:VEVENT
DTSTART;TZID=Europe/London:20231106T110000
DTEND;TZID=Europe/London:20231106T113000
DTSTAMP:20260423T090009
CREATED:20231019T120029Z
LAST-MODIFIED:20231019T121833Z
UID:10000557-1699268400-1699270200@netherstowey-pc.gov.uk
SUMMARY:Story Time for babies\, toddlers and pre-schoolers
DESCRIPTION:Story Time is a lovely activity for babies and toddlers\, pre-school children\, and their grown-ups. \nHeld every Monday (apart from bank holidays) from 11 to 11.30. Listen to a story then pick an instrument from the music box and join in as we sing nursery rhymes.
URL:https://netherstowey-pc.gov.uk/event/story-time-for-babies-toddlers-and-pre-schoolers/2023-11-06
LOCATION:Thomas Poole Library\, Castle Street\, Nether Stowey\, TA5 1LN
CATEGORIES:Thomas Poole Library
ATTACH;FMTTYPE=image/jpeg:https://netherstowey-pc.gov.uk/wp-content/uploads/2023/10/unfocused-children-paying-attention-their-teacher-scaled.jpg
ORGANIZER;CN="Thomas Poole Library":MAILTO:eventsandpr@thomaspoolelibrary.org.uk
END:VEVENT
BEGIN:VEVENT
DTSTART;TZID=Europe/London:20231103T103000
DTEND;TZID=Europe/London:20231103T120000
DTSTAMP:20260423T090009
CREATED:20231019T115311Z
LAST-MODIFIED:20231020T103054Z
UID:10000295-1699007400-1699012800@netherstowey-pc.gov.uk
SUMMARY:Knit and Natter
DESCRIPTION:A friendly and social group meets every Friday morning from 10.30 to midday. \nAll ages and abilities are welcome. \nBring your own project\, which could be knitting\, sewing\, crocheting\, embroidery etc. or just come for a natter and see what others are working on. \nIt’s a great way to get inspired\, learn new tips and make new friends! \nThere is no charge for the group\, just a donation for tea or coffee.
URL:https://netherstowey-pc.gov.uk/event/knit-and-natter/2023-11-03
LOCATION:Thomas Poole Library\, Castle Street\, Nether Stowey\, TA5 1LN
CATEGORIES:Thomas Poole Library
ORGANIZER;CN="Thomas Poole Library":MAILTO:eventsandpr@thomaspoolelibrary.org.uk
END:VEVENT
BEGIN:VEVENT
DTSTART;TZID=Europe/London:20231102T170000
DTEND;TZID=Europe/London:20231102T183000
DTSTAMP:20260423T090009
CREATED:20231019T102344Z
LAST-MODIFIED:20231019T102425Z
UID:10000033-1698944400-1698949800@netherstowey-pc.gov.uk
SUMMARY:Chess Time at the Library
DESCRIPTION:Learn the basics\, discover new moves and have fun!
URL:https://netherstowey-pc.gov.uk/event/chess-time-at-the-library/2023-11-02
LOCATION:Thomas Poole Library\, Castle Street\, Nether Stowey\, TA5 1LN
CATEGORIES:Thomas Poole Library
ORGANIZER;CN="Thomas Poole Library":MAILTO:eventsandpr@thomaspoolelibrary.org.uk
END:VEVENT
BEGIN:VEVENT
DTSTART;TZID=Europe/London:20231030T110000
DTEND;TZID=Europe/London:20231030T113000
DTSTAMP:20260423T090009
CREATED:20231019T120029Z
LAST-MODIFIED:20231019T121833Z
UID:10000556-1698663600-1698665400@netherstowey-pc.gov.uk
SUMMARY:Story Time for babies\, toddlers and pre-schoolers
DESCRIPTION:Story Time is a lovely activity for babies and toddlers\, pre-school children\, and their grown-ups. \nHeld every Monday (apart from bank holidays) from 11 to 11.30. Listen to a story then pick an instrument from the music box and join in as we sing nursery rhymes.
URL:https://netherstowey-pc.gov.uk/event/story-time-for-babies-toddlers-and-pre-schoolers/2023-10-30
LOCATION:Thomas Poole Library\, Castle Street\, Nether Stowey\, TA5 1LN
CATEGORIES:Thomas Poole Library
ATTACH;FMTTYPE=image/jpeg:https://netherstowey-pc.gov.uk/wp-content/uploads/2023/10/unfocused-children-paying-attention-their-teacher-scaled.jpg
ORGANIZER;CN="Thomas Poole Library":MAILTO:eventsandpr@thomaspoolelibrary.org.uk
END:VEVENT
BEGIN:VEVENT
DTSTART;TZID=Europe/London:20231027T103000
DTEND;TZID=Europe/London:20231027T120000
DTSTAMP:20260423T090009
CREATED:20231019T115311Z
LAST-MODIFIED:20231020T103054Z
UID:10000294-1698402600-1698408000@netherstowey-pc.gov.uk
SUMMARY:Knit and Natter
DESCRIPTION:A friendly and social group meets every Friday morning from 10.30 to midday. \nAll ages and abilities are welcome. \nBring your own project\, which could be knitting\, sewing\, crocheting\, embroidery etc. or just come for a natter and see what others are working on. \nIt’s a great way to get inspired\, learn new tips and make new friends! \nThere is no charge for the group\, just a donation for tea or coffee.
URL:https://netherstowey-pc.gov.uk/event/knit-and-natter/2023-10-27
LOCATION:Thomas Poole Library\, Castle Street\, Nether Stowey\, TA5 1LN
CATEGORIES:Thomas Poole Library
ORGANIZER;CN="Thomas Poole Library":MAILTO:eventsandpr@thomaspoolelibrary.org.uk
END:VEVENT
BEGIN:VEVENT
DTSTART;TZID=Europe/London:20231026T170000
DTEND;TZID=Europe/London:20231026T183000
DTSTAMP:20260423T090009
CREATED:20231019T102344Z
LAST-MODIFIED:20231019T102425Z
UID:10000032-1698339600-1698345000@netherstowey-pc.gov.uk
SUMMARY:Chess Time at the Library
DESCRIPTION:Learn the basics\, discover new moves and have fun!
URL:https://netherstowey-pc.gov.uk/event/chess-time-at-the-library/2023-10-26
LOCATION:Thomas Poole Library\, Castle Street\, Nether Stowey\, TA5 1LN
CATEGORIES:Thomas Poole Library
ORGANIZER;CN="Thomas Poole Library":MAILTO:eventsandpr@thomaspoolelibrary.org.uk
END:VEVENT
BEGIN:VEVENT
DTSTART;TZID=Europe/London:20231023T110000
DTEND;TZID=Europe/London:20231023T113000
DTSTAMP:20260423T090009
CREATED:20231019T120029Z
LAST-MODIFIED:20231019T121833Z
UID:10000555-1698058800-1698060600@netherstowey-pc.gov.uk
SUMMARY:Story Time for babies\, toddlers and pre-schoolers
DESCRIPTION:Story Time is a lovely activity for babies and toddlers\, pre-school children\, and their grown-ups. \nHeld every Monday (apart from bank holidays) from 11 to 11.30. Listen to a story then pick an instrument from the music box and join in as we sing nursery rhymes.
URL:https://netherstowey-pc.gov.uk/event/story-time-for-babies-toddlers-and-pre-schoolers/2023-10-23
LOCATION:Thomas Poole Library\, Castle Street\, Nether Stowey\, TA5 1LN
CATEGORIES:Thomas Poole Library
ATTACH;FMTTYPE=image/jpeg:https://netherstowey-pc.gov.uk/wp-content/uploads/2023/10/unfocused-children-paying-attention-their-teacher-scaled.jpg
ORGANIZER;CN="Thomas Poole Library":MAILTO:eventsandpr@thomaspoolelibrary.org.uk
END:VEVENT
BEGIN:VEVENT
DTSTART;TZID=Europe/London:20231021T100000
DTEND;TZID=Europe/London:20231021T120000
DTSTAMP:20260423T090009
CREATED:20231019T115801Z
LAST-MODIFIED:20231019T115801Z
UID:10000554-1697882400-1697889600@netherstowey-pc.gov.uk
SUMMARY:Second-hand Book Sale
DESCRIPTION:
URL:https://netherstowey-pc.gov.uk/event/second-hand-book-sale
LOCATION:Thomas Poole Library\, Castle Street\, Nether Stowey\, TA5 1LN
CATEGORIES:Thomas Poole Library
ATTACH;FMTTYPE=image/jpeg:https://images.unsplash.com/photo-1463320726281-696a485928c7?ixid=M3w1MTA1MTZ8MHwxfGFsbHx8fHx8fHx8fDE2OTc3MTY2NzF8&ixlib=rb-4.0.3
ORGANIZER;CN="Thomas Poole Library":MAILTO:eventsandpr@thomaspoolelibrary.org.uk
END:VEVENT
BEGIN:VEVENT
DTSTART;TZID=Europe/London:20231020T103000
DTEND;TZID=Europe/London:20231020T120000
DTSTAMP:20260423T090009
CREATED:20231019T115311Z
LAST-MODIFIED:20231020T103054Z
UID:10000293-1697797800-1697803200@netherstowey-pc.gov.uk
SUMMARY:Knit and Natter
DESCRIPTION:A friendly and social group meets every Friday morning from 10.30 to midday. \nAll ages and abilities are welcome. \nBring your own project\, which could be knitting\, sewing\, crocheting\, embroidery etc. or just come for a natter and see what others are working on. \nIt’s a great way to get inspired\, learn new tips and make new friends! \nThere is no charge for the group\, just a donation for tea or coffee.
URL:https://netherstowey-pc.gov.uk/event/knit-and-natter/2023-10-20
LOCATION:Thomas Poole Library\, Castle Street\, Nether Stowey\, TA5 1LN
CATEGORIES:Thomas Poole Library
ORGANIZER;CN="Thomas Poole Library":MAILTO:eventsandpr@thomaspoolelibrary.org.uk
END:VEVENT
BEGIN:VEVENT
DTSTART;TZID=Europe/London:20231019T170000
DTEND;TZID=Europe/London:20231019T183000
DTSTAMP:20260423T090009
CREATED:20231019T102344Z
LAST-MODIFIED:20231019T102425Z
UID:10000031-1697734800-1697740200@netherstowey-pc.gov.uk
SUMMARY:Chess Time at the Library
DESCRIPTION:Learn the basics\, discover new moves and have fun!
URL:https://netherstowey-pc.gov.uk/event/chess-time-at-the-library/2023-10-19
LOCATION:Thomas Poole Library\, Castle Street\, Nether Stowey\, TA5 1LN
CATEGORIES:Thomas Poole Library
ORGANIZER;CN="Thomas Poole Library":MAILTO:eventsandpr@thomaspoolelibrary.org.uk
END:VEVENT
BEGIN:VEVENT
DTSTART;TZID=Europe/London:20231012T140000
DTEND;TZID=Europe/London:20231012T140000
DTSTAMP:20260423T090009
CREATED:20231019T155923Z
LAST-MODIFIED:20231019T160110Z
UID:10001221-1697119200-1697119200@netherstowey-pc.gov.uk
SUMMARY:Nether Stowey & Fiddington Women’s Institute
DESCRIPTION:The Women’s Institute is somewhere for women of all ages to relax\, have fun and make new friends. \nContact Terry Binding\, tel 733051.
URL:https://netherstowey-pc.gov.uk/event/nether-stowey-fiddington-womens-institute/2023-10-12
LOCATION:Thomas Poole Library\, Castle Street\, Nether Stowey\, TA5 1LN
CATEGORIES:Social
ATTACH;FMTTYPE=image/jpeg:https://netherstowey-pc.gov.uk/wp-content/uploads/2023/10/WI.jpg
END:VEVENT
END:VCALENDAR